BEGIN:VCALENDAR
VERSION:2.0
PRODID:-//Goodrich Village Hall - ECPv6.15.17//NONSGML v1.0//EN
CALSCALE:GREGORIAN
METHOD:PUBLISH
X-WR-CALNAME:Goodrich Village Hall
X-ORIGINAL-URL:https://goodrichvillagehall.co.uk
X-WR-CALDESC:Events for Goodrich Village Hall
REFRESH-INTERVAL;VALUE=DURATION:PT1H
X-Robots-Tag:noindex
X-PUBLISHED-TTL:PT1H
BEGIN:VTIMEZONE
TZID:Europe/London
BEGIN:DAYLIGHT
TZOFFSETFROM:+0000
TZOFFSETTO:+0100
TZNAME:BST
DTSTART:20250330T010000
END:DAYLIGHT
BEGIN:STANDARD
TZOFFSETFROM:+0100
TZOFFSETTO:+0000
TZNAME:GMT
DTSTART:20251026T010000
END:STANDARD
BEGIN:DAYLIGHT
TZOFFSETFROM:+0000
TZOFFSETTO:+0100
TZNAME:BST
DTSTART:20260329T010000
END:DAYLIGHT
BEGIN:STANDARD
TZOFFSETFROM:+0100
TZOFFSETTO:+0000
TZNAME:GMT
DTSTART:20261025T010000
END:STANDARD
BEGIN:DAYLIGHT
TZOFFSETFROM:+0000
TZOFFSETTO:+0100
TZNAME:BST
DTSTART:20270328T010000
END:DAYLIGHT
BEGIN:STANDARD
TZOFFSETFROM:+0100
TZOFFSETTO:+0000
TZNAME:GMT
DTSTART:20271031T010000
END:STANDARD
END:VTIMEZONE
BEGIN:VEVENT
DTSTART;TZID=Europe/London:20260421T091500
DTEND;TZID=Europe/London:20260421T101500
DTSTAMP:20260421T025907
CREATED:20251209T165144Z
LAST-MODIFIED:20251209T165144Z
UID:10001788-1776762900-1776766500@goodrichvillagehall.co.uk
SUMMARY:Pilates
DESCRIPTION:
URL:https://goodrichvillagehall.co.uk/event/pilates-22/2026-04-21/
CATEGORIES:Godric Hall
END:VEVENT
BEGIN:VEVENT
DTSTART;TZID=Europe/London:20260421T103000
DTEND;TZID=Europe/London:20260421T113000
DTSTAMP:20260421T025907
CREATED:20251209T165430Z
LAST-MODIFIED:20251209T165430Z
UID:10001795-1776767400-1776771000@goodrichvillagehall.co.uk
SUMMARY:Pilates
DESCRIPTION:
URL:https://goodrichvillagehall.co.uk/event/pilates-23/2026-04-21/
CATEGORIES:Godric Hall
END:VEVENT
BEGIN:VEVENT
DTSTART;TZID=Europe/London:20260421T133000
DTEND;TZID=Europe/London:20260421T143000
DTSTAMP:20260421T025907
CREATED:20260212T071306Z
LAST-MODIFIED:20260303T172737Z
UID:10002782-1776778200-1776781800@goodrichvillagehall.co.uk
SUMMARY:Chair Yoga (CM)
DESCRIPTION:
URL:https://goodrichvillagehall.co.uk/event/chair-yoga-cm-2/2026-04-21/
CATEGORIES:Godric Hall
END:VEVENT
BEGIN:VEVENT
DTSTART;TZID=Europe/London:20260421T190000
DTEND;TZID=Europe/London:20260421T220000
DTSTAMP:20260421T025907
CREATED:20260103T201738Z
LAST-MODIFIED:20260209T164812Z
UID:10002496-1776798000-1776808800@goodrichvillagehall.co.uk
SUMMARY:Tango
DESCRIPTION:
URL:https://goodrichvillagehall.co.uk/event/tango-2/2026-04-21/
CATEGORIES:Godric Hall
END:VEVENT
END:VCALENDAR