BEGIN:VCALENDAR
VERSION:2.0
PRODID:-//Goodrich Village Hall - ECPv6.15.17//NONSGML v1.0//EN
CALSCALE:GREGORIAN
METHOD:PUBLISH
X-WR-CALNAME:Goodrich Village Hall
X-ORIGINAL-URL:https://goodrichvillagehall.co.uk
X-WR-CALDESC:Events for Goodrich Village Hall
REFRESH-INTERVAL;VALUE=DURATION:PT1H
X-Robots-Tag:noindex
X-PUBLISHED-TTL:PT1H
BEGIN:VTIMEZONE
TZID:Europe/London
BEGIN:DAYLIGHT
TZOFFSETFROM:+0000
TZOFFSETTO:+0100
TZNAME:BST
DTSTART:20240331T010000
END:DAYLIGHT
BEGIN:STANDARD
TZOFFSETFROM:+0100
TZOFFSETTO:+0000
TZNAME:GMT
DTSTART:20241027T010000
END:STANDARD
BEGIN:DAYLIGHT
TZOFFSETFROM:+0000
TZOFFSETTO:+0100
TZNAME:BST
DTSTART:20250330T010000
END:DAYLIGHT
BEGIN:STANDARD
TZOFFSETFROM:+0100
TZOFFSETTO:+0000
TZNAME:GMT
DTSTART:20251026T010000
END:STANDARD
BEGIN:DAYLIGHT
TZOFFSETFROM:+0000
TZOFFSETTO:+0100
TZNAME:BST
DTSTART:20260329T010000
END:DAYLIGHT
BEGIN:STANDARD
TZOFFSETFROM:+0100
TZOFFSETTO:+0000
TZNAME:GMT
DTSTART:20261025T010000
END:STANDARD
BEGIN:DAYLIGHT
TZOFFSETFROM:+0000
TZOFFSETTO:+0100
TZNAME:BST
DTSTART:20270328T010000
END:DAYLIGHT
BEGIN:STANDARD
TZOFFSETFROM:+0100
TZOFFSETTO:+0000
TZNAME:GMT
DTSTART:20271031T010000
END:STANDARD
END:VTIMEZONE
BEGIN:VEVENT
DTSTART;TZID=Europe/London:20260326T190000
DTEND;TZID=Europe/London:20260326T230000
DTSTAMP:20260421T105723
CREATED:20260101T122410Z
LAST-MODIFIED:20260207T153101Z
UID:10002479-1774551600-1774566000@goodrichvillagehall.co.uk
SUMMARY:Table Tennis
DESCRIPTION:
URL:https://goodrichvillagehall.co.uk/event/table-tennis-9/2026-03-26/
CATEGORIES:Tudor Room
END:VEVENT
BEGIN:VEVENT
DTSTART;TZID=Europe/London:20260318T190000
DTEND;TZID=Europe/London:20260318T210000
DTSTAMP:20260421T105723
CREATED:20260207T115611Z
LAST-MODIFIED:20260207T115611Z
UID:10002605-1773860400-1773867600@goodrichvillagehall.co.uk
SUMMARY:Coppett Hill Trust (Management)
DESCRIPTION:
URL:https://goodrichvillagehall.co.uk/event/coppett-hill-trust-management/2026-03-18/
CATEGORIES:Tudor Room
END:VEVENT
BEGIN:VEVENT
DTSTART;TZID=Europe/London:20260226T190000
DTEND;TZID=Europe/London:20260226T230000
DTSTAMP:20260421T105723
CREATED:20260101T122410Z
LAST-MODIFIED:20260207T153101Z
UID:10002478-1772132400-1772146800@goodrichvillagehall.co.uk
SUMMARY:Table Tennis
DESCRIPTION:
URL:https://goodrichvillagehall.co.uk/event/table-tennis-9/2026-02-26/
CATEGORIES:Tudor Room
END:VEVENT
BEGIN:VEVENT
DTSTART;TZID=Europe/London:20260219T190000
DTEND;TZID=Europe/London:20260219T230000
DTSTAMP:20260421T105723
CREATED:20260211T210148Z
LAST-MODIFIED:20260211T210148Z
UID:10002729-1771527600-1771542000@goodrichvillagehall.co.uk
SUMMARY:Table Tennis
DESCRIPTION:
URL:https://goodrichvillagehall.co.uk/event/table-tennis-11/
CATEGORIES:Tudor Room
END:VEVENT
BEGIN:VEVENT
DTSTART;TZID=Europe/London:20260129T190000
DTEND;TZID=Europe/London:20260129T230000
DTSTAMP:20260421T105723
CREATED:20251208T201638Z
LAST-MODIFIED:20251208T201638Z
UID:10001712-1769713200-1769727600@goodrichvillagehall.co.uk
SUMMARY:Table Tennis
DESCRIPTION:
URL:https://goodrichvillagehall.co.uk/event/table-tennis-8/
CATEGORIES:Tudor Room
END:VEVENT
BEGIN:VEVENT
DTSTART;TZID=Europe/London:20260115T190000
DTEND;TZID=Europe/London:20260115T230000
DTSTAMP:20260421T105723
CREATED:20260108T152150Z
LAST-MODIFIED:20260108T152150Z
UID:10002578-1768503600-1768518000@goodrichvillagehall.co.uk
SUMMARY:Table Tennis
DESCRIPTION:
URL:https://goodrichvillagehall.co.uk/event/table-tennis-10/
CATEGORIES:Tudor Room
END:VEVENT
BEGIN:VEVENT
DTSTART;TZID=Europe/London:20251207T130000
DTEND;TZID=Europe/London:20251207T153000
DTSTAMP:20260421T105723
CREATED:20251007T202951Z
LAST-MODIFIED:20251007T202951Z
UID:10001107-1765112400-1765121400@goodrichvillagehall.co.uk
SUMMARY:Private Hire (KH)
DESCRIPTION:
URL:https://goodrichvillagehall.co.uk/event/private-hire-kh/
CATEGORIES:Tudor Room
END:VEVENT
BEGIN:VEVENT
DTSTART;TZID=Europe/London:20251030T190000
DTEND;TZID=Europe/London:20251030T230000
DTSTAMP:20260421T105723
CREATED:20250311T233951Z
LAST-MODIFIED:20251107T170012Z
UID:10000348-1761850800-1761865200@goodrichvillagehall.co.uk
SUMMARY:Table Tennis
DESCRIPTION:
URL:https://goodrichvillagehall.co.uk/event/table-tennis-2/2025-10-30/
CATEGORIES:Tudor Room
END:VEVENT
BEGIN:VEVENT
DTSTART;TZID=Europe/London:20250925T190000
DTEND;TZID=Europe/London:20250925T230000
DTSTAMP:20260421T105723
CREATED:20250311T233951Z
LAST-MODIFIED:20251107T170012Z
UID:10000347-1758826800-1758841200@goodrichvillagehall.co.uk
SUMMARY:Table Tennis
DESCRIPTION:
URL:https://goodrichvillagehall.co.uk/event/table-tennis-2/2025-09-25/
CATEGORIES:Tudor Room
END:VEVENT
BEGIN:VEVENT
DTSTART;TZID=Europe/London:20250626T190000
DTEND;TZID=Europe/London:20250626T230000
DTSTAMP:20260421T105723
CREATED:20250311T233951Z
LAST-MODIFIED:20251107T170012Z
UID:10000345-1750964400-1750978800@goodrichvillagehall.co.uk
SUMMARY:Table Tennis
DESCRIPTION:
URL:https://goodrichvillagehall.co.uk/event/table-tennis-2/2025-06-26/
CATEGORIES:Tudor Room
END:VEVENT
BEGIN:VEVENT
DTSTART;TZID=Europe/London:20250529T190000
DTEND;TZID=Europe/London:20250529T230000
DTSTAMP:20260421T105723
CREATED:20250311T233951Z
LAST-MODIFIED:20251107T170012Z
UID:10000344-1748545200-1748559600@goodrichvillagehall.co.uk
SUMMARY:Table Tennis
DESCRIPTION:
URL:https://goodrichvillagehall.co.uk/event/table-tennis-2/2025-05-29/
CATEGORIES:Tudor Room
END:VEVENT
BEGIN:VEVENT
DTSTART;TZID=Europe/London:20250424T190000
DTEND;TZID=Europe/London:20250424T230000
DTSTAMP:20260421T105723
CREATED:20250311T233951Z
LAST-MODIFIED:20251107T170012Z
UID:10000343-1745521200-1745535600@goodrichvillagehall.co.uk
SUMMARY:Table Tennis
DESCRIPTION:
URL:https://goodrichvillagehall.co.uk/event/table-tennis-2/2025-04-24/
CATEGORIES:Tudor Room
END:VEVENT
BEGIN:VEVENT
DTSTART;TZID=Europe/London:20250327T190000
DTEND;TZID=Europe/London:20250327T230000
DTSTAMP:20260421T105723
CREATED:20250311T233951Z
LAST-MODIFIED:20251107T170012Z
UID:10000342-1743102000-1743116400@goodrichvillagehall.co.uk
SUMMARY:Table Tennis
DESCRIPTION:
URL:https://goodrichvillagehall.co.uk/event/table-tennis-2/2025-03-27/
CATEGORIES:Tudor Room
END:VEVENT
BEGIN:VEVENT
DTSTART;TZID=Europe/London:20250227T190000
DTEND;TZID=Europe/London:20250227T230000
DTSTAMP:20260421T105723
CREATED:20250311T233951Z
LAST-MODIFIED:20251107T170012Z
UID:10000341-1740682800-1740697200@goodrichvillagehall.co.uk
SUMMARY:Table Tennis
DESCRIPTION:
URL:https://goodrichvillagehall.co.uk/event/table-tennis-2/2025-02-27/
CATEGORIES:Tudor Room
END:VEVENT
END:VCALENDAR