BEGIN:VCALENDAR
VERSION:2.0
PRODID:-//Goodrich Village Hall - ECPv6.15.17//NONSGML v1.0//EN
CALSCALE:GREGORIAN
METHOD:PUBLISH
X-WR-CALNAME:Goodrich Village Hall
X-ORIGINAL-URL:https://goodrichvillagehall.co.uk
X-WR-CALDESC:Events for Goodrich Village Hall
REFRESH-INTERVAL;VALUE=DURATION:PT1H
X-Robots-Tag:noindex
X-PUBLISHED-TTL:PT1H
BEGIN:VTIMEZONE
TZID:Europe/London
BEGIN:DAYLIGHT
TZOFFSETFROM:+0000
TZOFFSETTO:+0100
TZNAME:BST
DTSTART:20250330T010000
END:DAYLIGHT
BEGIN:STANDARD
TZOFFSETFROM:+0100
TZOFFSETTO:+0000
TZNAME:GMT
DTSTART:20251026T010000
END:STANDARD
BEGIN:DAYLIGHT
TZOFFSETFROM:+0000
TZOFFSETTO:+0100
TZNAME:BST
DTSTART:20260329T010000
END:DAYLIGHT
BEGIN:STANDARD
TZOFFSETFROM:+0100
TZOFFSETTO:+0000
TZNAME:GMT
DTSTART:20261025T010000
END:STANDARD
BEGIN:DAYLIGHT
TZOFFSETFROM:+0000
TZOFFSETTO:+0100
TZNAME:BST
DTSTART:20270328T010000
END:DAYLIGHT
BEGIN:STANDARD
TZOFFSETFROM:+0100
TZOFFSETTO:+0000
TZNAME:GMT
DTSTART:20271031T010000
END:STANDARD
END:VTIMEZONE
BEGIN:VEVENT
DTSTART;TZID=Europe/London:20260430T190000
DTEND;TZID=Europe/London:20260430T230000
DTSTAMP:20260419T183429
CREATED:20260101T122410Z
LAST-MODIFIED:20260207T153101Z
UID:10002721-1777575600-1777590000@goodrichvillagehall.co.uk
SUMMARY:Table Tennis
DESCRIPTION:
URL:https://goodrichvillagehall.co.uk/event/table-tennis-9/2026-04-30/
CATEGORIES:Tudor Room
END:VEVENT
BEGIN:VEVENT
DTSTART;TZID=Europe/London:20260528T190000
DTEND;TZID=Europe/London:20260528T230000
DTSTAMP:20260419T183429
CREATED:20260101T122410Z
LAST-MODIFIED:20260207T153101Z
UID:10002722-1779994800-1780009200@goodrichvillagehall.co.uk
SUMMARY:Table Tennis
DESCRIPTION:
URL:https://goodrichvillagehall.co.uk/event/table-tennis-9/2026-05-28/
CATEGORIES:Tudor Room
END:VEVENT
BEGIN:VEVENT
DTSTART;TZID=Europe/London:20260617T190000
DTEND;TZID=Europe/London:20260617T210000
DTSTAMP:20260419T183429
CREATED:20260207T115611Z
LAST-MODIFIED:20260207T115611Z
UID:10002606-1781722800-1781730000@goodrichvillagehall.co.uk
SUMMARY:Coppett Hill Trust (Management)
DESCRIPTION:
URL:https://goodrichvillagehall.co.uk/event/coppett-hill-trust-management/2026-06-17/
CATEGORIES:Tudor Room
END:VEVENT
BEGIN:VEVENT
DTSTART;TZID=Europe/London:20260625T190000
DTEND;TZID=Europe/London:20260625T230000
DTSTAMP:20260419T183429
CREATED:20260101T122410Z
LAST-MODIFIED:20260207T153101Z
UID:10002723-1782414000-1782428400@goodrichvillagehall.co.uk
SUMMARY:Table Tennis
DESCRIPTION:
URL:https://goodrichvillagehall.co.uk/event/table-tennis-9/2026-06-25/
CATEGORIES:Tudor Room
END:VEVENT
BEGIN:VEVENT
DTSTART;TZID=Europe/London:20260730T190000
DTEND;TZID=Europe/London:20260730T230000
DTSTAMP:20260419T183429
CREATED:20260101T122410Z
LAST-MODIFIED:20260207T153101Z
UID:10002724-1785438000-1785452400@goodrichvillagehall.co.uk
SUMMARY:Table Tennis
DESCRIPTION:
URL:https://goodrichvillagehall.co.uk/event/table-tennis-9/2026-07-30/
CATEGORIES:Tudor Room
END:VEVENT
BEGIN:VEVENT
DTSTART;TZID=Europe/London:20260920T173000
DTEND;TZID=Europe/London:20260920T193000
DTSTAMP:20260419T183429
CREATED:20251007T202708Z
LAST-MODIFIED:20251007T202708Z
UID:10001106-1789925400-1789932600@goodrichvillagehall.co.uk
SUMMARY:Family Table Tennis
DESCRIPTION:
URL:https://goodrichvillagehall.co.uk/event/family-table-tennis-2/
CATEGORIES:Tudor Room
END:VEVENT
BEGIN:VEVENT
DTSTART;TZID=Europe/London:20261014T190000
DTEND;TZID=Europe/London:20261014T210000
DTSTAMP:20260419T183429
CREATED:20260207T115611Z
LAST-MODIFIED:20260207T115611Z
UID:10002607-1792004400-1792011600@goodrichvillagehall.co.uk
SUMMARY:Coppett Hill Trust (Management)
DESCRIPTION:
URL:https://goodrichvillagehall.co.uk/event/coppett-hill-trust-management/2026-10-14/
CATEGORIES:Tudor Room
END:VEVENT
BEGIN:VEVENT
DTSTART;TZID=Europe/London:20261021T190000
DTEND;TZID=Europe/London:20261021T210000
DTSTAMP:20260419T183429
CREATED:20260207T120030Z
LAST-MODIFIED:20260207T120030Z
UID:10002611-1792609200-1792616400@goodrichvillagehall.co.uk
SUMMARY:Coppett Hill Trust AGM
DESCRIPTION:
URL:https://goodrichvillagehall.co.uk/event/coppett-hill-trust-agm/
CATEGORIES:Tudor Room
END:VEVENT
END:VCALENDAR