BEGIN:VCALENDAR
VERSION:2.0
PRODID:-//Goodrich Village Hall - ECPv6.15.17//NONSGML v1.0//EN
CALSCALE:GREGORIAN
METHOD:PUBLISH
X-ORIGINAL-URL:https://goodrichvillagehall.co.uk
X-WR-CALDESC:Events for Goodrich Village Hall
REFRESH-INTERVAL;VALUE=DURATION:PT1H
X-Robots-Tag:noindex
X-PUBLISHED-TTL:PT1H
BEGIN:VTIMEZONE
TZID:Europe/London
BEGIN:DAYLIGHT
TZOFFSETFROM:+0000
TZOFFSETTO:+0100
TZNAME:BST
DTSTART:20240331T010000
END:DAYLIGHT
BEGIN:STANDARD
TZOFFSETFROM:+0100
TZOFFSETTO:+0000
TZNAME:GMT
DTSTART:20241027T010000
END:STANDARD
BEGIN:DAYLIGHT
TZOFFSETFROM:+0000
TZOFFSETTO:+0100
TZNAME:BST
DTSTART:20250330T010000
END:DAYLIGHT
BEGIN:STANDARD
TZOFFSETFROM:+0100
TZOFFSETTO:+0000
TZNAME:GMT
DTSTART:20251026T010000
END:STANDARD
BEGIN:DAYLIGHT
TZOFFSETFROM:+0000
TZOFFSETTO:+0100
TZNAME:BST
DTSTART:20260329T010000
END:DAYLIGHT
BEGIN:STANDARD
TZOFFSETFROM:+0100
TZOFFSETTO:+0000
TZNAME:GMT
DTSTART:20261025T010000
END:STANDARD
END:VTIMEZONE
BEGIN:VEVENT
DTSTART;VALUE=DATE:20250718
DTEND;VALUE=DATE:20250719
DTSTAMP:20260420T071815
CREATED:20250711T215238Z
LAST-MODIFIED:20250711T215446Z
UID:10000646-1752796800-1752883199@goodrichvillagehall.co.uk
SUMMARY:Hall Maintenance
DESCRIPTION:
URL:https://goodrichvillagehall.co.uk/event/hall-maintenance-2/
CATEGORIES:Whole Building
END:VEVENT
BEGIN:VEVENT
DTSTART;TZID=Europe/London:20250726T200000
DTEND;TZID=Europe/London:20250726T233000
DTSTAMP:20260420T071815
CREATED:20250619T212050Z
LAST-MODIFIED:20250619T212251Z
UID:10000638-1753560000-1753572600@goodrichvillagehall.co.uk
SUMMARY:Private Event (MS)
DESCRIPTION:
URL:https://goodrichvillagehall.co.uk/event/private-event-ms/
CATEGORIES:Whole Building
END:VEVENT
END:VCALENDAR