BEGIN:VCALENDAR
VERSION:2.0
PRODID:-//Goodrich Village Hall - ECPv6.15.17//NONSGML v1.0//EN
CALSCALE:GREGORIAN
METHOD:PUBLISH
X-ORIGINAL-URL:https://goodrichvillagehall.co.uk
X-WR-CALDESC:Events for Goodrich Village Hall
REFRESH-INTERVAL;VALUE=DURATION:PT1H
X-Robots-Tag:noindex
X-PUBLISHED-TTL:PT1H
BEGIN:VTIMEZONE
TZID:Europe/London
BEGIN:DAYLIGHT
TZOFFSETFROM:+0000
TZOFFSETTO:+0100
TZNAME:BST
DTSTART:20250330T010000
END:DAYLIGHT
BEGIN:STANDARD
TZOFFSETFROM:+0100
TZOFFSETTO:+0000
TZNAME:GMT
DTSTART:20251026T010000
END:STANDARD
BEGIN:DAYLIGHT
TZOFFSETFROM:+0000
TZOFFSETTO:+0100
TZNAME:BST
DTSTART:20260329T010000
END:DAYLIGHT
BEGIN:STANDARD
TZOFFSETFROM:+0100
TZOFFSETTO:+0000
TZNAME:GMT
DTSTART:20261025T010000
END:STANDARD
BEGIN:DAYLIGHT
TZOFFSETFROM:+0000
TZOFFSETTO:+0100
TZNAME:BST
DTSTART:20270328T010000
END:DAYLIGHT
BEGIN:STANDARD
TZOFFSETFROM:+0100
TZOFFSETTO:+0000
TZNAME:GMT
DTSTART:20271031T010000
END:STANDARD
END:VTIMEZONE
BEGIN:VEVENT
DTSTART;TZID=Europe/London:20260901T091500
DTEND;TZID=Europe/London:20260901T101500
DTSTAMP:20260422T001710
CREATED:20260207T124451Z
LAST-MODIFIED:20260207T130615Z
UID:10002617-1788254100-1788257700@goodrichvillagehall.co.uk
SUMMARY:Pilates
DESCRIPTION:
URL:https://goodrichvillagehall.co.uk/event/pilates-39/2026-09-01/
CATEGORIES:Godric Hall
END:VEVENT
BEGIN:VEVENT
DTSTART;TZID=Europe/London:20260901T103000
DTEND;TZID=Europe/London:20260901T113000
DTSTAMP:20260422T001710
CREATED:20260207T124626Z
LAST-MODIFIED:20260207T131237Z
UID:10002635-1788258600-1788262200@goodrichvillagehall.co.uk
SUMMARY:Pilates
DESCRIPTION:
URL:https://goodrichvillagehall.co.uk/event/pilates-40/2026-09-01/
CATEGORIES:Godric Hall
END:VEVENT
BEGIN:VEVENT
DTSTART;TZID=Europe/London:20260901T133000
DTEND;TZID=Europe/London:20260901T143000
DTSTAMP:20260422T001710
CREATED:20260212T071306Z
LAST-MODIFIED:20260303T172737Z
UID:10002801-1788269400-1788273000@goodrichvillagehall.co.uk
SUMMARY:Chair Yoga (CM)
DESCRIPTION:
URL:https://goodrichvillagehall.co.uk/event/chair-yoga-cm-2/2026-09-01/
CATEGORIES:Godric Hall
END:VEVENT
BEGIN:VEVENT
DTSTART;TZID=Europe/London:20260901T190000
DTEND;TZID=Europe/London:20260901T220000
DTSTAMP:20260422T001710
CREATED:20260103T201738Z
LAST-MODIFIED:20260209T164812Z
UID:10002515-1788289200-1788300000@goodrichvillagehall.co.uk
SUMMARY:Tango
DESCRIPTION:
URL:https://goodrichvillagehall.co.uk/event/tango-2/2026-09-01/
CATEGORIES:Godric Hall
END:VEVENT
BEGIN:VEVENT
DTSTART;TZID=Europe/London:20260901T193000
DTEND;TZID=Europe/London:20260901T210000
DTSTAMP:20260422T001710
CREATED:20251212T210847Z
LAST-MODIFIED:20251212T210847Z
UID:10001854-1788291000-1788296400@goodrichvillagehall.co.uk
SUMMARY:Goodrich Village Hall Trustees' Meeting
DESCRIPTION:
URL:https://goodrichvillagehall.co.uk/event/goodrich-village-hall-trustees-meeting/2026-09-01/
CATEGORIES:Committee Room
END:VEVENT
BEGIN:VEVENT
DTSTART;TZID=Europe/London:20260902T173000
DTEND;TZID=Europe/London:20260902T183000
DTSTAMP:20260422T001710
CREATED:20260207T124756Z
LAST-MODIFIED:20260207T131149Z
UID:10002653-1788370200-1788373800@goodrichvillagehall.co.uk
SUMMARY:Pilates
DESCRIPTION:
URL:https://goodrichvillagehall.co.uk/event/pilates-41/2026-09-02/
CATEGORIES:Godric Hall
END:VEVENT
BEGIN:VEVENT
DTSTART;TZID=Europe/London:20260902T184500
DTEND;TZID=Europe/London:20260902T194500
DTSTAMP:20260422T001710
CREATED:20260207T124934Z
LAST-MODIFIED:20260207T131104Z
UID:10002671-1788374700-1788378300@goodrichvillagehall.co.uk
SUMMARY:Pilates
DESCRIPTION:
URL:https://goodrichvillagehall.co.uk/event/pilates-42/2026-09-02/
CATEGORIES:Godric Hall
END:VEVENT
BEGIN:VEVENT
DTSTART;TZID=Europe/London:20260903T091500
DTEND;TZID=Europe/London:20260903T101500
DTSTAMP:20260422T001710
CREATED:20260207T125119Z
LAST-MODIFIED:20260207T131008Z
UID:10002689-1788426900-1788430500@goodrichvillagehall.co.uk
SUMMARY:Pilates
DESCRIPTION:
URL:https://goodrichvillagehall.co.uk/event/pilates-43/2026-09-03/
CATEGORIES:Godric Hall
END:VEVENT
BEGIN:VEVENT
DTSTART;TZID=Europe/London:20260903T103000
DTEND;TZID=Europe/London:20260903T113000
DTSTAMP:20260422T001710
CREATED:20260207T125242Z
LAST-MODIFIED:20260207T130915Z
UID:10002707-1788431400-1788435000@goodrichvillagehall.co.uk
SUMMARY:Pilates
DESCRIPTION:
URL:https://goodrichvillagehall.co.uk/event/pilates-44/2026-09-03/
CATEGORIES:Godric Hall
END:VEVENT
BEGIN:VEVENT
DTSTART;TZID=Europe/London:20260903T190000
DTEND;TZID=Europe/London:20260903T230000
DTSTAMP:20260422T001710
CREATED:20251208T201524Z
LAST-MODIFIED:20260207T154713Z
UID:10001691-1788462000-1788476400@goodrichvillagehall.co.uk
SUMMARY:Table Tennis
DESCRIPTION:
URL:https://goodrichvillagehall.co.uk/event/table-tennis-7/2026-09-03/
CATEGORIES:Godric Hall
END:VEVENT
BEGIN:VEVENT
DTSTART;TZID=Europe/London:20260903T193000
DTEND;TZID=Europe/London:20260903T210000
DTSTAMP:20260422T001710
CREATED:20251208T191842Z
LAST-MODIFIED:20251208T193353Z
UID:10001539-1788463800-1788469200@goodrichvillagehall.co.uk
SUMMARY:Goodrich and Welsh Bicknor Parish Council
DESCRIPTION:Goodrich
URL:https://goodrichvillagehall.co.uk/event/goodrich-and-welsh-bicknor-parish-council/2026-09-03/
CATEGORIES:Committee Room
END:VEVENT
BEGIN:VEVENT
DTSTART;TZID=Europe/London:20260906T173000
DTEND;TZID=Europe/London:20260906T193000
DTSTAMP:20260422T001710
CREATED:20251208T200518Z
LAST-MODIFIED:20251210T161243Z
UID:10001640-1788715800-1788723000@goodrichvillagehall.co.uk
SUMMARY:Family Table Tennis
DESCRIPTION:
URL:https://goodrichvillagehall.co.uk/event/family-table-tennis-3/2026-09-06/
CATEGORIES:Godric Hall
END:VEVENT
BEGIN:VEVENT
DTSTART;TZID=Europe/London:20260907T093000
DTEND;TZID=Europe/London:20260907T120000
DTSTAMP:20260422T001710
CREATED:20251208T200331Z
LAST-MODIFIED:20251208T200331Z
UID:10001588-1788773400-1788782400@goodrichvillagehall.co.uk
SUMMARY:Table Tennis
DESCRIPTION:
URL:https://goodrichvillagehall.co.uk/event/table-tennis-6/2026-09-07/
CATEGORIES:Godric Hall
END:VEVENT
BEGIN:VEVENT
DTSTART;TZID=Europe/London:20260908T133000
DTEND;TZID=Europe/London:20260908T143000
DTSTAMP:20260422T001710
CREATED:20260212T071306Z
LAST-MODIFIED:20260303T172737Z
UID:10002802-1788874200-1788877800@goodrichvillagehall.co.uk
SUMMARY:Chair Yoga (CM)
DESCRIPTION:
URL:https://goodrichvillagehall.co.uk/event/chair-yoga-cm-2/2026-09-08/
CATEGORIES:Godric Hall
END:VEVENT
BEGIN:VEVENT
DTSTART;TZID=Europe/London:20260908T190000
DTEND;TZID=Europe/London:20260908T220000
DTSTAMP:20260422T001710
CREATED:20260103T201738Z
LAST-MODIFIED:20260209T164812Z
UID:10002516-1788894000-1788904800@goodrichvillagehall.co.uk
SUMMARY:Tango
DESCRIPTION:
URL:https://goodrichvillagehall.co.uk/event/tango-2/2026-09-08/
CATEGORIES:Godric Hall
END:VEVENT
BEGIN:VEVENT
DTSTART;TZID=Europe/London:20260910T190000
DTEND;TZID=Europe/London:20260910T230000
DTSTAMP:20260422T001710
CREATED:20251208T201524Z
LAST-MODIFIED:20260207T154713Z
UID:10001692-1789066800-1789081200@goodrichvillagehall.co.uk
SUMMARY:Table Tennis
DESCRIPTION:
URL:https://goodrichvillagehall.co.uk/event/table-tennis-7/2026-09-10/
CATEGORIES:Godric Hall
END:VEVENT
BEGIN:VEVENT
DTSTART;TZID=Europe/London:20260913T173000
DTEND;TZID=Europe/London:20260913T193000
DTSTAMP:20260422T001710
CREATED:20251208T200518Z
LAST-MODIFIED:20251210T161243Z
UID:10001641-1789320600-1789327800@goodrichvillagehall.co.uk
SUMMARY:Family Table Tennis
DESCRIPTION:
URL:https://goodrichvillagehall.co.uk/event/family-table-tennis-3/2026-09-13/
CATEGORIES:Godric Hall
END:VEVENT
BEGIN:VEVENT
DTSTART;TZID=Europe/London:20260914T093000
DTEND;TZID=Europe/London:20260914T120000
DTSTAMP:20260422T001710
CREATED:20251208T200331Z
LAST-MODIFIED:20251208T200331Z
UID:10001589-1789378200-1789387200@goodrichvillagehall.co.uk
SUMMARY:Table Tennis
DESCRIPTION:
URL:https://goodrichvillagehall.co.uk/event/table-tennis-6/2026-09-14/
CATEGORIES:Godric Hall
END:VEVENT
BEGIN:VEVENT
DTSTART;TZID=Europe/London:20260915T091500
DTEND;TZID=Europe/London:20260915T101500
DTSTAMP:20260422T001710
CREATED:20260207T124451Z
LAST-MODIFIED:20260207T130615Z
UID:10002619-1789463700-1789467300@goodrichvillagehall.co.uk
SUMMARY:Pilates
DESCRIPTION:
URL:https://goodrichvillagehall.co.uk/event/pilates-39/2026-09-15/
CATEGORIES:Godric Hall
END:VEVENT
BEGIN:VEVENT
DTSTART;TZID=Europe/London:20260915T103000
DTEND;TZID=Europe/London:20260915T113000
DTSTAMP:20260422T001710
CREATED:20260207T124626Z
LAST-MODIFIED:20260207T131237Z
UID:10002637-1789468200-1789471800@goodrichvillagehall.co.uk
SUMMARY:Pilates
DESCRIPTION:
URL:https://goodrichvillagehall.co.uk/event/pilates-40/2026-09-15/
CATEGORIES:Godric Hall
END:VEVENT
BEGIN:VEVENT
DTSTART;TZID=Europe/London:20260915T133000
DTEND;TZID=Europe/London:20260915T143000
DTSTAMP:20260422T001710
CREATED:20260212T071306Z
LAST-MODIFIED:20260303T172737Z
UID:10002803-1789479000-1789482600@goodrichvillagehall.co.uk
SUMMARY:Chair Yoga (CM)
DESCRIPTION:
URL:https://goodrichvillagehall.co.uk/event/chair-yoga-cm-2/2026-09-15/
CATEGORIES:Godric Hall
END:VEVENT
BEGIN:VEVENT
DTSTART;TZID=Europe/London:20260915T190000
DTEND;TZID=Europe/London:20260915T220000
DTSTAMP:20260422T001710
CREATED:20260103T201738Z
LAST-MODIFIED:20260209T164812Z
UID:10002517-1789498800-1789509600@goodrichvillagehall.co.uk
SUMMARY:Tango
DESCRIPTION:
URL:https://goodrichvillagehall.co.uk/event/tango-2/2026-09-15/
CATEGORIES:Godric Hall
END:VEVENT
BEGIN:VEVENT
DTSTART;TZID=Europe/London:20260916T173000
DTEND;TZID=Europe/London:20260916T183000
DTSTAMP:20260422T001710
CREATED:20260207T124756Z
LAST-MODIFIED:20260207T131149Z
UID:10002655-1789579800-1789583400@goodrichvillagehall.co.uk
SUMMARY:Pilates
DESCRIPTION:
URL:https://goodrichvillagehall.co.uk/event/pilates-41/2026-09-16/
CATEGORIES:Godric Hall
END:VEVENT
BEGIN:VEVENT
DTSTART;TZID=Europe/London:20260916T184500
DTEND;TZID=Europe/London:20260916T194500
DTSTAMP:20260422T001710
CREATED:20260207T124934Z
LAST-MODIFIED:20260207T131104Z
UID:10002673-1789584300-1789587900@goodrichvillagehall.co.uk
SUMMARY:Pilates
DESCRIPTION:
URL:https://goodrichvillagehall.co.uk/event/pilates-42/2026-09-16/
CATEGORIES:Godric Hall
END:VEVENT
BEGIN:VEVENT
DTSTART;TZID=Europe/London:20260917T091500
DTEND;TZID=Europe/London:20260917T101500
DTSTAMP:20260422T001710
CREATED:20260207T125119Z
LAST-MODIFIED:20260207T131008Z
UID:10002691-1789636500-1789640100@goodrichvillagehall.co.uk
SUMMARY:Pilates
DESCRIPTION:
URL:https://goodrichvillagehall.co.uk/event/pilates-43/2026-09-17/
CATEGORIES:Godric Hall
END:VEVENT
BEGIN:VEVENT
DTSTART;TZID=Europe/London:20260917T103000
DTEND;TZID=Europe/London:20260917T113000
DTSTAMP:20260422T001710
CREATED:20260207T125242Z
LAST-MODIFIED:20260207T130915Z
UID:10002709-1789641000-1789644600@goodrichvillagehall.co.uk
SUMMARY:Pilates
DESCRIPTION:
URL:https://goodrichvillagehall.co.uk/event/pilates-44/2026-09-17/
CATEGORIES:Godric Hall
END:VEVENT
BEGIN:VEVENT
DTSTART;TZID=Europe/London:20260917T190000
DTEND;TZID=Europe/London:20260917T230000
DTSTAMP:20260422T001710
CREATED:20251208T201524Z
LAST-MODIFIED:20260207T154713Z
UID:10001693-1789671600-1789686000@goodrichvillagehall.co.uk
SUMMARY:Table Tennis
DESCRIPTION:
URL:https://goodrichvillagehall.co.uk/event/table-tennis-7/2026-09-17/
CATEGORIES:Godric Hall
END:VEVENT
BEGIN:VEVENT
DTSTART;TZID=Europe/London:20260917T193000
DTEND;TZID=Europe/London:20260917T213000
DTSTAMP:20260422T001710
CREATED:20260205T115831Z
LAST-MODIFIED:20260318T164723Z
UID:10002821-1789673400-1789680600@goodrichvillagehall.co.uk
SUMMARY:Roaring Megs Community Choir
DESCRIPTION:
URL:https://goodrichvillagehall.co.uk/event/roaring-megs-community-choir-8/2026-09-17/
CATEGORIES:Godric Hall
END:VEVENT
BEGIN:VEVENT
DTSTART;TZID=Europe/London:20260920T130000
DTEND;TZID=Europe/London:20260920T190000
DTSTAMP:20260422T001710
CREATED:20251007T202552Z
LAST-MODIFIED:20251007T202552Z
UID:10001105-1789909200-1789930800@goodrichvillagehall.co.uk
SUMMARY:St Michael's Hospice - Wye Valley Trek Finish
DESCRIPTION:
URL:https://goodrichvillagehall.co.uk/event/st-michaels-hospice-wye-valley-trek-finish/
CATEGORIES:Godric Hall
END:VEVENT
BEGIN:VEVENT
DTSTART;TZID=Europe/London:20260920T173000
DTEND;TZID=Europe/London:20260920T193000
DTSTAMP:20260422T001710
CREATED:20251007T202708Z
LAST-MODIFIED:20251007T202708Z
UID:10001106-1789925400-1789932600@goodrichvillagehall.co.uk
SUMMARY:Family Table Tennis
DESCRIPTION:
URL:https://goodrichvillagehall.co.uk/event/family-table-tennis-2/
CATEGORIES:Tudor Room
END:VEVENT
END:VCALENDAR