BEGIN:VCALENDAR
VERSION:2.0
PRODID:-//Goodrich Village Hall - ECPv6.15.17//NONSGML v1.0//EN
CALSCALE:GREGORIAN
METHOD:PUBLISH
X-ORIGINAL-URL:https://goodrichvillagehall.co.uk
X-WR-CALDESC:Events for Goodrich Village Hall
REFRESH-INTERVAL;VALUE=DURATION:PT1H
X-Robots-Tag:noindex
X-PUBLISHED-TTL:PT1H
BEGIN:VTIMEZONE
TZID:Europe/London
BEGIN:DAYLIGHT
TZOFFSETFROM:+0000
TZOFFSETTO:+0100
TZNAME:BST
DTSTART:20240331T010000
END:DAYLIGHT
BEGIN:STANDARD
TZOFFSETFROM:+0100
TZOFFSETTO:+0000
TZNAME:GMT
DTSTART:20241027T010000
END:STANDARD
BEGIN:DAYLIGHT
TZOFFSETFROM:+0000
TZOFFSETTO:+0100
TZNAME:BST
DTSTART:20250330T010000
END:DAYLIGHT
BEGIN:STANDARD
TZOFFSETFROM:+0100
TZOFFSETTO:+0000
TZNAME:GMT
DTSTART:20251026T010000
END:STANDARD
BEGIN:DAYLIGHT
TZOFFSETFROM:+0000
TZOFFSETTO:+0100
TZNAME:BST
DTSTART:20260329T010000
END:DAYLIGHT
BEGIN:STANDARD
TZOFFSETFROM:+0100
TZOFFSETTO:+0000
TZNAME:GMT
DTSTART:20261025T010000
END:STANDARD
END:VTIMEZONE
BEGIN:VEVENT
DTSTART;TZID=Europe/London:20250401T091500
DTEND;TZID=Europe/London:20250401T101500
DTSTAMP:20260423T115542
CREATED:20250311T233952Z
LAST-MODIFIED:20250619T210942Z
UID:10000132-1743498900-1743502500@goodrichvillagehall.co.uk
SUMMARY:Pilates
DESCRIPTION:
URL:https://goodrichvillagehall.co.uk/event/pilates/2025-04-01/
CATEGORIES:Godric Hall
END:VEVENT
BEGIN:VEVENT
DTSTART;TZID=Europe/London:20250401T103000
DTEND;TZID=Europe/London:20250401T113000
DTSTAMP:20260423T115542
CREATED:20250311T233952Z
LAST-MODIFIED:20250807T112209Z
UID:10000169-1743503400-1743507000@goodrichvillagehall.co.uk
SUMMARY:Pilates
DESCRIPTION:
URL:https://goodrichvillagehall.co.uk/event/pilates-2/2025-04-01/
CATEGORIES:Godric Hall
END:VEVENT
BEGIN:VEVENT
DTSTART;TZID=Europe/London:20250401T190000
DTEND;TZID=Europe/London:20250401T220000
DTSTAMP:20260423T115542
CREATED:20250311T233952Z
LAST-MODIFIED:20250908T125217Z
UID:10000188-1743534000-1743544800@goodrichvillagehall.co.uk
SUMMARY:Tango
DESCRIPTION:
URL:https://goodrichvillagehall.co.uk/event/tango/2025-04-01/
CATEGORIES:Godric Hall
END:VEVENT
BEGIN:VEVENT
DTSTART;TZID=Europe/London:20250402T090000
DTEND;TZID=Europe/London:20250402T100000
DTSTAMP:20260423T115542
CREATED:20250311T233952Z
LAST-MODIFIED:20250619T205448Z
UID:10000257-1743584400-1743588000@goodrichvillagehall.co.uk
SUMMARY:Yoga
DESCRIPTION:
URL:https://goodrichvillagehall.co.uk/event/yoga/2025-04-02/
CATEGORIES:Godric Hall
END:VEVENT
BEGIN:VEVENT
DTSTART;TZID=Europe/London:20250402T173000
DTEND;TZID=Europe/London:20250402T183000
DTSTAMP:20260423T115542
CREATED:20250311T233951Z
LAST-MODIFIED:20250818T180653Z
UID:10000276-1743615000-1743618600@goodrichvillagehall.co.uk
SUMMARY:Pilates
DESCRIPTION:
URL:https://goodrichvillagehall.co.uk/event/pilates-3/2025-04-02/
CATEGORIES:Godric Hall
END:VEVENT
BEGIN:VEVENT
DTSTART;TZID=Europe/London:20250402T184500
DTEND;TZID=Europe/London:20250402T194500
DTSTAMP:20260423T115542
CREATED:20250311T233951Z
LAST-MODIFIED:20250818T175857Z
UID:10000295-1743619500-1743623100@goodrichvillagehall.co.uk
SUMMARY:Pilates
DESCRIPTION:
URL:https://goodrichvillagehall.co.uk/event/pilates-4/2025-04-02/
CATEGORIES:Godric Hall
END:VEVENT
BEGIN:VEVENT
DTSTART;TZID=Europe/London:20250403T091500
DTEND;TZID=Europe/London:20250403T101500
DTSTAMP:20260423T115542
CREATED:20250311T233951Z
LAST-MODIFIED:20250818T180134Z
UID:10000331-1743671700-1743675300@goodrichvillagehall.co.uk
SUMMARY:Pilates
DESCRIPTION:
URL:https://goodrichvillagehall.co.uk/event/pilates-5-2/2025-04-03/
CATEGORIES:Godric Hall
END:VEVENT
BEGIN:VEVENT
DTSTART;TZID=Europe/London:20250403T103000
DTEND;TZID=Europe/London:20250403T113000
DTSTAMP:20260423T115542
CREATED:20250311T233951Z
LAST-MODIFIED:20250619T211414Z
UID:10000374-1743676200-1743679800@goodrichvillagehall.co.uk
SUMMARY:Pilates
DESCRIPTION:
URL:https://goodrichvillagehall.co.uk/event/pilates-6/2025-04-03/
CATEGORIES:Godric Hall
END:VEVENT
BEGIN:VEVENT
DTSTART;TZID=Europe/London:20250403T190000
DTEND;TZID=Europe/London:20250403T230000
DTSTAMP:20260423T115542
CREATED:20250311T233951Z
LAST-MODIFIED:20250619T212623Z
UID:10000388-1743706800-1743721200@goodrichvillagehall.co.uk
SUMMARY:Table Tennis
DESCRIPTION:
URL:https://goodrichvillagehall.co.uk/event/table-tennis-3/2025-04-03/
CATEGORIES:Godric Hall
END:VEVENT
BEGIN:VEVENT
DTSTART;TZID=Europe/London:20250403T193000
DTEND;TZID=Europe/London:20250403T193000
DTSTAMP:20260423T115542
CREATED:20250311T233950Z
LAST-MODIFIED:20250904T170941Z
UID:10000353-1743708600-1743708600@goodrichvillagehall.co.uk
SUMMARY:Goodrich & Welsh Bicknor Parish Council
DESCRIPTION:
URL:https://goodrichvillagehall.co.uk/event/goodrich-welsh-bicknor-parish-council/2025-04-03/
CATEGORIES:Committee Room
END:VEVENT
BEGIN:VEVENT
DTSTART;TZID=Europe/London:20250404T113000
DTEND;TZID=Europe/London:20250404T123000
DTSTAMP:20260423T115542
CREATED:20250311T233951Z
LAST-MODIFIED:20250619T205542Z
UID:10000430-1743766200-1743769800@goodrichvillagehall.co.uk
SUMMARY:Yoga
DESCRIPTION:
URL:https://goodrichvillagehall.co.uk/event/yoga-2/2025-04-04/
CATEGORIES:Godric Hall
END:VEVENT
BEGIN:VEVENT
DTSTART;TZID=Europe/London:20250406T173000
DTEND;TZID=Europe/London:20250406T193000
DTSTAMP:20260423T115542
CREATED:20250311T233951Z
LAST-MODIFIED:20250311T233951Z
UID:10000471-1743960600-1743967800@goodrichvillagehall.co.uk
SUMMARY:Family Table Tennis
DESCRIPTION:
URL:https://goodrichvillagehall.co.uk/event/family-table-tennis/2025-04-06/
CATEGORIES:Godric Hall
END:VEVENT
BEGIN:VEVENT
DTSTART;TZID=Europe/London:20250407T093000
DTEND;TZID=Europe/London:20250407T120000
DTSTAMP:20260423T115542
CREATED:20250311T233952Z
LAST-MODIFIED:20251203T223337Z
UID:10000008-1744018200-1744027200@goodrichvillagehall.co.uk
SUMMARY:Table Tennis
DESCRIPTION:
URL:https://goodrichvillagehall.co.uk/event/table-tennis/2025-04-07/
CATEGORIES:Godric Hall
END:VEVENT
BEGIN:VEVENT
DTSTART;TZID=Europe/London:20250407T193000
DTEND;TZID=Europe/London:20250407T213000
DTSTAMP:20260423T115542
CREATED:20250311T233952Z
LAST-MODIFIED:20250311T233952Z
UID:10000112-1744054200-1744061400@goodrichvillagehall.co.uk
SUMMARY:Roaring Megs (community choir)
DESCRIPTION:
URL:https://goodrichvillagehall.co.uk/event/roaring-megs-community-choir-3/2025-04-07/
CATEGORIES:Godric Hall
END:VEVENT
BEGIN:VEVENT
DTSTART;TZID=Europe/London:20250408T091500
DTEND;TZID=Europe/London:20250408T101500
DTSTAMP:20260423T115542
CREATED:20250311T233952Z
LAST-MODIFIED:20250619T210942Z
UID:10000133-1744103700-1744107300@goodrichvillagehall.co.uk
SUMMARY:Pilates
DESCRIPTION:
URL:https://goodrichvillagehall.co.uk/event/pilates/2025-04-08/
CATEGORIES:Godric Hall
END:VEVENT
BEGIN:VEVENT
DTSTART;TZID=Europe/London:20250408T103000
DTEND;TZID=Europe/London:20250408T113000
DTSTAMP:20260423T115542
CREATED:20250311T233952Z
LAST-MODIFIED:20250807T112209Z
UID:10000170-1744108200-1744111800@goodrichvillagehall.co.uk
SUMMARY:Pilates
DESCRIPTION:
URL:https://goodrichvillagehall.co.uk/event/pilates-2/2025-04-08/
CATEGORIES:Godric Hall
END:VEVENT
BEGIN:VEVENT
DTSTART;TZID=Europe/London:20250408T190000
DTEND;TZID=Europe/London:20250408T220000
DTSTAMP:20260423T115542
CREATED:20250311T233952Z
LAST-MODIFIED:20250908T125217Z
UID:10000189-1744138800-1744149600@goodrichvillagehall.co.uk
SUMMARY:Tango
DESCRIPTION:
URL:https://goodrichvillagehall.co.uk/event/tango/2025-04-08/
CATEGORIES:Godric Hall
END:VEVENT
BEGIN:VEVENT
DTSTART;TZID=Europe/London:20250409T090000
DTEND;TZID=Europe/London:20250409T100000
DTSTAMP:20260423T115542
CREATED:20250311T233952Z
LAST-MODIFIED:20250619T205448Z
UID:10000258-1744189200-1744192800@goodrichvillagehall.co.uk
SUMMARY:Yoga
DESCRIPTION:
URL:https://goodrichvillagehall.co.uk/event/yoga/2025-04-09/
CATEGORIES:Godric Hall
END:VEVENT
BEGIN:VEVENT
DTSTART;TZID=Europe/London:20250409T173000
DTEND;TZID=Europe/London:20250409T183000
DTSTAMP:20260423T115542
CREATED:20250311T233951Z
LAST-MODIFIED:20250818T180653Z
UID:10000277-1744219800-1744223400@goodrichvillagehall.co.uk
SUMMARY:Pilates
DESCRIPTION:
URL:https://goodrichvillagehall.co.uk/event/pilates-3/2025-04-09/
CATEGORIES:Godric Hall
END:VEVENT
BEGIN:VEVENT
DTSTART;TZID=Europe/London:20250409T184500
DTEND;TZID=Europe/London:20250409T194500
DTSTAMP:20260423T115542
CREATED:20250311T233951Z
LAST-MODIFIED:20250818T175857Z
UID:10000296-1744224300-1744227900@goodrichvillagehall.co.uk
SUMMARY:Pilates
DESCRIPTION:
URL:https://goodrichvillagehall.co.uk/event/pilates-4/2025-04-09/
CATEGORIES:Godric Hall
END:VEVENT
BEGIN:VEVENT
DTSTART;TZID=Europe/London:20250410T091500
DTEND;TZID=Europe/London:20250410T101500
DTSTAMP:20260423T115542
CREATED:20250311T233951Z
LAST-MODIFIED:20250818T180134Z
UID:10000332-1744276500-1744280100@goodrichvillagehall.co.uk
SUMMARY:Pilates
DESCRIPTION:
URL:https://goodrichvillagehall.co.uk/event/pilates-5-2/2025-04-10/
CATEGORIES:Godric Hall
END:VEVENT
BEGIN:VEVENT
DTSTART;TZID=Europe/London:20250410T103000
DTEND;TZID=Europe/London:20250410T113000
DTSTAMP:20260423T115542
CREATED:20250311T233951Z
LAST-MODIFIED:20250619T211414Z
UID:10000375-1744281000-1744284600@goodrichvillagehall.co.uk
SUMMARY:Pilates
DESCRIPTION:
URL:https://goodrichvillagehall.co.uk/event/pilates-6/2025-04-10/
CATEGORIES:Godric Hall
END:VEVENT
BEGIN:VEVENT
DTSTART;TZID=Europe/London:20250410T190000
DTEND;TZID=Europe/London:20250410T230000
DTSTAMP:20260423T115542
CREATED:20250311T233951Z
LAST-MODIFIED:20250619T212623Z
UID:10000389-1744311600-1744326000@goodrichvillagehall.co.uk
SUMMARY:Table Tennis
DESCRIPTION:
URL:https://goodrichvillagehall.co.uk/event/table-tennis-3/2025-04-10/
CATEGORIES:Godric Hall
END:VEVENT
BEGIN:VEVENT
DTSTART;TZID=Europe/London:20250411T113000
DTEND;TZID=Europe/London:20250411T123000
DTSTAMP:20260423T115542
CREATED:20250311T233951Z
LAST-MODIFIED:20250619T205542Z
UID:10000431-1744371000-1744374600@goodrichvillagehall.co.uk
SUMMARY:Yoga
DESCRIPTION:
URL:https://goodrichvillagehall.co.uk/event/yoga-2/2025-04-11/
CATEGORIES:Godric Hall
END:VEVENT
BEGIN:VEVENT
DTSTART;TZID=Europe/London:20250412T100000
DTEND;TZID=Europe/London:20250412T110000
DTSTAMP:20260423T115542
CREATED:20250311T233950Z
LAST-MODIFIED:20250902T203631Z
UID:10000457-1744452000-1744455600@goodrichvillagehall.co.uk
SUMMARY:Restorative Yoga
DESCRIPTION:
URL:https://goodrichvillagehall.co.uk/event/restorative-yoga/2025-04-12/
CATEGORIES:Godric Hall
END:VEVENT
BEGIN:VEVENT
DTSTART;TZID=Europe/London:20250413T173000
DTEND;TZID=Europe/London:20250413T193000
DTSTAMP:20260423T115542
CREATED:20250311T233951Z
LAST-MODIFIED:20250311T233951Z
UID:10000472-1744565400-1744572600@goodrichvillagehall.co.uk
SUMMARY:Family Table Tennis
DESCRIPTION:
URL:https://goodrichvillagehall.co.uk/event/family-table-tennis/2025-04-13/
CATEGORIES:Godric Hall
END:VEVENT
BEGIN:VEVENT
DTSTART;TZID=Europe/London:20250414T093000
DTEND;TZID=Europe/London:20250414T120000
DTSTAMP:20260423T115542
CREATED:20250311T233952Z
LAST-MODIFIED:20251203T223337Z
UID:10000009-1744623000-1744632000@goodrichvillagehall.co.uk
SUMMARY:Table Tennis
DESCRIPTION:
URL:https://goodrichvillagehall.co.uk/event/table-tennis/2025-04-14/
CATEGORIES:Godric Hall
END:VEVENT
BEGIN:VEVENT
DTSTART;TZID=Europe/London:20250414T193000
DTEND;TZID=Europe/London:20250414T213000
DTSTAMP:20260423T115542
CREATED:20250311T233952Z
LAST-MODIFIED:20250311T233952Z
UID:10000113-1744659000-1744666200@goodrichvillagehall.co.uk
SUMMARY:Roaring Megs (community choir)
DESCRIPTION:
URL:https://goodrichvillagehall.co.uk/event/roaring-megs-community-choir-3/2025-04-14/
CATEGORIES:Godric Hall
END:VEVENT
BEGIN:VEVENT
DTSTART;TZID=Europe/London:20250415T080000
DTEND;TZID=Europe/London:20250415T080000
DTSTAMP:20260423T115542
CREATED:20250311T233950Z
LAST-MODIFIED:20250311T233950Z
UID:10000242-1744704000-1744704000@goodrichvillagehall.co.uk
SUMMARY:Godric Hall Maintenance
DESCRIPTION:
URL:https://goodrichvillagehall.co.uk/event/godric-hall-maintenance/
CATEGORIES:Godric Hall
END:VEVENT
BEGIN:VEVENT
DTSTART;TZID=Europe/London:20250415T103000
DTEND;TZID=Europe/London:20250415T113000
DTSTAMP:20260423T115542
CREATED:20250311T233952Z
LAST-MODIFIED:20250807T112209Z
UID:10000680-1744713000-1744716600@goodrichvillagehall.co.uk
SUMMARY:Pilates
DESCRIPTION:
URL:https://goodrichvillagehall.co.uk/event/pilates-2/2025-04-15/
CATEGORIES:Godric Hall
END:VEVENT
END:VCALENDAR