BEGIN:VCALENDAR
VERSION:2.0
PRODID:-//Goodrich Village Hall - ECPv6.15.17//NONSGML v1.0//EN
CALSCALE:GREGORIAN
METHOD:PUBLISH
X-ORIGINAL-URL:https://goodrichvillagehall.co.uk
X-WR-CALDESC:Events for Goodrich Village Hall
REFRESH-INTERVAL;VALUE=DURATION:PT1H
X-Robots-Tag:noindex
X-PUBLISHED-TTL:PT1H
BEGIN:VTIMEZONE
TZID:Europe/London
BEGIN:DAYLIGHT
TZOFFSETFROM:+0000
TZOFFSETTO:+0100
TZNAME:BST
DTSTART:20240331T010000
END:DAYLIGHT
BEGIN:STANDARD
TZOFFSETFROM:+0100
TZOFFSETTO:+0000
TZNAME:GMT
DTSTART:20241027T010000
END:STANDARD
BEGIN:DAYLIGHT
TZOFFSETFROM:+0000
TZOFFSETTO:+0100
TZNAME:BST
DTSTART:20250330T010000
END:DAYLIGHT
BEGIN:STANDARD
TZOFFSETFROM:+0100
TZOFFSETTO:+0000
TZNAME:GMT
DTSTART:20251026T010000
END:STANDARD
BEGIN:DAYLIGHT
TZOFFSETFROM:+0000
TZOFFSETTO:+0100
TZNAME:BST
DTSTART:20260329T010000
END:DAYLIGHT
BEGIN:STANDARD
TZOFFSETFROM:+0100
TZOFFSETTO:+0000
TZNAME:GMT
DTSTART:20261025T010000
END:STANDARD
END:VTIMEZONE
BEGIN:VEVENT
DTSTART;TZID=Europe/London:20250501T091500
DTEND;TZID=Europe/London:20250501T101500
DTSTAMP:20260421T215006
CREATED:20250311T233951Z
LAST-MODIFIED:20250818T180134Z
UID:10000333-1746090900-1746094500@goodrichvillagehall.co.uk
SUMMARY:Pilates
DESCRIPTION:
URL:https://goodrichvillagehall.co.uk/event/pilates-5-2/2025-05-01/
CATEGORIES:Godric Hall
END:VEVENT
BEGIN:VEVENT
DTSTART;TZID=Europe/London:20250501T103000
DTEND;TZID=Europe/London:20250501T113000
DTSTAMP:20260421T215006
CREATED:20250311T233951Z
LAST-MODIFIED:20250619T211414Z
UID:10000376-1746095400-1746099000@goodrichvillagehall.co.uk
SUMMARY:Pilates
DESCRIPTION:
URL:https://goodrichvillagehall.co.uk/event/pilates-6/2025-05-01/
CATEGORIES:Godric Hall
END:VEVENT
BEGIN:VEVENT
DTSTART;TZID=Europe/London:20250501T190000
DTEND;TZID=Europe/London:20250501T230000
DTSTAMP:20260421T215006
CREATED:20250311T233951Z
LAST-MODIFIED:20250619T212623Z
UID:10000392-1746126000-1746140400@goodrichvillagehall.co.uk
SUMMARY:Table Tennis
DESCRIPTION:
URL:https://goodrichvillagehall.co.uk/event/table-tennis-3/2025-05-01/
CATEGORIES:Godric Hall
END:VEVENT
BEGIN:VEVENT
DTSTART;TZID=Europe/London:20250501T193000
DTEND;TZID=Europe/London:20250501T193000
DTSTAMP:20260421T215006
CREATED:20250311T233950Z
LAST-MODIFIED:20250904T170941Z
UID:10000513-1746127800-1746127800@goodrichvillagehall.co.uk
SUMMARY:Goodrich & Welsh Bicknor Parish Council
DESCRIPTION:
URL:https://goodrichvillagehall.co.uk/event/goodrich-welsh-bicknor-parish-council/2025-05-01/
CATEGORIES:Committee Room
END:VEVENT
BEGIN:VEVENT
DTSTART;TZID=Europe/London:20250502T113000
DTEND;TZID=Europe/London:20250502T123000
DTSTAMP:20260421T215006
CREATED:20250311T233951Z
LAST-MODIFIED:20250619T205542Z
UID:10000434-1746185400-1746189000@goodrichvillagehall.co.uk
SUMMARY:Yoga
DESCRIPTION:
URL:https://goodrichvillagehall.co.uk/event/yoga-2/2025-05-02/
CATEGORIES:Godric Hall
END:VEVENT
BEGIN:VEVENT
DTSTART;TZID=Europe/London:20250504T173000
DTEND;TZID=Europe/London:20250504T193000
DTSTAMP:20260421T215006
CREATED:20250311T233951Z
LAST-MODIFIED:20250311T233951Z
UID:10000475-1746379800-1746387000@goodrichvillagehall.co.uk
SUMMARY:Family Table Tennis
DESCRIPTION:
URL:https://goodrichvillagehall.co.uk/event/family-table-tennis/2025-05-04/
CATEGORIES:Godric Hall
END:VEVENT
BEGIN:VEVENT
DTSTART;TZID=Europe/London:20250505T093000
DTEND;TZID=Europe/London:20250505T120000
DTSTAMP:20260421T215006
CREATED:20250311T233952Z
LAST-MODIFIED:20251203T223337Z
UID:10000012-1746437400-1746446400@goodrichvillagehall.co.uk
SUMMARY:Table Tennis
DESCRIPTION:
URL:https://goodrichvillagehall.co.uk/event/table-tennis/2025-05-05/
CATEGORIES:Godric Hall
END:VEVENT
BEGIN:VEVENT
DTSTART;TZID=Europe/London:20250505T193000
DTEND;TZID=Europe/London:20250505T213000
DTSTAMP:20260421T215006
CREATED:20250311T233952Z
LAST-MODIFIED:20250311T233952Z
UID:10000116-1746473400-1746480600@goodrichvillagehall.co.uk
SUMMARY:Roaring Megs (community choir)
DESCRIPTION:
URL:https://goodrichvillagehall.co.uk/event/roaring-megs-community-choir-3/2025-05-05/
CATEGORIES:Godric Hall
END:VEVENT
BEGIN:VEVENT
DTSTART;TZID=Europe/London:20250506T091500
DTEND;TZID=Europe/London:20250506T101500
DTSTAMP:20260421T215006
CREATED:20250311T233952Z
LAST-MODIFIED:20250619T210942Z
UID:10000137-1746522900-1746526500@goodrichvillagehall.co.uk
SUMMARY:Pilates
DESCRIPTION:
URL:https://goodrichvillagehall.co.uk/event/pilates/2025-05-06/
CATEGORIES:Godric Hall
END:VEVENT
BEGIN:VEVENT
DTSTART;TZID=Europe/London:20250506T103000
DTEND;TZID=Europe/London:20250506T113000
DTSTAMP:20260421T215006
CREATED:20250311T233952Z
LAST-MODIFIED:20250807T112209Z
UID:10000174-1746527400-1746531000@goodrichvillagehall.co.uk
SUMMARY:Pilates
DESCRIPTION:
URL:https://goodrichvillagehall.co.uk/event/pilates-2/2025-05-06/
CATEGORIES:Godric Hall
END:VEVENT
BEGIN:VEVENT
DTSTART;TZID=Europe/London:20250506T190000
DTEND;TZID=Europe/London:20250506T220000
DTSTAMP:20260421T215006
CREATED:20250311T233952Z
LAST-MODIFIED:20250908T125217Z
UID:10000193-1746558000-1746568800@goodrichvillagehall.co.uk
SUMMARY:Tango
DESCRIPTION:
URL:https://goodrichvillagehall.co.uk/event/tango/2025-05-06/
CATEGORIES:Godric Hall
END:VEVENT
BEGIN:VEVENT
DTSTART;TZID=Europe/London:20250506T193000
DTEND;TZID=Europe/London:20250506T193000
DTSTAMP:20260421T215006
CREATED:20250311T233739Z
LAST-MODIFIED:20250311T233951Z
UID:10000518-1746559800-1746559800@goodrichvillagehall.co.uk
SUMMARY:GVHT
DESCRIPTION:
URL:https://goodrichvillagehall.co.uk/event/gvht/2025-05-06/
CATEGORIES:Committee Room
END:VEVENT
BEGIN:VEVENT
DTSTART;TZID=Europe/London:20250507T090000
DTEND;TZID=Europe/London:20250507T100000
DTSTAMP:20260421T215006
CREATED:20250311T233952Z
LAST-MODIFIED:20250619T205448Z
UID:10000262-1746608400-1746612000@goodrichvillagehall.co.uk
SUMMARY:Yoga
DESCRIPTION:
URL:https://goodrichvillagehall.co.uk/event/yoga/2025-05-07/
CATEGORIES:Godric Hall
END:VEVENT
BEGIN:VEVENT
DTSTART;TZID=Europe/London:20250507T173000
DTEND;TZID=Europe/London:20250507T183000
DTSTAMP:20260421T215006
CREATED:20250311T233951Z
LAST-MODIFIED:20250818T180653Z
UID:10000281-1746639000-1746642600@goodrichvillagehall.co.uk
SUMMARY:Pilates
DESCRIPTION:
URL:https://goodrichvillagehall.co.uk/event/pilates-3/2025-05-07/
CATEGORIES:Godric Hall
END:VEVENT
BEGIN:VEVENT
DTSTART;TZID=Europe/London:20250507T184500
DTEND;TZID=Europe/London:20250507T194500
DTSTAMP:20260421T215006
CREATED:20250311T233951Z
LAST-MODIFIED:20250818T175857Z
UID:10000298-1746643500-1746647100@goodrichvillagehall.co.uk
SUMMARY:Pilates
DESCRIPTION:
URL:https://goodrichvillagehall.co.uk/event/pilates-4/2025-05-07/
CATEGORIES:Godric Hall
END:VEVENT
BEGIN:VEVENT
DTSTART;TZID=Europe/London:20250508T091500
DTEND;TZID=Europe/London:20250508T101500
DTSTAMP:20260421T215006
CREATED:20250311T233951Z
LAST-MODIFIED:20250818T180134Z
UID:10000334-1746695700-1746699300@goodrichvillagehall.co.uk
SUMMARY:Pilates
DESCRIPTION:
URL:https://goodrichvillagehall.co.uk/event/pilates-5-2/2025-05-08/
CATEGORIES:Godric Hall
END:VEVENT
BEGIN:VEVENT
DTSTART;TZID=Europe/London:20250508T103000
DTEND;TZID=Europe/London:20250508T113000
DTSTAMP:20260421T215006
CREATED:20250311T233951Z
LAST-MODIFIED:20250619T211414Z
UID:10000377-1746700200-1746703800@goodrichvillagehall.co.uk
SUMMARY:Pilates
DESCRIPTION:
URL:https://goodrichvillagehall.co.uk/event/pilates-6/2025-05-08/
CATEGORIES:Godric Hall
END:VEVENT
BEGIN:VEVENT
DTSTART;TZID=Europe/London:20250508T190000
DTEND;TZID=Europe/London:20250508T230000
DTSTAMP:20260421T215006
CREATED:20250311T233951Z
LAST-MODIFIED:20250619T212623Z
UID:10000393-1746730800-1746745200@goodrichvillagehall.co.uk
SUMMARY:Table Tennis
DESCRIPTION:
URL:https://goodrichvillagehall.co.uk/event/table-tennis-3/2025-05-08/
CATEGORIES:Godric Hall
END:VEVENT
BEGIN:VEVENT
DTSTART;TZID=Europe/London:20250509T113000
DTEND;TZID=Europe/London:20250509T123000
DTSTAMP:20260421T215006
CREATED:20250311T233951Z
LAST-MODIFIED:20250619T205542Z
UID:10000435-1746790200-1746793800@goodrichvillagehall.co.uk
SUMMARY:Yoga
DESCRIPTION:
URL:https://goodrichvillagehall.co.uk/event/yoga-2/2025-05-09/
CATEGORIES:Godric Hall
END:VEVENT
BEGIN:VEVENT
DTSTART;TZID=Europe/London:20250511T173000
DTEND;TZID=Europe/London:20250511T193000
DTSTAMP:20260421T215006
CREATED:20250311T233951Z
LAST-MODIFIED:20250311T233951Z
UID:10000476-1746984600-1746991800@goodrichvillagehall.co.uk
SUMMARY:Family Table Tennis
DESCRIPTION:
URL:https://goodrichvillagehall.co.uk/event/family-table-tennis/2025-05-11/
CATEGORIES:Godric Hall
END:VEVENT
BEGIN:VEVENT
DTSTART;TZID=Europe/London:20250512T093000
DTEND;TZID=Europe/London:20250512T120000
DTSTAMP:20260421T215006
CREATED:20250311T233952Z
LAST-MODIFIED:20251203T223337Z
UID:10000013-1747042200-1747051200@goodrichvillagehall.co.uk
SUMMARY:Table Tennis
DESCRIPTION:
URL:https://goodrichvillagehall.co.uk/event/table-tennis/2025-05-12/
CATEGORIES:Godric Hall
END:VEVENT
BEGIN:VEVENT
DTSTART;TZID=Europe/London:20250512T193000
DTEND;TZID=Europe/London:20250512T213000
DTSTAMP:20260421T215006
CREATED:20250311T233952Z
LAST-MODIFIED:20250311T233952Z
UID:10000117-1747078200-1747085400@goodrichvillagehall.co.uk
SUMMARY:Roaring Megs (community choir)
DESCRIPTION:
URL:https://goodrichvillagehall.co.uk/event/roaring-megs-community-choir-3/2025-05-12/
CATEGORIES:Godric Hall
END:VEVENT
BEGIN:VEVENT
DTSTART;TZID=Europe/London:20250513T091500
DTEND;TZID=Europe/London:20250513T101500
DTSTAMP:20260421T215006
CREATED:20250311T233952Z
LAST-MODIFIED:20250619T210942Z
UID:10000138-1747127700-1747131300@goodrichvillagehall.co.uk
SUMMARY:Pilates
DESCRIPTION:
URL:https://goodrichvillagehall.co.uk/event/pilates/2025-05-13/
CATEGORIES:Godric Hall
END:VEVENT
BEGIN:VEVENT
DTSTART;TZID=Europe/London:20250513T103000
DTEND;TZID=Europe/London:20250513T113000
DTSTAMP:20260421T215006
CREATED:20250311T233952Z
LAST-MODIFIED:20250807T112209Z
UID:10000175-1747132200-1747135800@goodrichvillagehall.co.uk
SUMMARY:Pilates
DESCRIPTION:
URL:https://goodrichvillagehall.co.uk/event/pilates-2/2025-05-13/
CATEGORIES:Godric Hall
END:VEVENT
BEGIN:VEVENT
DTSTART;TZID=Europe/London:20250513T190000
DTEND;TZID=Europe/London:20250513T220000
DTSTAMP:20260421T215006
CREATED:20250311T233952Z
LAST-MODIFIED:20250908T125217Z
UID:10000194-1747162800-1747173600@goodrichvillagehall.co.uk
SUMMARY:Tango
DESCRIPTION:
URL:https://goodrichvillagehall.co.uk/event/tango/2025-05-13/
CATEGORIES:Godric Hall
END:VEVENT
BEGIN:VEVENT
DTSTART;TZID=Europe/London:20250514T090000
DTEND;TZID=Europe/London:20250514T100000
DTSTAMP:20260421T215006
CREATED:20250311T233952Z
LAST-MODIFIED:20250619T205448Z
UID:10000263-1747213200-1747216800@goodrichvillagehall.co.uk
SUMMARY:Yoga
DESCRIPTION:
URL:https://goodrichvillagehall.co.uk/event/yoga/2025-05-14/
CATEGORIES:Godric Hall
END:VEVENT
BEGIN:VEVENT
DTSTART;TZID=Europe/London:20250514T173000
DTEND;TZID=Europe/London:20250514T183000
DTSTAMP:20260421T215006
CREATED:20250311T233951Z
LAST-MODIFIED:20250818T180653Z
UID:10000282-1747243800-1747247400@goodrichvillagehall.co.uk
SUMMARY:Pilates
DESCRIPTION:
URL:https://goodrichvillagehall.co.uk/event/pilates-3/2025-05-14/
CATEGORIES:Godric Hall
END:VEVENT
BEGIN:VEVENT
DTSTART;TZID=Europe/London:20250514T184500
DTEND;TZID=Europe/London:20250514T194500
DTSTAMP:20260421T215006
CREATED:20250311T233951Z
LAST-MODIFIED:20250818T175857Z
UID:10000299-1747248300-1747251900@goodrichvillagehall.co.uk
SUMMARY:Pilates
DESCRIPTION:
URL:https://goodrichvillagehall.co.uk/event/pilates-4/2025-05-14/
CATEGORIES:Godric Hall
END:VEVENT
BEGIN:VEVENT
DTSTART;TZID=Europe/London:20250515T091500
DTEND;TZID=Europe/London:20250515T101500
DTSTAMP:20260421T215006
CREATED:20250311T233951Z
LAST-MODIFIED:20250818T180134Z
UID:10000335-1747300500-1747304100@goodrichvillagehall.co.uk
SUMMARY:Pilates
DESCRIPTION:
URL:https://goodrichvillagehall.co.uk/event/pilates-5-2/2025-05-15/
CATEGORIES:Godric Hall
END:VEVENT
BEGIN:VEVENT
DTSTART;TZID=Europe/London:20250515T103000
DTEND;TZID=Europe/London:20250515T113000
DTSTAMP:20260421T215006
CREATED:20250311T233951Z
LAST-MODIFIED:20250619T211414Z
UID:10000378-1747305000-1747308600@goodrichvillagehall.co.uk
SUMMARY:Pilates
DESCRIPTION:
URL:https://goodrichvillagehall.co.uk/event/pilates-6/2025-05-15/
CATEGORIES:Godric Hall
END:VEVENT
END:VCALENDAR