BEGIN:VCALENDAR
VERSION:2.0
PRODID:-//Goodrich Village Hall - ECPv6.15.17//NONSGML v1.0//EN
CALSCALE:GREGORIAN
METHOD:PUBLISH
X-ORIGINAL-URL:https://goodrichvillagehall.co.uk
X-WR-CALDESC:Events for Goodrich Village Hall
REFRESH-INTERVAL;VALUE=DURATION:PT1H
X-Robots-Tag:noindex
X-PUBLISHED-TTL:PT1H
BEGIN:VTIMEZONE
TZID:Europe/London
BEGIN:DAYLIGHT
TZOFFSETFROM:+0000
TZOFFSETTO:+0100
TZNAME:BST
DTSTART:20240331T010000
END:DAYLIGHT
BEGIN:STANDARD
TZOFFSETFROM:+0100
TZOFFSETTO:+0000
TZNAME:GMT
DTSTART:20241027T010000
END:STANDARD
BEGIN:DAYLIGHT
TZOFFSETFROM:+0000
TZOFFSETTO:+0100
TZNAME:BST
DTSTART:20250330T010000
END:DAYLIGHT
BEGIN:STANDARD
TZOFFSETFROM:+0100
TZOFFSETTO:+0000
TZNAME:GMT
DTSTART:20251026T010000
END:STANDARD
BEGIN:DAYLIGHT
TZOFFSETFROM:+0000
TZOFFSETTO:+0100
TZNAME:BST
DTSTART:20260329T010000
END:DAYLIGHT
BEGIN:STANDARD
TZOFFSETFROM:+0100
TZOFFSETTO:+0000
TZNAME:GMT
DTSTART:20261025T010000
END:STANDARD
END:VTIMEZONE
BEGIN:VEVENT
DTSTART;TZID=Europe/London:20250601T173000
DTEND;TZID=Europe/London:20250601T193000
DTSTAMP:20260421T201846
CREATED:20250311T233951Z
LAST-MODIFIED:20250311T233951Z
UID:10000479-1748799000-1748806200@goodrichvillagehall.co.uk
SUMMARY:Family Table Tennis
DESCRIPTION:
URL:https://goodrichvillagehall.co.uk/event/family-table-tennis/2025-06-01/
CATEGORIES:Godric Hall
END:VEVENT
BEGIN:VEVENT
DTSTART;TZID=Europe/London:20250602T093000
DTEND;TZID=Europe/London:20250602T120000
DTSTAMP:20260421T201846
CREATED:20250311T233952Z
LAST-MODIFIED:20251203T223337Z
UID:10000016-1748856600-1748865600@goodrichvillagehall.co.uk
SUMMARY:Table Tennis
DESCRIPTION:
URL:https://goodrichvillagehall.co.uk/event/table-tennis/2025-06-02/
CATEGORIES:Godric Hall
END:VEVENT
BEGIN:VEVENT
DTSTART;TZID=Europe/London:20250602T193000
DTEND;TZID=Europe/London:20250602T213000
DTSTAMP:20260421T201846
CREATED:20250311T233952Z
LAST-MODIFIED:20250311T233952Z
UID:10000120-1748892600-1748899800@goodrichvillagehall.co.uk
SUMMARY:Roaring Megs (community choir)
DESCRIPTION:
URL:https://goodrichvillagehall.co.uk/event/roaring-megs-community-choir-3/2025-06-02/
CATEGORIES:Godric Hall
END:VEVENT
BEGIN:VEVENT
DTSTART;TZID=Europe/London:20250603T091500
DTEND;TZID=Europe/London:20250603T101500
DTSTAMP:20260421T201847
CREATED:20250311T233952Z
LAST-MODIFIED:20250619T210942Z
UID:10000141-1748942100-1748945700@goodrichvillagehall.co.uk
SUMMARY:Pilates
DESCRIPTION:
URL:https://goodrichvillagehall.co.uk/event/pilates/2025-06-03/
CATEGORIES:Godric Hall
END:VEVENT
BEGIN:VEVENT
DTSTART;TZID=Europe/London:20250603T103000
DTEND;TZID=Europe/London:20250603T113000
DTSTAMP:20260421T201847
CREATED:20250311T233952Z
LAST-MODIFIED:20250807T112209Z
UID:10000178-1748946600-1748950200@goodrichvillagehall.co.uk
SUMMARY:Pilates
DESCRIPTION:
URL:https://goodrichvillagehall.co.uk/event/pilates-2/2025-06-03/
CATEGORIES:Godric Hall
END:VEVENT
BEGIN:VEVENT
DTSTART;TZID=Europe/London:20250603T190000
DTEND;TZID=Europe/London:20250603T220000
DTSTAMP:20260421T201847
CREATED:20250311T233952Z
LAST-MODIFIED:20250908T125217Z
UID:10000197-1748977200-1748988000@goodrichvillagehall.co.uk
SUMMARY:Tango
DESCRIPTION:
URL:https://goodrichvillagehall.co.uk/event/tango/2025-06-03/
CATEGORIES:Godric Hall
END:VEVENT
BEGIN:VEVENT
DTSTART;TZID=Europe/London:20250604T173000
DTEND;TZID=Europe/London:20250604T183000
DTSTAMP:20260421T201847
CREATED:20250311T233951Z
LAST-MODIFIED:20250818T180653Z
UID:10000285-1749058200-1749061800@goodrichvillagehall.co.uk
SUMMARY:Pilates
DESCRIPTION:
URL:https://goodrichvillagehall.co.uk/event/pilates-3/2025-06-04/
CATEGORIES:Godric Hall
END:VEVENT
BEGIN:VEVENT
DTSTART;TZID=Europe/London:20250604T184500
DTEND;TZID=Europe/London:20250604T194500
DTSTAMP:20260421T201847
CREATED:20250311T233951Z
LAST-MODIFIED:20250818T175857Z
UID:10000302-1749062700-1749066300@goodrichvillagehall.co.uk
SUMMARY:Pilates
DESCRIPTION:
URL:https://goodrichvillagehall.co.uk/event/pilates-4/2025-06-04/
CATEGORIES:Godric Hall
END:VEVENT
BEGIN:VEVENT
DTSTART;TZID=Europe/London:20250605T091500
DTEND;TZID=Europe/London:20250605T101500
DTSTAMP:20260421T201847
CREATED:20250311T233951Z
LAST-MODIFIED:20250818T180134Z
UID:10000338-1749114900-1749118500@goodrichvillagehall.co.uk
SUMMARY:Pilates
DESCRIPTION:
URL:https://goodrichvillagehall.co.uk/event/pilates-5-2/2025-06-05/
CATEGORIES:Godric Hall
END:VEVENT
BEGIN:VEVENT
DTSTART;TZID=Europe/London:20250605T103000
DTEND;TZID=Europe/London:20250605T113000
DTSTAMP:20260421T201847
CREATED:20250311T233951Z
LAST-MODIFIED:20250619T211414Z
UID:10000381-1749119400-1749123000@goodrichvillagehall.co.uk
SUMMARY:Pilates
DESCRIPTION:
URL:https://goodrichvillagehall.co.uk/event/pilates-6/2025-06-05/
CATEGORIES:Godric Hall
END:VEVENT
BEGIN:VEVENT
DTSTART;TZID=Europe/London:20250605T190000
DTEND;TZID=Europe/London:20250605T230000
DTSTAMP:20260421T201847
CREATED:20250311T233951Z
LAST-MODIFIED:20250619T212623Z
UID:10000397-1749150000-1749164400@goodrichvillagehall.co.uk
SUMMARY:Table Tennis
DESCRIPTION:
URL:https://goodrichvillagehall.co.uk/event/table-tennis-3/2025-06-05/
CATEGORIES:Godric Hall
END:VEVENT
BEGIN:VEVENT
DTSTART;TZID=Europe/London:20250605T193000
DTEND;TZID=Europe/London:20250605T193000
DTSTAMP:20260421T201847
CREATED:20250311T233950Z
LAST-MODIFIED:20250904T170941Z
UID:10000522-1749151800-1749151800@goodrichvillagehall.co.uk
SUMMARY:Goodrich & Welsh Bicknor Parish Council
DESCRIPTION:
URL:https://goodrichvillagehall.co.uk/event/goodrich-welsh-bicknor-parish-council/2025-06-05/
CATEGORIES:Committee Room
END:VEVENT
BEGIN:VEVENT
DTSTART;TZID=Europe/London:20250606T113000
DTEND;TZID=Europe/London:20250606T123000
DTSTAMP:20260421T201847
CREATED:20250311T233951Z
LAST-MODIFIED:20250619T205542Z
UID:10000439-1749209400-1749213000@goodrichvillagehall.co.uk
SUMMARY:Yoga
DESCRIPTION:
URL:https://goodrichvillagehall.co.uk/event/yoga-2/2025-06-06/
CATEGORIES:Godric Hall
END:VEVENT
BEGIN:VEVENT
DTSTART;TZID=Europe/London:20250607T080000
DTEND;TZID=Europe/London:20250607T170000
DTSTAMP:20260421T201847
CREATED:20250619T205223Z
LAST-MODIFIED:20250619T205223Z
UID:10000537-1749283200-1749315600@goodrichvillagehall.co.uk
SUMMARY:Hall Maintenance
DESCRIPTION:
URL:https://goodrichvillagehall.co.uk/event/hall-maintenance/
CATEGORIES:Whole Building
END:VEVENT
BEGIN:VEVENT
DTSTART;TZID=Europe/London:20250608T173000
DTEND;TZID=Europe/London:20250608T193000
DTSTAMP:20260421T201847
CREATED:20250311T233951Z
LAST-MODIFIED:20250311T233951Z
UID:10000480-1749403800-1749411000@goodrichvillagehall.co.uk
SUMMARY:Family Table Tennis
DESCRIPTION:
URL:https://goodrichvillagehall.co.uk/event/family-table-tennis/2025-06-08/
CATEGORIES:Godric Hall
END:VEVENT
BEGIN:VEVENT
DTSTART;TZID=Europe/London:20250609T093000
DTEND;TZID=Europe/London:20250609T120000
DTSTAMP:20260421T201847
CREATED:20250311T233952Z
LAST-MODIFIED:20251203T223337Z
UID:10000017-1749461400-1749470400@goodrichvillagehall.co.uk
SUMMARY:Table Tennis
DESCRIPTION:
URL:https://goodrichvillagehall.co.uk/event/table-tennis/2025-06-09/
CATEGORIES:Godric Hall
END:VEVENT
BEGIN:VEVENT
DTSTART;TZID=Europe/London:20250609T193000
DTEND;TZID=Europe/London:20250609T213000
DTSTAMP:20260421T201847
CREATED:20250311T233952Z
LAST-MODIFIED:20250311T233952Z
UID:10000121-1749497400-1749504600@goodrichvillagehall.co.uk
SUMMARY:Roaring Megs (community choir)
DESCRIPTION:
URL:https://goodrichvillagehall.co.uk/event/roaring-megs-community-choir-3/2025-06-09/
CATEGORIES:Godric Hall
END:VEVENT
BEGIN:VEVENT
DTSTART;TZID=Europe/London:20250610T091500
DTEND;TZID=Europe/London:20250610T101500
DTSTAMP:20260421T201847
CREATED:20250311T233952Z
LAST-MODIFIED:20250619T210942Z
UID:10000142-1749546900-1749550500@goodrichvillagehall.co.uk
SUMMARY:Pilates
DESCRIPTION:
URL:https://goodrichvillagehall.co.uk/event/pilates/2025-06-10/
CATEGORIES:Godric Hall
END:VEVENT
BEGIN:VEVENT
DTSTART;TZID=Europe/London:20250610T103000
DTEND;TZID=Europe/London:20250610T113000
DTSTAMP:20260421T201847
CREATED:20250311T233952Z
LAST-MODIFIED:20250807T112209Z
UID:10000179-1749551400-1749555000@goodrichvillagehall.co.uk
SUMMARY:Pilates
DESCRIPTION:
URL:https://goodrichvillagehall.co.uk/event/pilates-2/2025-06-10/
CATEGORIES:Godric Hall
END:VEVENT
BEGIN:VEVENT
DTSTART;TZID=Europe/London:20250610T190000
DTEND;TZID=Europe/London:20250610T220000
DTSTAMP:20260421T201847
CREATED:20250311T233952Z
LAST-MODIFIED:20250908T125217Z
UID:10000198-1749582000-1749592800@goodrichvillagehall.co.uk
SUMMARY:Tango
DESCRIPTION:
URL:https://goodrichvillagehall.co.uk/event/tango/2025-06-10/
CATEGORIES:Godric Hall
END:VEVENT
BEGIN:VEVENT
DTSTART;TZID=Europe/London:20250611T173000
DTEND;TZID=Europe/London:20250611T183000
DTSTAMP:20260421T201847
CREATED:20250311T233951Z
LAST-MODIFIED:20250818T180653Z
UID:10000286-1749663000-1749666600@goodrichvillagehall.co.uk
SUMMARY:Pilates
DESCRIPTION:
URL:https://goodrichvillagehall.co.uk/event/pilates-3/2025-06-11/
CATEGORIES:Godric Hall
END:VEVENT
BEGIN:VEVENT
DTSTART;TZID=Europe/London:20250611T184500
DTEND;TZID=Europe/London:20250611T194500
DTSTAMP:20260421T201847
CREATED:20250311T233951Z
LAST-MODIFIED:20250818T175857Z
UID:10000303-1749667500-1749671100@goodrichvillagehall.co.uk
SUMMARY:Pilates
DESCRIPTION:
URL:https://goodrichvillagehall.co.uk/event/pilates-4/2025-06-11/
CATEGORIES:Godric Hall
END:VEVENT
BEGIN:VEVENT
DTSTART;TZID=Europe/London:20250612T091500
DTEND;TZID=Europe/London:20250612T101500
DTSTAMP:20260421T201847
CREATED:20250311T233951Z
LAST-MODIFIED:20250818T180134Z
UID:10000339-1749719700-1749723300@goodrichvillagehall.co.uk
SUMMARY:Pilates
DESCRIPTION:
URL:https://goodrichvillagehall.co.uk/event/pilates-5-2/2025-06-12/
CATEGORIES:Godric Hall
END:VEVENT
BEGIN:VEVENT
DTSTART;TZID=Europe/London:20250612T103000
DTEND;TZID=Europe/London:20250612T113000
DTSTAMP:20260421T201847
CREATED:20250311T233951Z
LAST-MODIFIED:20250619T211414Z
UID:10000382-1749724200-1749727800@goodrichvillagehall.co.uk
SUMMARY:Pilates
DESCRIPTION:
URL:https://goodrichvillagehall.co.uk/event/pilates-6/2025-06-12/
CATEGORIES:Godric Hall
END:VEVENT
BEGIN:VEVENT
DTSTART;TZID=Europe/London:20250612T190000
DTEND;TZID=Europe/London:20250612T230000
DTSTAMP:20260421T201847
CREATED:20250311T233951Z
LAST-MODIFIED:20250619T212623Z
UID:10000398-1749754800-1749769200@goodrichvillagehall.co.uk
SUMMARY:Table Tennis
DESCRIPTION:
URL:https://goodrichvillagehall.co.uk/event/table-tennis-3/2025-06-12/
CATEGORIES:Godric Hall
END:VEVENT
BEGIN:VEVENT
DTSTART;TZID=Europe/London:20250612T191500
DTEND;TZID=Europe/London:20250612T211500
DTSTAMP:20260421T201847
CREATED:20250619T205338Z
LAST-MODIFIED:20250619T205338Z
UID:10000538-1749755700-1749762900@goodrichvillagehall.co.uk
SUMMARY:Michael Bracebridge
DESCRIPTION:
URL:https://goodrichvillagehall.co.uk/event/michael-bracebridge/
CATEGORIES:Committee Room
END:VEVENT
BEGIN:VEVENT
DTSTART;TZID=Europe/London:20250614T100000
DTEND;TZID=Europe/London:20250614T110000
DTSTAMP:20260421T201847
CREATED:20250311T233950Z
LAST-MODIFIED:20250902T203631Z
UID:10000459-1749895200-1749898800@goodrichvillagehall.co.uk
SUMMARY:Restorative Yoga
DESCRIPTION:
URL:https://goodrichvillagehall.co.uk/event/restorative-yoga/2025-06-14/
CATEGORIES:Godric Hall
END:VEVENT
BEGIN:VEVENT
DTSTART;TZID=Europe/London:20250615T173000
DTEND;TZID=Europe/London:20250615T193000
DTSTAMP:20260421T201847
CREATED:20250311T233951Z
LAST-MODIFIED:20250311T233951Z
UID:10000481-1750008600-1750015800@goodrichvillagehall.co.uk
SUMMARY:Family Table Tennis
DESCRIPTION:
URL:https://goodrichvillagehall.co.uk/event/family-table-tennis/2025-06-15/
CATEGORIES:Godric Hall
END:VEVENT
BEGIN:VEVENT
DTSTART;TZID=Europe/London:20250616T093000
DTEND;TZID=Europe/London:20250616T120000
DTSTAMP:20260421T201847
CREATED:20250311T233952Z
LAST-MODIFIED:20251203T223337Z
UID:10000018-1750066200-1750075200@goodrichvillagehall.co.uk
SUMMARY:Table Tennis
DESCRIPTION:
URL:https://goodrichvillagehall.co.uk/event/table-tennis/2025-06-16/
CATEGORIES:Godric Hall
END:VEVENT
BEGIN:VEVENT
DTSTART;TZID=Europe/London:20250616T193000
DTEND;TZID=Europe/London:20250616T213000
DTSTAMP:20260421T201847
CREATED:20250311T233952Z
LAST-MODIFIED:20250311T233952Z
UID:10000122-1750102200-1750109400@goodrichvillagehall.co.uk
SUMMARY:Roaring Megs (community choir)
DESCRIPTION:
URL:https://goodrichvillagehall.co.uk/event/roaring-megs-community-choir-3/2025-06-16/
CATEGORIES:Godric Hall
END:VEVENT
END:VCALENDAR