BEGIN:VCALENDAR
VERSION:2.0
PRODID:-//Goodrich Village Hall - ECPv6.15.17//NONSGML v1.0//EN
CALSCALE:GREGORIAN
METHOD:PUBLISH
X-ORIGINAL-URL:https://goodrichvillagehall.co.uk
X-WR-CALDESC:Events for Goodrich Village Hall
REFRESH-INTERVAL;VALUE=DURATION:PT1H
X-Robots-Tag:noindex
X-PUBLISHED-TTL:PT1H
BEGIN:VTIMEZONE
TZID:Europe/London
BEGIN:DAYLIGHT
TZOFFSETFROM:+0000
TZOFFSETTO:+0100
TZNAME:BST
DTSTART:20240331T010000
END:DAYLIGHT
BEGIN:STANDARD
TZOFFSETFROM:+0100
TZOFFSETTO:+0000
TZNAME:GMT
DTSTART:20241027T010000
END:STANDARD
BEGIN:DAYLIGHT
TZOFFSETFROM:+0000
TZOFFSETTO:+0100
TZNAME:BST
DTSTART:20250330T010000
END:DAYLIGHT
BEGIN:STANDARD
TZOFFSETFROM:+0100
TZOFFSETTO:+0000
TZNAME:GMT
DTSTART:20251026T010000
END:STANDARD
BEGIN:DAYLIGHT
TZOFFSETFROM:+0000
TZOFFSETTO:+0100
TZNAME:BST
DTSTART:20260329T010000
END:DAYLIGHT
BEGIN:STANDARD
TZOFFSETFROM:+0100
TZOFFSETTO:+0000
TZNAME:GMT
DTSTART:20261025T010000
END:STANDARD
END:VTIMEZONE
BEGIN:VEVENT
DTSTART;TZID=Europe/London:20250901T093000
DTEND;TZID=Europe/London:20250901T120000
DTSTAMP:20260421T151152
CREATED:20250311T233952Z
LAST-MODIFIED:20251203T223337Z
UID:10000029-1756719000-1756728000@goodrichvillagehall.co.uk
SUMMARY:Table Tennis
DESCRIPTION:
URL:https://goodrichvillagehall.co.uk/event/table-tennis/2025-09-01/
CATEGORIES:Godric Hall
END:VEVENT
BEGIN:VEVENT
DTSTART;TZID=Europe/London:20250901T140000
DTEND;TZID=Europe/London:20250901T150000
DTSTAMP:20260421T151152
CREATED:20250827T193011Z
LAST-MODIFIED:20251104T203854Z
UID:10000953-1756735200-1756738800@goodrichvillagehall.co.uk
SUMMARY:Private event (YP)
DESCRIPTION:
URL:https://goodrichvillagehall.co.uk/event/private-event-yp-8/2025-09-01/
CATEGORIES:Godric Hall
END:VEVENT
BEGIN:VEVENT
DTSTART;TZID=Europe/London:20250901T193000
DTEND;TZID=Europe/London:20250901T213000
DTSTAMP:20260421T151152
CREATED:20250827T193419Z
LAST-MODIFIED:20250827T193419Z
UID:10001010-1756755000-1756762200@goodrichvillagehall.co.uk
SUMMARY:Roaring Megs Community Choir
DESCRIPTION:
URL:https://goodrichvillagehall.co.uk/event/roaring-megs-community-choir-4/
CATEGORIES:Godric Hall
END:VEVENT
BEGIN:VEVENT
DTSTART;TZID=Europe/London:20250902T183000
DTEND;TZID=Europe/London:20250902T191500
DTSTAMP:20260421T151152
CREATED:20250830T153838Z
LAST-MODIFIED:20250908T183451Z
UID:10001013-1756837800-1756840500@goodrichvillagehall.co.uk
SUMMARY:Learn to Dance  the Argentine Tango - beginners' lessons
DESCRIPTION:Starts 2nd September 2025
URL:https://goodrichvillagehall.co.uk/event/learn-to-dance-the-argentine-tango-beginners-lessons/2025-09-02/
CATEGORIES:Godric Hall
END:VEVENT
BEGIN:VEVENT
DTSTART;TZID=Europe/London:20250902T190000
DTEND;TZID=Europe/London:20250902T220000
DTSTAMP:20260421T151152
CREATED:20250311T233952Z
LAST-MODIFIED:20250908T125217Z
UID:10000895-1756839600-1756850400@goodrichvillagehall.co.uk
SUMMARY:Tango
DESCRIPTION:
URL:https://goodrichvillagehall.co.uk/event/tango/2025-09-02/
CATEGORIES:Godric Hall
END:VEVENT
BEGIN:VEVENT
DTSTART;TZID=Europe/London:20250902T193000
DTEND;TZID=Europe/London:20250902T193000
DTSTAMP:20260421T151152
CREATED:20250311T233739Z
LAST-MODIFIED:20250311T233951Z
UID:10000520-1756841400-1756841400@goodrichvillagehall.co.uk
SUMMARY:GVHT
DESCRIPTION:
URL:https://goodrichvillagehall.co.uk/event/gvht/2025-09-02/
CATEGORIES:Committee Room
END:VEVENT
BEGIN:VEVENT
DTSTART;TZID=Europe/London:20250904T190000
DTEND;TZID=Europe/London:20250904T230000
DTSTAMP:20260421T151152
CREATED:20250311T233951Z
LAST-MODIFIED:20250619T212623Z
UID:10000410-1757012400-1757026800@goodrichvillagehall.co.uk
SUMMARY:Table Tennis
DESCRIPTION:
URL:https://goodrichvillagehall.co.uk/event/table-tennis-3/2025-09-04/
CATEGORIES:Godric Hall
END:VEVENT
BEGIN:VEVENT
DTSTART;TZID=Europe/London:20250904T193000
DTEND;TZID=Europe/London:20250904T193000
DTSTAMP:20260421T151152
CREATED:20250311T233950Z
LAST-MODIFIED:20250904T170941Z
UID:10000528-1757014200-1757014200@goodrichvillagehall.co.uk
SUMMARY:Goodrich & Welsh Bicknor Parish Council
DESCRIPTION:
URL:https://goodrichvillagehall.co.uk/event/goodrich-welsh-bicknor-parish-council/2025-09-04/
CATEGORIES:Committee Room
END:VEVENT
BEGIN:VEVENT
DTSTART;TZID=Europe/London:20250906T100000
DTEND;TZID=Europe/London:20250906T130000
DTSTAMP:20260421T151152
CREATED:20250902T203335Z
LAST-MODIFIED:20250902T203335Z
UID:10001076-1757152800-1757163600@goodrichvillagehall.co.uk
SUMMARY:Restorative Yoga
DESCRIPTION:
URL:https://goodrichvillagehall.co.uk/event/restorative-yoga-2/
CATEGORIES:Godric Hall
END:VEVENT
BEGIN:VEVENT
DTSTART;TZID=Europe/London:20250907T100000
DTEND;TZID=Europe/London:20250907T140000
DTSTAMP:20260421T151152
CREATED:20250831T180733Z
LAST-MODIFIED:20250831T180733Z
UID:10001072-1757239200-1757253600@goodrichvillagehall.co.uk
SUMMARY:Children's Party  (HC)
DESCRIPTION:
URL:https://goodrichvillagehall.co.uk/event/childrens-party-hc/
CATEGORIES:Godric Hall
END:VEVENT
BEGIN:VEVENT
DTSTART;TZID=Europe/London:20250907T173000
DTEND;TZID=Europe/London:20250907T193000
DTSTAMP:20260421T151152
CREATED:20250311T233951Z
LAST-MODIFIED:20250311T233951Z
UID:10000493-1757266200-1757273400@goodrichvillagehall.co.uk
SUMMARY:Family Table Tennis
DESCRIPTION:
URL:https://goodrichvillagehall.co.uk/event/family-table-tennis/2025-09-07/
CATEGORIES:Godric Hall
END:VEVENT
BEGIN:VEVENT
DTSTART;TZID=Europe/London:20250908T093000
DTEND;TZID=Europe/London:20250908T120000
DTSTAMP:20260421T151152
CREATED:20250311T233952Z
LAST-MODIFIED:20251203T223337Z
UID:10000030-1757323800-1757332800@goodrichvillagehall.co.uk
SUMMARY:Table Tennis
DESCRIPTION:
URL:https://goodrichvillagehall.co.uk/event/table-tennis/2025-09-08/
CATEGORIES:Godric Hall
END:VEVENT
BEGIN:VEVENT
DTSTART;TZID=Europe/London:20250908T140000
DTEND;TZID=Europe/London:20250908T150000
DTSTAMP:20260421T151152
CREATED:20250827T193011Z
LAST-MODIFIED:20251104T203854Z
UID:10000954-1757340000-1757343600@goodrichvillagehall.co.uk
SUMMARY:Private event (YP)
DESCRIPTION:
URL:https://goodrichvillagehall.co.uk/event/private-event-yp-8/2025-09-08/
CATEGORIES:Godric Hall
END:VEVENT
BEGIN:VEVENT
DTSTART;TZID=Europe/London:20250908T193000
DTEND;TZID=Europe/London:20250908T213000
DTSTAMP:20260421T151152
CREATED:20250908T130609Z
LAST-MODIFIED:20250908T130609Z
UID:10001096-1757359800-1757367000@goodrichvillagehall.co.uk
SUMMARY:Roaring Megs Community Choir
DESCRIPTION:
URL:https://goodrichvillagehall.co.uk/event/roaring-megs-community-choir-5/
CATEGORIES:Godric Hall
END:VEVENT
BEGIN:VEVENT
DTSTART;TZID=Europe/London:20250909T091500
DTEND;TZID=Europe/London:20250909T101500
DTSTAMP:20260421T151152
CREATED:20250818T171534Z
LAST-MODIFIED:20251103T195610Z
UID:10000708-1757409300-1757412900@goodrichvillagehall.co.uk
SUMMARY:Pilates
DESCRIPTION:
URL:https://goodrichvillagehall.co.uk/event/pilates-8/2025-09-09/
CATEGORIES:Godric Hall
END:VEVENT
BEGIN:VEVENT
DTSTART;TZID=Europe/London:20250909T103000
DTEND;TZID=Europe/London:20250909T113000
DTSTAMP:20260421T151152
CREATED:20250818T170532Z
LAST-MODIFIED:20251103T201110Z
UID:10000694-1757413800-1757417400@goodrichvillagehall.co.uk
SUMMARY:Pilates
DESCRIPTION:
URL:https://goodrichvillagehall.co.uk/event/pilates-5/2025-09-09/
CATEGORIES:Godric Hall
END:VEVENT
BEGIN:VEVENT
DTSTART;TZID=Europe/London:20250909T183000
DTEND;TZID=Europe/London:20250909T191500
DTSTAMP:20260421T151152
CREATED:20250830T153838Z
LAST-MODIFIED:20250908T183451Z
UID:10001014-1757442600-1757445300@goodrichvillagehall.co.uk
SUMMARY:Learn to Dance  the Argentine Tango - beginners' lessons
DESCRIPTION:Starts 2nd September 2025
URL:https://goodrichvillagehall.co.uk/event/learn-to-dance-the-argentine-tango-beginners-lessons/2025-09-09/
CATEGORIES:Godric Hall
END:VEVENT
BEGIN:VEVENT
DTSTART;TZID=Europe/London:20250909T190000
DTEND;TZID=Europe/London:20250909T220000
DTSTAMP:20260421T151152
CREATED:20250311T233952Z
LAST-MODIFIED:20250908T125217Z
UID:10001081-1757444400-1757455200@goodrichvillagehall.co.uk
SUMMARY:Tango
DESCRIPTION:
URL:https://goodrichvillagehall.co.uk/event/tango/2025-09-09/
CATEGORIES:Godric Hall
END:VEVENT
BEGIN:VEVENT
DTSTART;TZID=Europe/London:20250910T090000
DTEND;TZID=Europe/London:20250910T100000
DTSTAMP:20260421T151152
CREATED:20251204T214154Z
LAST-MODIFIED:20251204T214401Z
UID:10001418-1757494800-1757498400@goodrichvillagehall.co.uk
SUMMARY:Yoga
DESCRIPTION:
URL:https://goodrichvillagehall.co.uk/event/yoga-3/2025-09-10/
CATEGORIES:Godric Hall
END:VEVENT
BEGIN:VEVENT
DTSTART;TZID=Europe/London:20250910T110000
DTEND;TZID=Europe/London:20250910T120000
DTSTAMP:20260421T151152
CREATED:20251204T175237Z
LAST-MODIFIED:20251204T181534Z
UID:10001351-1757502000-1757505600@goodrichvillagehall.co.uk
SUMMARY:Chair Yoga
DESCRIPTION:
URL:https://goodrichvillagehall.co.uk/event/chair-yoga-2/2025-09-10/
CATEGORIES:Godric Hall
END:VEVENT
BEGIN:VEVENT
DTSTART;TZID=Europe/London:20250910T173000
DTEND;TZID=Europe/London:20250910T183000
DTSTAMP:20260421T151152
CREATED:20250818T173807Z
LAST-MODIFIED:20251103T195916Z
UID:10000721-1757525400-1757529000@goodrichvillagehall.co.uk
SUMMARY:Pilates
DESCRIPTION:
URL:https://goodrichvillagehall.co.uk/event/pilates-9/2025-09-10/
CATEGORIES:Godric Hall
END:VEVENT
BEGIN:VEVENT
DTSTART;TZID=Europe/London:20250910T184500
DTEND;TZID=Europe/London:20250910T194500
DTSTAMP:20260421T151152
CREATED:20250818T174129Z
LAST-MODIFIED:20251103T200543Z
UID:10000734-1757529900-1757533500@goodrichvillagehall.co.uk
SUMMARY:Pilates
DESCRIPTION:Pilates
URL:https://goodrichvillagehall.co.uk/event/pilates-10/2025-09-10/
CATEGORIES:Godric Hall
END:VEVENT
BEGIN:VEVENT
DTSTART;TZID=Europe/London:20250911T080000
DTEND;TZID=Europe/London:20250911T170000
DTSTAMP:20260421T151152
CREATED:20250818T174448Z
LAST-MODIFIED:20251118T202846Z
UID:10001113-1757577600-1757610000@goodrichvillagehall.co.uk
SUMMARY:Pilates
DESCRIPTION:
URL:https://goodrichvillagehall.co.uk/event/pilates-12/2025-09-11/1/
CATEGORIES:Godric Hall
END:VEVENT
BEGIN:VEVENT
DTSTART;TZID=Europe/London:20250911T091500
DTEND;TZID=Europe/London:20250911T101500
DTSTAMP:20260421T151152
CREATED:20250818T174256Z
LAST-MODIFIED:20251103T200244Z
UID:10000747-1757582100-1757585700@goodrichvillagehall.co.uk
SUMMARY:Pilates
DESCRIPTION:
URL:https://goodrichvillagehall.co.uk/event/pilates-11/2025-09-11/
CATEGORIES:Godric Hall
END:VEVENT
BEGIN:VEVENT
DTSTART;TZID=Europe/London:20250911T103000
DTEND;TZID=Europe/London:20250911T113000
DTSTAMP:20260421T151152
CREATED:20250818T174448Z
LAST-MODIFIED:20251118T202846Z
UID:10000760-1757586600-1757590200@goodrichvillagehall.co.uk
SUMMARY:Pilates
DESCRIPTION:
URL:https://goodrichvillagehall.co.uk/event/pilates-12/2025-09-11/2/
CATEGORIES:Godric Hall
END:VEVENT
BEGIN:VEVENT
DTSTART;TZID=Europe/London:20250911T190000
DTEND;TZID=Europe/London:20250911T230000
DTSTAMP:20260421T151152
CREATED:20250311T233951Z
LAST-MODIFIED:20250619T212623Z
UID:10000411-1757617200-1757631600@goodrichvillagehall.co.uk
SUMMARY:Table Tennis
DESCRIPTION:
URL:https://goodrichvillagehall.co.uk/event/table-tennis-3/2025-09-11/
CATEGORIES:Godric Hall
END:VEVENT
BEGIN:VEVENT
DTSTART;TZID=Europe/London:20250913T113000
DTEND;TZID=Europe/London:20250913T153000
DTSTAMP:20260421T151152
CREATED:20250908T130848Z
LAST-MODIFIED:20250908T130848Z
UID:10001097-1757763000-1757777400@goodrichvillagehall.co.uk
SUMMARY:Private Event (BD)
DESCRIPTION:
URL:https://goodrichvillagehall.co.uk/event/private-event-bd/
CATEGORIES:Godric Hall
END:VEVENT
BEGIN:VEVENT
DTSTART;TZID=Europe/London:20250914T173000
DTEND;TZID=Europe/London:20250914T193000
DTSTAMP:20260421T151152
CREATED:20250311T233951Z
LAST-MODIFIED:20250311T233951Z
UID:10000494-1757871000-1757878200@goodrichvillagehall.co.uk
SUMMARY:Family Table Tennis
DESCRIPTION:
URL:https://goodrichvillagehall.co.uk/event/family-table-tennis/2025-09-14/
CATEGORIES:Godric Hall
END:VEVENT
BEGIN:VEVENT
DTSTART;TZID=Europe/London:20250915T093000
DTEND;TZID=Europe/London:20250915T120000
DTSTAMP:20260421T151152
CREATED:20250311T233952Z
LAST-MODIFIED:20251203T223337Z
UID:10000031-1757928600-1757937600@goodrichvillagehall.co.uk
SUMMARY:Table Tennis
DESCRIPTION:
URL:https://goodrichvillagehall.co.uk/event/table-tennis/2025-09-15/
CATEGORIES:Godric Hall
END:VEVENT
BEGIN:VEVENT
DTSTART;TZID=Europe/London:20250915T140000
DTEND;TZID=Europe/London:20250915T150000
DTSTAMP:20260421T151152
CREATED:20250827T193011Z
LAST-MODIFIED:20251104T203854Z
UID:10000955-1757944800-1757948400@goodrichvillagehall.co.uk
SUMMARY:Private event (YP)
DESCRIPTION:
URL:https://goodrichvillagehall.co.uk/event/private-event-yp-8/2025-09-15/
CATEGORIES:Godric Hall
END:VEVENT
END:VCALENDAR