BEGIN:VCALENDAR
VERSION:2.0
PRODID:-//Goodrich Village Hall - ECPv6.15.17//NONSGML v1.0//EN
CALSCALE:GREGORIAN
METHOD:PUBLISH
X-WR-CALNAME:Goodrich Village Hall
X-ORIGINAL-URL:https://goodrichvillagehall.co.uk
X-WR-CALDESC:Events for Goodrich Village Hall
REFRESH-INTERVAL;VALUE=DURATION:PT1H
X-Robots-Tag:noindex
X-PUBLISHED-TTL:PT1H
BEGIN:VTIMEZONE
TZID:Europe/London
BEGIN:DAYLIGHT
TZOFFSETFROM:+0000
TZOFFSETTO:+0100
TZNAME:BST
DTSTART:20240331T010000
END:DAYLIGHT
BEGIN:STANDARD
TZOFFSETFROM:+0100
TZOFFSETTO:+0000
TZNAME:GMT
DTSTART:20241027T010000
END:STANDARD
BEGIN:DAYLIGHT
TZOFFSETFROM:+0000
TZOFFSETTO:+0100
TZNAME:BST
DTSTART:20250330T010000
END:DAYLIGHT
BEGIN:STANDARD
TZOFFSETFROM:+0100
TZOFFSETTO:+0000
TZNAME:GMT
DTSTART:20251026T010000
END:STANDARD
BEGIN:DAYLIGHT
TZOFFSETFROM:+0000
TZOFFSETTO:+0100
TZNAME:BST
DTSTART:20260329T010000
END:DAYLIGHT
BEGIN:STANDARD
TZOFFSETFROM:+0100
TZOFFSETTO:+0000
TZNAME:GMT
DTSTART:20261025T010000
END:STANDARD
END:VTIMEZONE
BEGIN:VEVENT
DTSTART;TZID=Europe/London:20251001T090000
DTEND;TZID=Europe/London:20251001T100000
DTSTAMP:20260421T133200
CREATED:20251204T214154Z
LAST-MODIFIED:20251204T214401Z
UID:10001421-1759309200-1759312800@goodrichvillagehall.co.uk
SUMMARY:Yoga
DESCRIPTION:
URL:https://goodrichvillagehall.co.uk/event/yoga-3/2025-10-01/
CATEGORIES:Godric Hall
END:VEVENT
BEGIN:VEVENT
DTSTART;TZID=Europe/London:20251001T110000
DTEND;TZID=Europe/London:20251001T120000
DTSTAMP:20260421T133200
CREATED:20251204T175237Z
LAST-MODIFIED:20251204T181534Z
UID:10001354-1759316400-1759320000@goodrichvillagehall.co.uk
SUMMARY:Chair Yoga
DESCRIPTION:
URL:https://goodrichvillagehall.co.uk/event/chair-yoga-2/2025-10-01/
CATEGORIES:Godric Hall
END:VEVENT
BEGIN:VEVENT
DTSTART;TZID=Europe/London:20251001T173000
DTEND;TZID=Europe/London:20251001T183000
DTSTAMP:20260421T133200
CREATED:20250818T173807Z
LAST-MODIFIED:20251103T195916Z
UID:10000724-1759339800-1759343400@goodrichvillagehall.co.uk
SUMMARY:Pilates
DESCRIPTION:
URL:https://goodrichvillagehall.co.uk/event/pilates-9/2025-10-01/
CATEGORIES:Godric Hall
END:VEVENT
BEGIN:VEVENT
DTSTART;TZID=Europe/London:20251001T184500
DTEND;TZID=Europe/London:20251001T194500
DTSTAMP:20260421T133200
CREATED:20250818T174129Z
LAST-MODIFIED:20251103T200543Z
UID:10000737-1759344300-1759347900@goodrichvillagehall.co.uk
SUMMARY:Pilates
DESCRIPTION:Pilates
URL:https://goodrichvillagehall.co.uk/event/pilates-10/2025-10-01/
CATEGORIES:Godric Hall
END:VEVENT
BEGIN:VEVENT
DTSTART;TZID=Europe/London:20251002T091500
DTEND;TZID=Europe/London:20251002T101500
DTSTAMP:20260421T133200
CREATED:20250818T174256Z
LAST-MODIFIED:20251103T200244Z
UID:10000750-1759396500-1759400100@goodrichvillagehall.co.uk
SUMMARY:Pilates
DESCRIPTION:
URL:https://goodrichvillagehall.co.uk/event/pilates-11/2025-10-02/
CATEGORIES:Godric Hall
END:VEVENT
BEGIN:VEVENT
DTSTART;TZID=Europe/London:20251002T190000
DTEND;TZID=Europe/London:20251002T230000
DTSTAMP:20260421T133200
CREATED:20250311T233951Z
LAST-MODIFIED:20250619T212623Z
UID:10000414-1759431600-1759446000@goodrichvillagehall.co.uk
SUMMARY:Table Tennis
DESCRIPTION:
URL:https://goodrichvillagehall.co.uk/event/table-tennis-3/2025-10-02/
CATEGORIES:Godric Hall
END:VEVENT
BEGIN:VEVENT
DTSTART;TZID=Europe/London:20251002T193000
DTEND;TZID=Europe/London:20251002T193000
DTSTAMP:20260421T133200
CREATED:20250311T233950Z
LAST-MODIFIED:20250904T170941Z
UID:10000530-1759433400-1759433400@goodrichvillagehall.co.uk
SUMMARY:Goodrich & Welsh Bicknor Parish Council
DESCRIPTION:
URL:https://goodrichvillagehall.co.uk/event/goodrich-welsh-bicknor-parish-council/2025-10-02/
CATEGORIES:Committee Room
END:VEVENT
BEGIN:VEVENT
DTSTART;TZID=Europe/London:20251004T100000
DTEND;TZID=Europe/London:20251004T130000
DTSTAMP:20260421T133200
CREATED:20250311T233950Z
LAST-MODIFIED:20250902T203631Z
UID:10000651-1759572000-1759582800@goodrichvillagehall.co.uk
SUMMARY:Restorative Yoga
DESCRIPTION:
URL:https://goodrichvillagehall.co.uk/event/restorative-yoga/2025-10-04/
CATEGORIES:Godric Hall
END:VEVENT
BEGIN:VEVENT
DTSTART;TZID=Europe/London:20251005T173000
DTEND;TZID=Europe/London:20251005T193000
DTSTAMP:20260421T133200
CREATED:20250311T233951Z
LAST-MODIFIED:20250311T233951Z
UID:10000497-1759685400-1759692600@goodrichvillagehall.co.uk
SUMMARY:Family Table Tennis
DESCRIPTION:
URL:https://goodrichvillagehall.co.uk/event/family-table-tennis/2025-10-05/
CATEGORIES:Godric Hall
END:VEVENT
BEGIN:VEVENT
DTSTART;TZID=Europe/London:20251006T093000
DTEND;TZID=Europe/London:20251006T120000
DTSTAMP:20260421T133200
CREATED:20250311T233952Z
LAST-MODIFIED:20251203T223337Z
UID:10000034-1759743000-1759752000@goodrichvillagehall.co.uk
SUMMARY:Table Tennis
DESCRIPTION:
URL:https://goodrichvillagehall.co.uk/event/table-tennis/2025-10-06/
CATEGORIES:Godric Hall
END:VEVENT
BEGIN:VEVENT
DTSTART;TZID=Europe/London:20251006T193000
DTEND;TZID=Europe/London:20251006T213000
DTSTAMP:20260421T133200
CREATED:20250807T110324Z
LAST-MODIFIED:20250807T110324Z
UID:10000669-1759779000-1759786200@goodrichvillagehall.co.uk
SUMMARY:Roaring Megs Community Choir
DESCRIPTION:
URL:https://goodrichvillagehall.co.uk/event/roaring-megs-community-choir-2/2025-10-06/
CATEGORIES:Godric Hall
END:VEVENT
BEGIN:VEVENT
DTSTART;TZID=Europe/London:20251007T103000
DTEND;TZID=Europe/London:20251007T113000
DTSTAMP:20260421T133200
CREATED:20250818T170532Z
LAST-MODIFIED:20251103T201110Z
UID:10000698-1759833000-1759836600@goodrichvillagehall.co.uk
SUMMARY:Pilates
DESCRIPTION:
URL:https://goodrichvillagehall.co.uk/event/pilates-5/2025-10-07/
CATEGORIES:Godric Hall
END:VEVENT
BEGIN:VEVENT
DTSTART;TZID=Europe/London:20251007T190000
DTEND;TZID=Europe/London:20251007T220000
DTSTAMP:20260421T133200
CREATED:20250311T233952Z
LAST-MODIFIED:20250908T125217Z
UID:10001085-1759863600-1759874400@goodrichvillagehall.co.uk
SUMMARY:Tango
DESCRIPTION:
URL:https://goodrichvillagehall.co.uk/event/tango/2025-10-07/
CATEGORIES:Godric Hall
END:VEVENT
BEGIN:VEVENT
DTSTART;TZID=Europe/London:20251008T090000
DTEND;TZID=Europe/London:20251008T100000
DTSTAMP:20260421T133200
CREATED:20251204T214154Z
LAST-MODIFIED:20251204T214401Z
UID:10001422-1759914000-1759917600@goodrichvillagehall.co.uk
SUMMARY:Yoga
DESCRIPTION:
URL:https://goodrichvillagehall.co.uk/event/yoga-3/2025-10-08/
CATEGORIES:Godric Hall
END:VEVENT
BEGIN:VEVENT
DTSTART;TZID=Europe/London:20251008T110000
DTEND;TZID=Europe/London:20251008T120000
DTSTAMP:20260421T133200
CREATED:20251204T175237Z
LAST-MODIFIED:20251204T181534Z
UID:10001355-1759921200-1759924800@goodrichvillagehall.co.uk
SUMMARY:Chair Yoga
DESCRIPTION:
URL:https://goodrichvillagehall.co.uk/event/chair-yoga-2/2025-10-08/
CATEGORIES:Godric Hall
END:VEVENT
BEGIN:VEVENT
DTSTART;TZID=Europe/London:20251008T173000
DTEND;TZID=Europe/London:20251008T183000
DTSTAMP:20260421T133200
CREATED:20250818T173807Z
LAST-MODIFIED:20251103T195916Z
UID:10000725-1759944600-1759948200@goodrichvillagehall.co.uk
SUMMARY:Pilates
DESCRIPTION:
URL:https://goodrichvillagehall.co.uk/event/pilates-9/2025-10-08/
CATEGORIES:Godric Hall
END:VEVENT
BEGIN:VEVENT
DTSTART;TZID=Europe/London:20251008T184500
DTEND;TZID=Europe/London:20251008T194500
DTSTAMP:20260421T133200
CREATED:20250818T174129Z
LAST-MODIFIED:20251103T200543Z
UID:10000738-1759949100-1759952700@goodrichvillagehall.co.uk
SUMMARY:Pilates
DESCRIPTION:Pilates
URL:https://goodrichvillagehall.co.uk/event/pilates-10/2025-10-08/
CATEGORIES:Godric Hall
END:VEVENT
BEGIN:VEVENT
DTSTART;TZID=Europe/London:20251009T091500
DTEND;TZID=Europe/London:20251009T101500
DTSTAMP:20260421T133200
CREATED:20250818T174256Z
LAST-MODIFIED:20251103T200244Z
UID:10000751-1760001300-1760004900@goodrichvillagehall.co.uk
SUMMARY:Pilates
DESCRIPTION:
URL:https://goodrichvillagehall.co.uk/event/pilates-11/2025-10-09/
CATEGORIES:Godric Hall
END:VEVENT
BEGIN:VEVENT
DTSTART;TZID=Europe/London:20251009T190000
DTEND;TZID=Europe/London:20251009T230000
DTSTAMP:20260421T133201
CREATED:20250311T233951Z
LAST-MODIFIED:20250619T212623Z
UID:10000415-1760036400-1760050800@goodrichvillagehall.co.uk
SUMMARY:Table Tennis
DESCRIPTION:
URL:https://goodrichvillagehall.co.uk/event/table-tennis-3/2025-10-09/
CATEGORIES:Godric Hall
END:VEVENT
BEGIN:VEVENT
DTSTART;TZID=Europe/London:20251011T183000
DTEND;TZID=Europe/London:20251011T213000
DTSTAMP:20260421T133201
CREATED:20250920T205650Z
LAST-MODIFIED:20250920T205650Z
UID:10001100-1760207400-1760218200@goodrichvillagehall.co.uk
SUMMARY:Private event (WH)  tbc
DESCRIPTION:
URL:https://goodrichvillagehall.co.uk/event/private-event-wh-tbc/
CATEGORIES:Godric Hall
END:VEVENT
BEGIN:VEVENT
DTSTART;TZID=Europe/London:20251012T173000
DTEND;TZID=Europe/London:20251012T193000
DTSTAMP:20260421T133201
CREATED:20250311T233951Z
LAST-MODIFIED:20250311T233951Z
UID:10000498-1760290200-1760297400@goodrichvillagehall.co.uk
SUMMARY:Family Table Tennis
DESCRIPTION:
URL:https://goodrichvillagehall.co.uk/event/family-table-tennis/2025-10-12/
CATEGORIES:Godric Hall
END:VEVENT
BEGIN:VEVENT
DTSTART;TZID=Europe/London:20251013T093000
DTEND;TZID=Europe/London:20251013T120000
DTSTAMP:20260421T133201
CREATED:20250311T233952Z
LAST-MODIFIED:20251203T223337Z
UID:10000035-1760347800-1760356800@goodrichvillagehall.co.uk
SUMMARY:Table Tennis
DESCRIPTION:
URL:https://goodrichvillagehall.co.uk/event/table-tennis/2025-10-13/
CATEGORIES:Godric Hall
END:VEVENT
BEGIN:VEVENT
DTSTART;TZID=Europe/London:20251013T193000
DTEND;TZID=Europe/London:20251013T213000
DTSTAMP:20260421T133201
CREATED:20250807T110324Z
LAST-MODIFIED:20250807T110324Z
UID:10000670-1760383800-1760391000@goodrichvillagehall.co.uk
SUMMARY:Roaring Megs Community Choir
DESCRIPTION:
URL:https://goodrichvillagehall.co.uk/event/roaring-megs-community-choir-2/2025-10-13/
CATEGORIES:Godric Hall
END:VEVENT
BEGIN:VEVENT
DTSTART;TZID=Europe/London:20251014T103000
DTEND;TZID=Europe/London:20251014T113000
DTSTAMP:20260421T133201
CREATED:20250818T170532Z
LAST-MODIFIED:20251103T201110Z
UID:10000699-1760437800-1760441400@goodrichvillagehall.co.uk
SUMMARY:Pilates
DESCRIPTION:
URL:https://goodrichvillagehall.co.uk/event/pilates-5/2025-10-14/
CATEGORIES:Godric Hall
END:VEVENT
BEGIN:VEVENT
DTSTART;TZID=Europe/London:20251014T190000
DTEND;TZID=Europe/London:20251014T220000
DTSTAMP:20260421T133201
CREATED:20250311T233952Z
LAST-MODIFIED:20250908T125217Z
UID:10001086-1760468400-1760479200@goodrichvillagehall.co.uk
SUMMARY:Tango
DESCRIPTION:
URL:https://goodrichvillagehall.co.uk/event/tango/2025-10-14/
CATEGORIES:Godric Hall
END:VEVENT
BEGIN:VEVENT
DTSTART;TZID=Europe/London:20251015T090000
DTEND;TZID=Europe/London:20251015T100000
DTSTAMP:20260421T133201
CREATED:20251204T214154Z
LAST-MODIFIED:20251204T214401Z
UID:10001423-1760518800-1760522400@goodrichvillagehall.co.uk
SUMMARY:Yoga
DESCRIPTION:
URL:https://goodrichvillagehall.co.uk/event/yoga-3/2025-10-15/
CATEGORIES:Godric Hall
END:VEVENT
BEGIN:VEVENT
DTSTART;TZID=Europe/London:20251015T110000
DTEND;TZID=Europe/London:20251015T120000
DTSTAMP:20260421T133201
CREATED:20251204T175237Z
LAST-MODIFIED:20251204T181534Z
UID:10001356-1760526000-1760529600@goodrichvillagehall.co.uk
SUMMARY:Chair Yoga
DESCRIPTION:
URL:https://goodrichvillagehall.co.uk/event/chair-yoga-2/2025-10-15/
CATEGORIES:Godric Hall
END:VEVENT
BEGIN:VEVENT
DTSTART;TZID=Europe/London:20251015T173000
DTEND;TZID=Europe/London:20251015T183000
DTSTAMP:20260421T133201
CREATED:20250818T173807Z
LAST-MODIFIED:20251103T195916Z
UID:10000726-1760549400-1760553000@goodrichvillagehall.co.uk
SUMMARY:Pilates
DESCRIPTION:
URL:https://goodrichvillagehall.co.uk/event/pilates-9/2025-10-15/
CATEGORIES:Godric Hall
END:VEVENT
BEGIN:VEVENT
DTSTART;TZID=Europe/London:20251015T184500
DTEND;TZID=Europe/London:20251015T194500
DTSTAMP:20260421T133201
CREATED:20250818T174129Z
LAST-MODIFIED:20251103T200543Z
UID:10000739-1760553900-1760557500@goodrichvillagehall.co.uk
SUMMARY:Pilates
DESCRIPTION:Pilates
URL:https://goodrichvillagehall.co.uk/event/pilates-10/2025-10-15/
CATEGORIES:Godric Hall
END:VEVENT
BEGIN:VEVENT
DTSTART;TZID=Europe/London:20251015T200000
DTEND;TZID=Europe/London:20251015T220000
DTSTAMP:20260421T133201
CREATED:20251007T204454Z
LAST-MODIFIED:20251007T204454Z
UID:10001108-1760558400-1760565600@goodrichvillagehall.co.uk
SUMMARY:Roaring Megs Community Choir
DESCRIPTION:
URL:https://goodrichvillagehall.co.uk/event/roaring-megs-community-choir-6/
CATEGORIES:Godric Hall
END:VEVENT
END:VCALENDAR