BEGIN:VCALENDAR
VERSION:2.0
PRODID:-//Goodrich Village Hall - ECPv6.15.17//NONSGML v1.0//EN
CALSCALE:GREGORIAN
METHOD:PUBLISH
X-WR-CALNAME:Goodrich Village Hall
X-ORIGINAL-URL:https://goodrichvillagehall.co.uk
X-WR-CALDESC:Events for Goodrich Village Hall
REFRESH-INTERVAL;VALUE=DURATION:PT1H
X-Robots-Tag:noindex
X-PUBLISHED-TTL:PT1H
BEGIN:VTIMEZONE
TZID:Europe/London
BEGIN:DAYLIGHT
TZOFFSETFROM:+0000
TZOFFSETTO:+0100
TZNAME:BST
DTSTART:20240331T010000
END:DAYLIGHT
BEGIN:STANDARD
TZOFFSETFROM:+0100
TZOFFSETTO:+0000
TZNAME:GMT
DTSTART:20241027T010000
END:STANDARD
BEGIN:DAYLIGHT
TZOFFSETFROM:+0000
TZOFFSETTO:+0100
TZNAME:BST
DTSTART:20250330T010000
END:DAYLIGHT
BEGIN:STANDARD
TZOFFSETFROM:+0100
TZOFFSETTO:+0000
TZNAME:GMT
DTSTART:20251026T010000
END:STANDARD
BEGIN:DAYLIGHT
TZOFFSETFROM:+0000
TZOFFSETTO:+0100
TZNAME:BST
DTSTART:20260329T010000
END:DAYLIGHT
BEGIN:STANDARD
TZOFFSETFROM:+0100
TZOFFSETTO:+0000
TZNAME:GMT
DTSTART:20261025T010000
END:STANDARD
END:VTIMEZONE
BEGIN:VEVENT
DTSTART;TZID=Europe/London:20251031T200000
DTEND;TZID=Europe/London:20251101T010000
DTSTAMP:20260419T190157
CREATED:20250922T144950Z
LAST-MODIFIED:20250922T144950Z
UID:10001103-1761940800-1761958800@goodrichvillagehall.co.uk
SUMMARY:Private event (KP)
DESCRIPTION:
URL:https://goodrichvillagehall.co.uk/event/private-event-kp/
CATEGORIES:Whole Building
END:VEVENT
BEGIN:VEVENT
DTSTART;TZID=Europe/London:20251101T100000
DTEND;TZID=Europe/London:20251101T130000
DTSTAMP:20260419T190157
CREATED:20250311T233950Z
LAST-MODIFIED:20250902T203631Z
UID:10000652-1761991200-1762002000@goodrichvillagehall.co.uk
SUMMARY:Restorative Yoga
DESCRIPTION:
URL:https://goodrichvillagehall.co.uk/event/restorative-yoga/2025-11-01/
CATEGORIES:Godric Hall
END:VEVENT
BEGIN:VEVENT
DTSTART;TZID=Europe/London:20251101T140000
DTEND;TZID=Europe/London:20251101T180000
DTSTAMP:20260419T190157
CREATED:20250920T210754Z
LAST-MODIFIED:20250920T210754Z
UID:10001101-1762005600-1762020000@goodrichvillagehall.co.uk
SUMMARY:Private event (CS)
DESCRIPTION:
URL:https://goodrichvillagehall.co.uk/event/private-event-cs/
CATEGORIES:Whole Building
END:VEVENT
BEGIN:VEVENT
DTSTART;TZID=Europe/London:20251102T173000
DTEND;TZID=Europe/London:20251102T193000
DTSTAMP:20260419T190157
CREATED:20250311T233951Z
LAST-MODIFIED:20250311T233951Z
UID:10000501-1762104600-1762111800@goodrichvillagehall.co.uk
SUMMARY:Family Table Tennis
DESCRIPTION:
URL:https://goodrichvillagehall.co.uk/event/family-table-tennis/2025-11-02/
CATEGORIES:Godric Hall
END:VEVENT
BEGIN:VEVENT
DTSTART;TZID=Europe/London:20251103T093000
DTEND;TZID=Europe/London:20251103T120000
DTSTAMP:20260419T190157
CREATED:20250311T233952Z
LAST-MODIFIED:20251203T223337Z
UID:10000038-1762162200-1762171200@goodrichvillagehall.co.uk
SUMMARY:Table Tennis
DESCRIPTION:
URL:https://goodrichvillagehall.co.uk/event/table-tennis/2025-11-03/
CATEGORIES:Godric Hall
END:VEVENT
BEGIN:VEVENT
DTSTART;TZID=Europe/London:20251103T193000
DTEND;TZID=Europe/London:20251103T213000
DTSTAMP:20260419T190157
CREATED:20250807T110324Z
LAST-MODIFIED:20250807T110324Z
UID:10000673-1762198200-1762205400@goodrichvillagehall.co.uk
SUMMARY:Roaring Megs Community Choir
DESCRIPTION:
URL:https://goodrichvillagehall.co.uk/event/roaring-megs-community-choir-2/2025-11-03/
CATEGORIES:Godric Hall
END:VEVENT
BEGIN:VEVENT
DTSTART;TZID=Europe/London:20251104T090000
DTEND;TZID=Europe/London:20251104T113000
DTSTAMP:20260419T190157
CREATED:20251104T201726Z
LAST-MODIFIED:20251104T201747Z
UID:10001169-1762246800-1762255800@goodrichvillagehall.co.uk
SUMMARY:Pilates
DESCRIPTION:
URL:https://goodrichvillagehall.co.uk/event/pilates-7/
CATEGORIES:Godric Hall
END:VEVENT
BEGIN:VEVENT
DTSTART;TZID=Europe/London:20251104T190000
DTEND;TZID=Europe/London:20251104T220000
DTSTAMP:20260419T190157
CREATED:20250311T233952Z
LAST-MODIFIED:20250908T125217Z
UID:10001089-1762282800-1762293600@goodrichvillagehall.co.uk
SUMMARY:Tango
DESCRIPTION:
URL:https://goodrichvillagehall.co.uk/event/tango/2025-11-04/
CATEGORIES:Godric Hall
END:VEVENT
BEGIN:VEVENT
DTSTART;TZID=Europe/London:20251105T090000
DTEND;TZID=Europe/London:20251105T100000
DTSTAMP:20260419T190157
CREATED:20251204T214154Z
LAST-MODIFIED:20251204T214401Z
UID:10001426-1762333200-1762336800@goodrichvillagehall.co.uk
SUMMARY:Yoga
DESCRIPTION:
URL:https://goodrichvillagehall.co.uk/event/yoga-3/2025-11-05/
CATEGORIES:Godric Hall
END:VEVENT
BEGIN:VEVENT
DTSTART;TZID=Europe/London:20251105T110000
DTEND;TZID=Europe/London:20251105T120000
DTSTAMP:20260419T190157
CREATED:20251204T175237Z
LAST-MODIFIED:20251204T181534Z
UID:10001359-1762340400-1762344000@goodrichvillagehall.co.uk
SUMMARY:Chair Yoga
DESCRIPTION:
URL:https://goodrichvillagehall.co.uk/event/chair-yoga-2/2025-11-05/
CATEGORIES:Godric Hall
END:VEVENT
BEGIN:VEVENT
DTSTART;TZID=Europe/London:20251106T190000
DTEND;TZID=Europe/London:20251106T230000
DTSTAMP:20260419T190157
CREATED:20250311T233951Z
LAST-MODIFIED:20250619T212623Z
UID:10000418-1762455600-1762470000@goodrichvillagehall.co.uk
SUMMARY:Table Tennis
DESCRIPTION:
URL:https://goodrichvillagehall.co.uk/event/table-tennis-3/2025-11-06/
CATEGORIES:Godric Hall
END:VEVENT
BEGIN:VEVENT
DTSTART;TZID=Europe/London:20251108T170000
DTEND;TZID=Europe/London:20251108T230000
DTSTAMP:20260419T190157
CREATED:20250922T153733Z
LAST-MODIFIED:20250922T155219Z
UID:10001104-1762621200-1762642800@goodrichvillagehall.co.uk
SUMMARY:Goodrich Tennis Club November Quiz
DESCRIPTION:
URL:https://goodrichvillagehall.co.uk/event/goodrich-tennis-club-november-quiz/
CATEGORIES:Whole Building
END:VEVENT
BEGIN:VEVENT
DTSTART;TZID=Europe/London:20251109T173000
DTEND;TZID=Europe/London:20251109T193000
DTSTAMP:20260419T190157
CREATED:20250311T233951Z
LAST-MODIFIED:20250311T233951Z
UID:10000502-1762709400-1762716600@goodrichvillagehall.co.uk
SUMMARY:Family Table Tennis
DESCRIPTION:
URL:https://goodrichvillagehall.co.uk/event/family-table-tennis/2025-11-09/
CATEGORIES:Godric Hall
END:VEVENT
BEGIN:VEVENT
DTSTART;TZID=Europe/London:20251110T093000
DTEND;TZID=Europe/London:20251110T120000
DTSTAMP:20260419T190157
CREATED:20250311T233952Z
LAST-MODIFIED:20251203T223337Z
UID:10000039-1762767000-1762776000@goodrichvillagehall.co.uk
SUMMARY:Table Tennis
DESCRIPTION:
URL:https://goodrichvillagehall.co.uk/event/table-tennis/2025-11-10/
CATEGORIES:Godric Hall
END:VEVENT
BEGIN:VEVENT
DTSTART;TZID=Europe/London:20251110T193000
DTEND;TZID=Europe/London:20251110T213000
DTSTAMP:20260419T190157
CREATED:20250807T110324Z
LAST-MODIFIED:20250807T110324Z
UID:10000674-1762803000-1762810200@goodrichvillagehall.co.uk
SUMMARY:Roaring Megs Community Choir
DESCRIPTION:
URL:https://goodrichvillagehall.co.uk/event/roaring-megs-community-choir-2/2025-11-10/
CATEGORIES:Godric Hall
END:VEVENT
BEGIN:VEVENT
DTSTART;TZID=Europe/London:20251111T091500
DTEND;TZID=Europe/London:20251111T101500
DTSTAMP:20260419T190157
CREATED:20251104T201923Z
LAST-MODIFIED:20251104T201923Z
UID:10001170-1762852500-1762856100@goodrichvillagehall.co.uk
SUMMARY:Pilates
DESCRIPTION:
URL:https://goodrichvillagehall.co.uk/event/pilates-13/
CATEGORIES:Godric Hall
END:VEVENT
BEGIN:VEVENT
DTSTART;TZID=Europe/London:20251111T103000
DTEND;TZID=Europe/London:20251111T113000
DTSTAMP:20260419T190157
CREATED:20250818T170532Z
LAST-MODIFIED:20251103T201110Z
UID:10000703-1762857000-1762860600@goodrichvillagehall.co.uk
SUMMARY:Pilates
DESCRIPTION:
URL:https://goodrichvillagehall.co.uk/event/pilates-5/2025-11-11/
CATEGORIES:Godric Hall
END:VEVENT
BEGIN:VEVENT
DTSTART;TZID=Europe/London:20251111T190000
DTEND;TZID=Europe/London:20251111T220000
DTSTAMP:20260419T190157
CREATED:20250311T233952Z
LAST-MODIFIED:20250908T125217Z
UID:10001090-1762887600-1762898400@goodrichvillagehall.co.uk
SUMMARY:Tango
DESCRIPTION:
URL:https://goodrichvillagehall.co.uk/event/tango/2025-11-11/
CATEGORIES:Godric Hall
END:VEVENT
BEGIN:VEVENT
DTSTART;TZID=Europe/London:20251111T193000
DTEND;TZID=Europe/London:20251111T193000
DTSTAMP:20260419T190157
CREATED:20250311T233026Z
LAST-MODIFIED:20251101T161841Z
UID:10000248-1762889400-1762889400@goodrichvillagehall.co.uk
SUMMARY:GVHT - AGM and meeting
DESCRIPTION:
URL:https://goodrichvillagehall.co.uk/event/gvht-agm-and-meeting/
CATEGORIES:Committee Room
END:VEVENT
BEGIN:VEVENT
DTSTART;TZID=Europe/London:20251112T090000
DTEND;TZID=Europe/London:20251112T100000
DTSTAMP:20260419T190157
CREATED:20251204T214154Z
LAST-MODIFIED:20251204T214401Z
UID:10001427-1762938000-1762941600@goodrichvillagehall.co.uk
SUMMARY:Yoga
DESCRIPTION:
URL:https://goodrichvillagehall.co.uk/event/yoga-3/2025-11-12/
CATEGORIES:Godric Hall
END:VEVENT
BEGIN:VEVENT
DTSTART;TZID=Europe/London:20251112T110000
DTEND;TZID=Europe/London:20251112T120000
DTSTAMP:20260419T190157
CREATED:20251204T175237Z
LAST-MODIFIED:20251204T181534Z
UID:10001360-1762945200-1762948800@goodrichvillagehall.co.uk
SUMMARY:Chair Yoga
DESCRIPTION:
URL:https://goodrichvillagehall.co.uk/event/chair-yoga-2/2025-11-12/
CATEGORIES:Godric Hall
END:VEVENT
BEGIN:VEVENT
DTSTART;TZID=Europe/London:20251112T173000
DTEND;TZID=Europe/London:20251112T183000
DTSTAMP:20260419T190157
CREATED:20250818T173807Z
LAST-MODIFIED:20251103T195916Z
UID:10000730-1762968600-1762972200@goodrichvillagehall.co.uk
SUMMARY:Pilates
DESCRIPTION:
URL:https://goodrichvillagehall.co.uk/event/pilates-9/2025-11-12/
CATEGORIES:Godric Hall
END:VEVENT
BEGIN:VEVENT
DTSTART;TZID=Europe/London:20251112T184500
DTEND;TZID=Europe/London:20251112T194500
DTSTAMP:20260419T190157
CREATED:20250818T174129Z
LAST-MODIFIED:20251103T200543Z
UID:10000743-1762973100-1762976700@goodrichvillagehall.co.uk
SUMMARY:Pilates
DESCRIPTION:Pilates
URL:https://goodrichvillagehall.co.uk/event/pilates-10/2025-11-12/
CATEGORIES:Godric Hall
END:VEVENT
BEGIN:VEVENT
DTSTART;TZID=Europe/London:20251113T091500
DTEND;TZID=Europe/London:20251113T101500
DTSTAMP:20260419T190157
CREATED:20250818T174256Z
LAST-MODIFIED:20251103T200244Z
UID:10000756-1763025300-1763028900@goodrichvillagehall.co.uk
SUMMARY:Pilates
DESCRIPTION:
URL:https://goodrichvillagehall.co.uk/event/pilates-11/2025-11-13/
CATEGORIES:Godric Hall
END:VEVENT
BEGIN:VEVENT
DTSTART;TZID=Europe/London:20251113T103000
DTEND;TZID=Europe/London:20251113T113000
DTSTAMP:20260419T190157
CREATED:20251104T202044Z
LAST-MODIFIED:20251104T202044Z
UID:10001171-1763029800-1763033400@goodrichvillagehall.co.uk
SUMMARY:Pilates
DESCRIPTION:
URL:https://goodrichvillagehall.co.uk/event/pilates-14/
CATEGORIES:Godric Hall
END:VEVENT
BEGIN:VEVENT
DTSTART;TZID=Europe/London:20251113T190000
DTEND;TZID=Europe/London:20251113T230000
DTSTAMP:20260419T190157
CREATED:20250311T233951Z
LAST-MODIFIED:20250619T212623Z
UID:10000419-1763060400-1763074800@goodrichvillagehall.co.uk
SUMMARY:Table Tennis
DESCRIPTION:
URL:https://goodrichvillagehall.co.uk/event/table-tennis-3/2025-11-13/
CATEGORIES:Godric Hall
END:VEVENT
BEGIN:VEVENT
DTSTART;TZID=Europe/London:20251113T193000
DTEND;TZID=Europe/London:20251113T193000
DTSTAMP:20260419T190157
CREATED:20250311T233950Z
LAST-MODIFIED:20250904T170941Z
UID:10001078-1763062200-1763062200@goodrichvillagehall.co.uk
SUMMARY:Goodrich & Welsh Bicknor Parish Council
DESCRIPTION:
URL:https://goodrichvillagehall.co.uk/event/goodrich-welsh-bicknor-parish-council/2025-11-13/
CATEGORIES:Committee Room
END:VEVENT
BEGIN:VEVENT
DTSTART;TZID=Europe/London:20251116T123000
DTEND;TZID=Europe/London:20251116T163000
DTSTAMP:20260419T190157
CREATED:20250711T221524Z
LAST-MODIFIED:20250807T111513Z
UID:10000653-1763296200-1763310600@goodrichvillagehall.co.uk
SUMMARY:Jaz Morgan
DESCRIPTION:
URL:https://goodrichvillagehall.co.uk/event/jaz-morgan/
CATEGORIES:Godric Hall
END:VEVENT
BEGIN:VEVENT
DTSTART;TZID=Europe/London:20251116T173000
DTEND;TZID=Europe/London:20251116T193000
DTSTAMP:20260419T190157
CREATED:20250311T233951Z
LAST-MODIFIED:20250311T233951Z
UID:10000503-1763314200-1763321400@goodrichvillagehall.co.uk
SUMMARY:Family Table Tennis
DESCRIPTION:
URL:https://goodrichvillagehall.co.uk/event/family-table-tennis/2025-11-16/
CATEGORIES:Godric Hall
END:VEVENT
BEGIN:VEVENT
DTSTART;TZID=Europe/London:20251117T093000
DTEND;TZID=Europe/London:20251117T120000
DTSTAMP:20260419T190157
CREATED:20250311T233952Z
LAST-MODIFIED:20251203T223337Z
UID:10000040-1763371800-1763380800@goodrichvillagehall.co.uk
SUMMARY:Table Tennis
DESCRIPTION:
URL:https://goodrichvillagehall.co.uk/event/table-tennis/2025-11-17/
CATEGORIES:Godric Hall
END:VEVENT
END:VCALENDAR