BEGIN:VCALENDAR
VERSION:2.0
PRODID:-//Goodrich Village Hall - ECPv6.15.17//NONSGML v1.0//EN
CALSCALE:GREGORIAN
METHOD:PUBLISH
X-WR-CALNAME:Goodrich Village Hall
X-ORIGINAL-URL:https://goodrichvillagehall.co.uk
X-WR-CALDESC:Events for Goodrich Village Hall
REFRESH-INTERVAL;VALUE=DURATION:PT1H
X-Robots-Tag:noindex
X-PUBLISHED-TTL:PT1H
BEGIN:VTIMEZONE
TZID:Europe/London
BEGIN:DAYLIGHT
TZOFFSETFROM:+0000
TZOFFSETTO:+0100
TZNAME:BST
DTSTART:20240331T010000
END:DAYLIGHT
BEGIN:STANDARD
TZOFFSETFROM:+0100
TZOFFSETTO:+0000
TZNAME:GMT
DTSTART:20241027T010000
END:STANDARD
BEGIN:DAYLIGHT
TZOFFSETFROM:+0000
TZOFFSETTO:+0100
TZNAME:BST
DTSTART:20250330T010000
END:DAYLIGHT
BEGIN:STANDARD
TZOFFSETFROM:+0100
TZOFFSETTO:+0000
TZNAME:GMT
DTSTART:20251026T010000
END:STANDARD
BEGIN:DAYLIGHT
TZOFFSETFROM:+0000
TZOFFSETTO:+0100
TZNAME:BST
DTSTART:20260329T010000
END:DAYLIGHT
BEGIN:STANDARD
TZOFFSETFROM:+0100
TZOFFSETTO:+0000
TZNAME:GMT
DTSTART:20261025T010000
END:STANDARD
END:VTIMEZONE
BEGIN:VEVENT
DTSTART;TZID=Europe/London:20251201T093000
DTEND;TZID=Europe/London:20251201T120000
DTSTAMP:20260419T172354
CREATED:20250311T233952Z
LAST-MODIFIED:20251203T223337Z
UID:10000042-1764581400-1764590400@goodrichvillagehall.co.uk
SUMMARY:Table Tennis
DESCRIPTION:
URL:https://goodrichvillagehall.co.uk/event/table-tennis/2025-12-01/
CATEGORIES:Godric Hall
END:VEVENT
BEGIN:VEVENT
DTSTART;TZID=Europe/London:20251201T150000
DTEND;TZID=Europe/London:20251201T160000
DTSTAMP:20260419T172354
CREATED:20251118T201727Z
LAST-MODIFIED:20251118T202137Z
UID:10001240-1764601200-1764604800@goodrichvillagehall.co.uk
SUMMARY:Pilates
DESCRIPTION:
URL:https://goodrichvillagehall.co.uk/event/pilates-16/
CATEGORIES:Godric Hall
END:VEVENT
BEGIN:VEVENT
DTSTART;TZID=Europe/London:20251201T193000
DTEND;TZID=Europe/London:20251201T213000
DTSTAMP:20260419T172354
CREATED:20250807T110324Z
LAST-MODIFIED:20250807T110324Z
UID:10000677-1764617400-1764624600@goodrichvillagehall.co.uk
SUMMARY:Roaring Megs Community Choir
DESCRIPTION:
URL:https://goodrichvillagehall.co.uk/event/roaring-megs-community-choir-2/2025-12-01/
CATEGORIES:Godric Hall
END:VEVENT
BEGIN:VEVENT
DTSTART;TZID=Europe/London:20251202T190000
DTEND;TZID=Europe/London:20251202T220000
DTSTAMP:20260419T172354
CREATED:20250311T233952Z
LAST-MODIFIED:20250908T125217Z
UID:10001093-1764702000-1764712800@goodrichvillagehall.co.uk
SUMMARY:Tango
DESCRIPTION:
URL:https://goodrichvillagehall.co.uk/event/tango/2025-12-02/
CATEGORIES:Godric Hall
END:VEVENT
BEGIN:VEVENT
DTSTART;TZID=Europe/London:20251203T090000
DTEND;TZID=Europe/London:20251203T100000
DTSTAMP:20260419T172354
CREATED:20251204T214154Z
LAST-MODIFIED:20251204T214401Z
UID:10001430-1764752400-1764756000@goodrichvillagehall.co.uk
SUMMARY:Yoga
DESCRIPTION:
URL:https://goodrichvillagehall.co.uk/event/yoga-3/2025-12-03/
CATEGORIES:Godric Hall
END:VEVENT
BEGIN:VEVENT
DTSTART;TZID=Europe/London:20251203T110000
DTEND;TZID=Europe/London:20251203T120000
DTSTAMP:20260419T172354
CREATED:20251204T175237Z
LAST-MODIFIED:20251204T181534Z
UID:10001363-1764759600-1764763200@goodrichvillagehall.co.uk
SUMMARY:Chair Yoga
DESCRIPTION:
URL:https://goodrichvillagehall.co.uk/event/chair-yoga-2/2025-12-03/
CATEGORIES:Godric Hall
END:VEVENT
BEGIN:VEVENT
DTSTART;TZID=Europe/London:20251203T173000
DTEND;TZID=Europe/London:20251203T183000
DTSTAMP:20260419T172354
CREATED:20250818T173807Z
LAST-MODIFIED:20251103T195916Z
UID:10000733-1764783000-1764786600@goodrichvillagehall.co.uk
SUMMARY:Pilates
DESCRIPTION:
URL:https://goodrichvillagehall.co.uk/event/pilates-9/2025-12-03/
CATEGORIES:Godric Hall
END:VEVENT
BEGIN:VEVENT
DTSTART;TZID=Europe/London:20251203T184500
DTEND;TZID=Europe/London:20251203T194500
DTSTAMP:20260419T172354
CREATED:20250818T174129Z
LAST-MODIFIED:20251103T200543Z
UID:10000746-1764787500-1764791100@goodrichvillagehall.co.uk
SUMMARY:Pilates
DESCRIPTION:Pilates
URL:https://goodrichvillagehall.co.uk/event/pilates-10/2025-12-03/
CATEGORIES:Godric Hall
END:VEVENT
BEGIN:VEVENT
DTSTART;TZID=Europe/London:20251204T091500
DTEND;TZID=Europe/London:20251204T101500
DTSTAMP:20260419T172354
CREATED:20250818T174256Z
LAST-MODIFIED:20251103T200244Z
UID:10000759-1764839700-1764843300@goodrichvillagehall.co.uk
SUMMARY:Pilates
DESCRIPTION:
URL:https://goodrichvillagehall.co.uk/event/pilates-11/2025-12-04/
CATEGORIES:Godric Hall
END:VEVENT
BEGIN:VEVENT
DTSTART;TZID=Europe/London:20251204T103000
DTEND;TZID=Europe/London:20251204T113000
DTSTAMP:20260419T172354
CREATED:20250818T174448Z
LAST-MODIFIED:20251118T202846Z
UID:10001117-1764844200-1764847800@goodrichvillagehall.co.uk
SUMMARY:Pilates
DESCRIPTION:
URL:https://goodrichvillagehall.co.uk/event/pilates-12/2025-12-04/
CATEGORIES:Godric Hall
END:VEVENT
BEGIN:VEVENT
DTSTART;TZID=Europe/London:20251204T190000
DTEND;TZID=Europe/London:20251204T230000
DTSTAMP:20260419T172354
CREATED:20250311T233951Z
LAST-MODIFIED:20250619T212623Z
UID:10000421-1764874800-1764889200@goodrichvillagehall.co.uk
SUMMARY:Table Tennis
DESCRIPTION:
URL:https://goodrichvillagehall.co.uk/event/table-tennis-3/2025-12-04/
CATEGORIES:Godric Hall
END:VEVENT
BEGIN:VEVENT
DTSTART;TZID=Europe/London:20251204T193000
DTEND;TZID=Europe/London:20251204T193000
DTSTAMP:20260419T172354
CREATED:20250311T233950Z
LAST-MODIFIED:20250904T170941Z
UID:10000535-1764876600-1764876600@goodrichvillagehall.co.uk
SUMMARY:Goodrich & Welsh Bicknor Parish Council
DESCRIPTION:
URL:https://goodrichvillagehall.co.uk/event/goodrich-welsh-bicknor-parish-council/2025-12-04/
CATEGORIES:Committee Room
END:VEVENT
BEGIN:VEVENT
DTSTART;TZID=Europe/London:20251206T100000
DTEND;TZID=Europe/London:20251206T130000
DTSTAMP:20260419T172354
CREATED:20250311T233950Z
LAST-MODIFIED:20250902T203631Z
UID:10000654-1765015200-1765026000@goodrichvillagehall.co.uk
SUMMARY:Restorative Yoga
DESCRIPTION:
URL:https://goodrichvillagehall.co.uk/event/restorative-yoga/2025-12-06/
CATEGORIES:Godric Hall
END:VEVENT
BEGIN:VEVENT
DTSTART;TZID=Europe/London:20251207T130000
DTEND;TZID=Europe/London:20251207T153000
DTSTAMP:20260419T172354
CREATED:20251007T202951Z
LAST-MODIFIED:20251007T202951Z
UID:10001107-1765112400-1765121400@goodrichvillagehall.co.uk
SUMMARY:Private Hire (KH)
DESCRIPTION:
URL:https://goodrichvillagehall.co.uk/event/private-hire-kh/
CATEGORIES:Tudor Room
END:VEVENT
BEGIN:VEVENT
DTSTART;TZID=Europe/London:20251207T173000
DTEND;TZID=Europe/London:20251207T193000
DTSTAMP:20260419T172354
CREATED:20250311T233951Z
LAST-MODIFIED:20250311T233951Z
UID:10000506-1765128600-1765135800@goodrichvillagehall.co.uk
SUMMARY:Family Table Tennis
DESCRIPTION:
URL:https://goodrichvillagehall.co.uk/event/family-table-tennis/2025-12-07/
CATEGORIES:Godric Hall
END:VEVENT
BEGIN:VEVENT
DTSTART;TZID=Europe/London:20251208T093000
DTEND;TZID=Europe/London:20251208T120000
DTSTAMP:20260419T172354
CREATED:20250311T233952Z
LAST-MODIFIED:20251203T223337Z
UID:10000043-1765186200-1765195200@goodrichvillagehall.co.uk
SUMMARY:Table Tennis
DESCRIPTION:
URL:https://goodrichvillagehall.co.uk/event/table-tennis/2025-12-08/
CATEGORIES:Godric Hall
END:VEVENT
BEGIN:VEVENT
DTSTART;TZID=Europe/London:20251208T093000
DTEND;TZID=Europe/London:20251208T120000
DTSTAMP:20260419T172354
CREATED:20251208T200331Z
LAST-MODIFIED:20251208T200331Z
UID:10001549-1765186200-1765195200@goodrichvillagehall.co.uk
SUMMARY:Table Tennis
DESCRIPTION:
URL:https://goodrichvillagehall.co.uk/event/table-tennis-6/2025-12-08/
CATEGORIES:Godric Hall
END:VEVENT
BEGIN:VEVENT
DTSTART;TZID=Europe/London:20251208T193000
DTEND;TZID=Europe/London:20251208T213000
DTSTAMP:20260419T172354
CREATED:20250807T110324Z
LAST-MODIFIED:20250807T110324Z
UID:10000678-1765222200-1765229400@goodrichvillagehall.co.uk
SUMMARY:Roaring Megs Community Choir
DESCRIPTION:
URL:https://goodrichvillagehall.co.uk/event/roaring-megs-community-choir-2/2025-12-08/
CATEGORIES:Godric Hall
END:VEVENT
BEGIN:VEVENT
DTSTART;TZID=Europe/London:20251209T190000
DTEND;TZID=Europe/London:20251209T220000
DTSTAMP:20260419T172354
CREATED:20250311T233952Z
LAST-MODIFIED:20250908T125217Z
UID:10001094-1765306800-1765317600@goodrichvillagehall.co.uk
SUMMARY:Tango
DESCRIPTION:
URL:https://goodrichvillagehall.co.uk/event/tango/2025-12-09/
CATEGORIES:Godric Hall
END:VEVENT
BEGIN:VEVENT
DTSTART;TZID=Europe/London:20251210T090000
DTEND;TZID=Europe/London:20251210T100000
DTSTAMP:20260419T172354
CREATED:20251204T214154Z
LAST-MODIFIED:20251204T214401Z
UID:10001431-1765357200-1765360800@goodrichvillagehall.co.uk
SUMMARY:Yoga
DESCRIPTION:
URL:https://goodrichvillagehall.co.uk/event/yoga-3/2025-12-10/
CATEGORIES:Godric Hall
END:VEVENT
BEGIN:VEVENT
DTSTART;TZID=Europe/London:20251210T110000
DTEND;TZID=Europe/London:20251210T120000
DTSTAMP:20260419T172354
CREATED:20251204T175237Z
LAST-MODIFIED:20251204T181534Z
UID:10001364-1765364400-1765368000@goodrichvillagehall.co.uk
SUMMARY:Chair Yoga
DESCRIPTION:
URL:https://goodrichvillagehall.co.uk/event/chair-yoga-2/2025-12-10/
CATEGORIES:Godric Hall
END:VEVENT
BEGIN:VEVENT
DTSTART;TZID=Europe/London:20251210T170000
DTEND;TZID=Europe/London:20251210T220000
DTSTAMP:20260419T172354
CREATED:20251101T161523Z
LAST-MODIFIED:20251101T161523Z
UID:10001111-1765386000-1765404000@goodrichvillagehall.co.uk
SUMMARY:Private event (RP)
DESCRIPTION:
URL:https://goodrichvillagehall.co.uk/event/private-event-rp/
CATEGORIES:Godric Hall
END:VEVENT
BEGIN:VEVENT
DTSTART;TZID=Europe/London:20251211T190000
DTEND;TZID=Europe/London:20251211T230000
DTSTAMP:20260419T172354
CREATED:20250311T233951Z
LAST-MODIFIED:20250619T212623Z
UID:10000422-1765479600-1765494000@goodrichvillagehall.co.uk
SUMMARY:Table Tennis
DESCRIPTION:
URL:https://goodrichvillagehall.co.uk/event/table-tennis-3/2025-12-11/
CATEGORIES:Godric Hall
END:VEVENT
BEGIN:VEVENT
DTSTART;TZID=Europe/London:20251214T173000
DTEND;TZID=Europe/London:20251214T193000
DTSTAMP:20260419T172354
CREATED:20250311T233951Z
LAST-MODIFIED:20250311T233951Z
UID:10000507-1765733400-1765740600@goodrichvillagehall.co.uk
SUMMARY:Family Table Tennis
DESCRIPTION:
URL:https://goodrichvillagehall.co.uk/event/family-table-tennis/2025-12-14/
CATEGORIES:Godric Hall
END:VEVENT
BEGIN:VEVENT
DTSTART;TZID=Europe/London:20251215T093000
DTEND;TZID=Europe/London:20251215T120000
DTSTAMP:20260419T172354
CREATED:20250311T233952Z
LAST-MODIFIED:20251203T223337Z
UID:10000044-1765791000-1765800000@goodrichvillagehall.co.uk
SUMMARY:Table Tennis
DESCRIPTION:
URL:https://goodrichvillagehall.co.uk/event/table-tennis/2025-12-15/
CATEGORIES:Godric Hall
END:VEVENT
BEGIN:VEVENT
DTSTART;TZID=Europe/London:20251215T093000
DTEND;TZID=Europe/London:20251215T120000
DTSTAMP:20260419T172354
CREATED:20251208T200331Z
LAST-MODIFIED:20251208T200331Z
UID:10001550-1765791000-1765800000@goodrichvillagehall.co.uk
SUMMARY:Table Tennis
DESCRIPTION:
URL:https://goodrichvillagehall.co.uk/event/table-tennis-6/2025-12-15/
CATEGORIES:Godric Hall
END:VEVENT
BEGIN:VEVENT
DTSTART;TZID=Europe/London:20251216T190000
DTEND;TZID=Europe/London:20251216T220000
DTSTAMP:20260419T172354
CREATED:20250311T233952Z
LAST-MODIFIED:20250908T125217Z
UID:10001095-1765911600-1765922400@goodrichvillagehall.co.uk
SUMMARY:Tango
DESCRIPTION:
URL:https://goodrichvillagehall.co.uk/event/tango/2025-12-16/
CATEGORIES:Godric Hall
END:VEVENT
BEGIN:VEVENT
DTSTART;TZID=Europe/London:20251217T090000
DTEND;TZID=Europe/London:20251217T100000
DTSTAMP:20260419T172354
CREATED:20251204T214154Z
LAST-MODIFIED:20251204T214401Z
UID:10001432-1765962000-1765965600@goodrichvillagehall.co.uk
SUMMARY:Yoga
DESCRIPTION:
URL:https://goodrichvillagehall.co.uk/event/yoga-3/2025-12-17/
CATEGORIES:Godric Hall
END:VEVENT
BEGIN:VEVENT
DTSTART;TZID=Europe/London:20251217T110000
DTEND;TZID=Europe/London:20251217T120000
DTSTAMP:20260419T172354
CREATED:20251204T175237Z
LAST-MODIFIED:20251204T181534Z
UID:10001365-1765969200-1765972800@goodrichvillagehall.co.uk
SUMMARY:Chair Yoga
DESCRIPTION:
URL:https://goodrichvillagehall.co.uk/event/chair-yoga-2/2025-12-17/
CATEGORIES:Godric Hall
END:VEVENT
BEGIN:VEVENT
DTSTART;TZID=Europe/London:20251218T190000
DTEND;TZID=Europe/London:20251218T230000
DTSTAMP:20260419T172354
CREATED:20250311T233951Z
LAST-MODIFIED:20250619T212623Z
UID:10000423-1766084400-1766098800@goodrichvillagehall.co.uk
SUMMARY:Table Tennis
DESCRIPTION:
URL:https://goodrichvillagehall.co.uk/event/table-tennis-3/2025-12-18/
CATEGORIES:Godric Hall
END:VEVENT
END:VCALENDAR