BEGIN:VCALENDAR
VERSION:2.0
PRODID:-//Goodrich Village Hall - ECPv6.15.17//NONSGML v1.0//EN
CALSCALE:GREGORIAN
METHOD:PUBLISH
X-ORIGINAL-URL:https://goodrichvillagehall.co.uk
X-WR-CALDESC:Events for Goodrich Village Hall
REFRESH-INTERVAL;VALUE=DURATION:PT1H
X-Robots-Tag:noindex
X-PUBLISHED-TTL:PT1H
BEGIN:VTIMEZONE
TZID:Europe/London
BEGIN:DAYLIGHT
TZOFFSETFROM:+0000
TZOFFSETTO:+0100
TZNAME:BST
DTSTART:20250330T010000
END:DAYLIGHT
BEGIN:STANDARD
TZOFFSETFROM:+0100
TZOFFSETTO:+0000
TZNAME:GMT
DTSTART:20251026T010000
END:STANDARD
BEGIN:DAYLIGHT
TZOFFSETFROM:+0000
TZOFFSETTO:+0100
TZNAME:BST
DTSTART:20260329T010000
END:DAYLIGHT
BEGIN:STANDARD
TZOFFSETFROM:+0100
TZOFFSETTO:+0000
TZNAME:GMT
DTSTART:20261025T010000
END:STANDARD
BEGIN:DAYLIGHT
TZOFFSETFROM:+0000
TZOFFSETTO:+0100
TZNAME:BST
DTSTART:20270328T010000
END:DAYLIGHT
BEGIN:STANDARD
TZOFFSETFROM:+0100
TZOFFSETTO:+0000
TZNAME:GMT
DTSTART:20271031T010000
END:STANDARD
END:VTIMEZONE
BEGIN:VEVENT
DTSTART;TZID=Europe/London:20260104T173000
DTEND;TZID=Europe/London:20260104T193000
DTSTAMP:20260419T155100
CREATED:20251208T200518Z
LAST-MODIFIED:20251210T161243Z
UID:10001605-1767547800-1767555000@goodrichvillagehall.co.uk
SUMMARY:Family Table Tennis
DESCRIPTION:
URL:https://goodrichvillagehall.co.uk/event/family-table-tennis-3/2026-01-04/
CATEGORIES:Godric Hall
END:VEVENT
BEGIN:VEVENT
DTSTART;TZID=Europe/London:20260105T093000
DTEND;TZID=Europe/London:20260105T120000
DTSTAMP:20260419T155100
CREATED:20251208T200331Z
LAST-MODIFIED:20251208T200331Z
UID:10001553-1767605400-1767614400@goodrichvillagehall.co.uk
SUMMARY:Table Tennis
DESCRIPTION:
URL:https://goodrichvillagehall.co.uk/event/table-tennis-6/2026-01-05/
CATEGORIES:Godric Hall
END:VEVENT
BEGIN:VEVENT
DTSTART;TZID=Europe/London:20260106T091500
DTEND;TZID=Europe/London:20260106T101500
DTSTAMP:20260419T155100
CREATED:20251209T161826Z
LAST-MODIFIED:20251209T161826Z
UID:10001762-1767690900-1767694500@goodrichvillagehall.co.uk
SUMMARY:Pilates
DESCRIPTION:
URL:https://goodrichvillagehall.co.uk/event/pilates-18/
CATEGORIES:Godric Hall
END:VEVENT
BEGIN:VEVENT
DTSTART;TZID=Europe/London:20260106T103000
DTEND;TZID=Europe/London:20260106T113000
DTSTAMP:20260419T155100
CREATED:20251209T155043Z
LAST-MODIFIED:20251209T155043Z
UID:10001724-1767695400-1767699000@goodrichvillagehall.co.uk
SUMMARY:Pilates
DESCRIPTION:
URL:https://goodrichvillagehall.co.uk/event/pilates-25/2026-01-06/
CATEGORIES:Godric Hall
END:VEVENT
BEGIN:VEVENT
DTSTART;TZID=Europe/London:20260106T190000
DTEND;TZID=Europe/London:20260106T220000
DTSTAMP:20260419T155100
CREATED:20260103T201738Z
LAST-MODIFIED:20260209T164812Z
UID:10002481-1767726000-1767736800@goodrichvillagehall.co.uk
SUMMARY:Tango
DESCRIPTION:
URL:https://goodrichvillagehall.co.uk/event/tango-2/2026-01-06/
CATEGORIES:Godric Hall
END:VEVENT
BEGIN:VEVENT
DTSTART;TZID=Europe/London:20260106T193000
DTEND;TZID=Europe/London:20260106T210000
DTSTAMP:20260419T155100
CREATED:20251212T210847Z
LAST-MODIFIED:20251212T210847Z
UID:10001850-1767727800-1767733200@goodrichvillagehall.co.uk
SUMMARY:Goodrich Village Hall Trustees' Meeting
DESCRIPTION:
URL:https://goodrichvillagehall.co.uk/event/goodrich-village-hall-trustees-meeting/2026-01-06/
CATEGORIES:Committee Room
END:VEVENT
BEGIN:VEVENT
DTSTART;TZID=Europe/London:20260107T173000
DTEND;TZID=Europe/London:20260107T183000
DTSTAMP:20260419T155100
CREATED:20251209T155240Z
LAST-MODIFIED:20251209T155240Z
UID:10001736-1767807000-1767810600@goodrichvillagehall.co.uk
SUMMARY:Pilates
DESCRIPTION:
URL:https://goodrichvillagehall.co.uk/event/pilates-26/2026-01-07/
CATEGORIES:Godric Hall
END:VEVENT
BEGIN:VEVENT
DTSTART;TZID=Europe/London:20260107T184500
DTEND;TZID=Europe/London:20260107T194500
DTSTAMP:20260419T155100
CREATED:20251209T161939Z
LAST-MODIFIED:20251209T161939Z
UID:10001763-1767811500-1767815100@goodrichvillagehall.co.uk
SUMMARY:Pilates
DESCRIPTION:
URL:https://goodrichvillagehall.co.uk/event/pilates-19/
CATEGORIES:Godric Hall
END:VEVENT
BEGIN:VEVENT
DTSTART;TZID=Europe/London:20260108T091500
DTEND;TZID=Europe/London:20260108T101500
DTSTAMP:20260419T155100
CREATED:20251209T155425Z
LAST-MODIFIED:20251209T155425Z
UID:10001738-1767863700-1767867300@goodrichvillagehall.co.uk
SUMMARY:Pilates
DESCRIPTION:
URL:https://goodrichvillagehall.co.uk/event/pilates-27/2026-01-08/
CATEGORIES:Godric Hall
END:VEVENT
BEGIN:VEVENT
DTSTART;TZID=Europe/London:20260108T103000
DTEND;TZID=Europe/London:20260108T113000
DTSTAMP:20260419T155100
CREATED:20251209T155705Z
LAST-MODIFIED:20251209T155705Z
UID:10001750-1767868200-1767871800@goodrichvillagehall.co.uk
SUMMARY:Pilates
DESCRIPTION:
URL:https://goodrichvillagehall.co.uk/event/pilates-28/2026-01-08/
CATEGORIES:Godric Hall
END:VEVENT
BEGIN:VEVENT
DTSTART;TZID=Europe/London:20260110T200000
DTEND;TZID=Europe/London:20260111T010000
DTSTAMP:20260419T155100
CREATED:20251114T205541Z
LAST-MODIFIED:20251114T205611Z
UID:10001182-1768075200-1768093200@goodrichvillagehall.co.uk
SUMMARY:Private Event (AM)
DESCRIPTION:
URL:https://goodrichvillagehall.co.uk/event/private-event-am/
CATEGORIES:Whole Building
END:VEVENT
BEGIN:VEVENT
DTSTART;TZID=Europe/London:20260111T173000
DTEND;TZID=Europe/London:20260111T193000
DTSTAMP:20260419T155100
CREATED:20251208T200518Z
LAST-MODIFIED:20251210T161243Z
UID:10001606-1768152600-1768159800@goodrichvillagehall.co.uk
SUMMARY:Family Table Tennis
DESCRIPTION:
URL:https://goodrichvillagehall.co.uk/event/family-table-tennis-3/2026-01-11/
CATEGORIES:Godric Hall
END:VEVENT
BEGIN:VEVENT
DTSTART;TZID=Europe/London:20260112T093000
DTEND;TZID=Europe/London:20260112T120000
DTSTAMP:20260419T155100
CREATED:20251208T200331Z
LAST-MODIFIED:20251208T200331Z
UID:10001554-1768210200-1768219200@goodrichvillagehall.co.uk
SUMMARY:Table Tennis
DESCRIPTION:
URL:https://goodrichvillagehall.co.uk/event/table-tennis-6/2026-01-12/
CATEGORIES:Godric Hall
END:VEVENT
BEGIN:VEVENT
DTSTART;TZID=Europe/London:20260113T091500
DTEND;TZID=Europe/London:20260113T101500
DTSTAMP:20260419T155100
CREATED:20251209T154835Z
LAST-MODIFIED:20251209T154835Z
UID:10001713-1768295700-1768299300@goodrichvillagehall.co.uk
SUMMARY:Pilates
DESCRIPTION:
URL:https://goodrichvillagehall.co.uk/event/pilates-24/2026-01-13/
CATEGORIES:Godric Hall
END:VEVENT
BEGIN:VEVENT
DTSTART;TZID=Europe/London:20260113T103000
DTEND;TZID=Europe/London:20260113T113000
DTSTAMP:20260419T155100
CREATED:20251209T155043Z
LAST-MODIFIED:20251209T155043Z
UID:10001725-1768300200-1768303800@goodrichvillagehall.co.uk
SUMMARY:Pilates
DESCRIPTION:
URL:https://goodrichvillagehall.co.uk/event/pilates-25/2026-01-13/
CATEGORIES:Godric Hall
END:VEVENT
BEGIN:VEVENT
DTSTART;TZID=Europe/London:20260113T190000
DTEND;TZID=Europe/London:20260113T220000
DTSTAMP:20260419T155100
CREATED:20260103T201738Z
LAST-MODIFIED:20260209T164812Z
UID:10002482-1768330800-1768341600@goodrichvillagehall.co.uk
SUMMARY:Tango
DESCRIPTION:
URL:https://goodrichvillagehall.co.uk/event/tango-2/2026-01-13/
CATEGORIES:Godric Hall
END:VEVENT
BEGIN:VEVENT
DTSTART;TZID=Europe/London:20260114T173000
DTEND;TZID=Europe/London:20260114T183000
DTSTAMP:20260419T155100
CREATED:20251209T162235Z
LAST-MODIFIED:20251209T162235Z
UID:10001764-1768411800-1768415400@goodrichvillagehall.co.uk
SUMMARY:Pilates
DESCRIPTION:
URL:https://goodrichvillagehall.co.uk/event/pilates-20/2026-01-14/
CATEGORIES:Godric Hall
END:VEVENT
BEGIN:VEVENT
DTSTART;TZID=Europe/London:20260114T184500
DTEND;TZID=Europe/London:20260114T194500
DTSTAMP:20260419T155100
CREATED:20251209T162418Z
LAST-MODIFIED:20251209T164533Z
UID:10001775-1768416300-1768419900@goodrichvillagehall.co.uk
SUMMARY:Pilates
DESCRIPTION:
URL:https://goodrichvillagehall.co.uk/event/pilates-21/2026-01-14/
CATEGORIES:Godric Hall
END:VEVENT
BEGIN:VEVENT
DTSTART;TZID=Europe/London:20260115T091500
DTEND;TZID=Europe/London:20260115T101500
DTSTAMP:20260419T155100
CREATED:20251209T155425Z
LAST-MODIFIED:20251209T155425Z
UID:10001739-1768468500-1768472100@goodrichvillagehall.co.uk
SUMMARY:Pilates
DESCRIPTION:
URL:https://goodrichvillagehall.co.uk/event/pilates-27/2026-01-15/
CATEGORIES:Godric Hall
END:VEVENT
BEGIN:VEVENT
DTSTART;TZID=Europe/London:20260115T103000
DTEND;TZID=Europe/London:20260115T113000
DTSTAMP:20260419T155100
CREATED:20251209T155705Z
LAST-MODIFIED:20251209T155705Z
UID:10001751-1768473000-1768476600@goodrichvillagehall.co.uk
SUMMARY:Pilates
DESCRIPTION:
URL:https://goodrichvillagehall.co.uk/event/pilates-28/2026-01-15/
CATEGORIES:Godric Hall
END:VEVENT
BEGIN:VEVENT
DTSTART;TZID=Europe/London:20260115T190000
DTEND;TZID=Europe/London:20260115T230000
DTSTAMP:20260419T155100
CREATED:20251208T201524Z
LAST-MODIFIED:20260207T154713Z
UID:10001658-1768503600-1768518000@goodrichvillagehall.co.uk
SUMMARY:Table Tennis
DESCRIPTION:
URL:https://goodrichvillagehall.co.uk/event/table-tennis-7/2026-01-15/
CATEGORIES:Godric Hall
END:VEVENT
BEGIN:VEVENT
DTSTART;TZID=Europe/London:20260115T190000
DTEND;TZID=Europe/London:20260115T230000
DTSTAMP:20260419T155100
CREATED:20260108T152150Z
LAST-MODIFIED:20260108T152150Z
UID:10002578-1768503600-1768518000@goodrichvillagehall.co.uk
SUMMARY:Table Tennis
DESCRIPTION:
URL:https://goodrichvillagehall.co.uk/event/table-tennis-10/
CATEGORIES:Tudor Room
END:VEVENT
BEGIN:VEVENT
DTSTART;TZID=Europe/London:20260118T130000
DTEND;TZID=Europe/London:20260118T170000
DTSTAMP:20260419T155100
CREATED:20251128T185302Z
LAST-MODIFIED:20251128T185302Z
UID:10001242-1768741200-1768755600@goodrichvillagehall.co.uk
SUMMARY:Private event (CG)
DESCRIPTION:
URL:https://goodrichvillagehall.co.uk/event/private-event-cg/
CATEGORIES:Godric Hall
END:VEVENT
BEGIN:VEVENT
DTSTART;TZID=Europe/London:20260118T173000
DTEND;TZID=Europe/London:20260118T193000
DTSTAMP:20260419T155100
CREATED:20251208T200518Z
LAST-MODIFIED:20251210T161243Z
UID:10001607-1768757400-1768764600@goodrichvillagehall.co.uk
SUMMARY:Family Table Tennis
DESCRIPTION:
URL:https://goodrichvillagehall.co.uk/event/family-table-tennis-3/2026-01-18/
CATEGORIES:Godric Hall
END:VEVENT
BEGIN:VEVENT
DTSTART;TZID=Europe/London:20260119T093000
DTEND;TZID=Europe/London:20260119T120000
DTSTAMP:20260419T155100
CREATED:20251208T200331Z
LAST-MODIFIED:20251208T200331Z
UID:10001555-1768815000-1768824000@goodrichvillagehall.co.uk
SUMMARY:Table Tennis
DESCRIPTION:
URL:https://goodrichvillagehall.co.uk/event/table-tennis-6/2026-01-19/
CATEGORIES:Godric Hall
END:VEVENT
BEGIN:VEVENT
DTSTART;TZID=Europe/London:20260119T193000
DTEND;TZID=Europe/London:20260119T213000
DTSTAMP:20260419T155100
CREATED:20260105T093412Z
LAST-MODIFIED:20260205T115433Z
UID:10002531-1768851000-1768858200@goodrichvillagehall.co.uk
SUMMARY:Roaring Megs (Community Choir)
DESCRIPTION:
URL:https://goodrichvillagehall.co.uk/event/roaring-megs-community-choir-7/2026-01-19/
CATEGORIES:Godric Hall
END:VEVENT
BEGIN:VEVENT
DTSTART;TZID=Europe/London:20260120T091500
DTEND;TZID=Europe/London:20260120T101500
DTSTAMP:20260419T155100
CREATED:20251209T154835Z
LAST-MODIFIED:20251209T154835Z
UID:10001714-1768900500-1768904100@goodrichvillagehall.co.uk
SUMMARY:Pilates
DESCRIPTION:
URL:https://goodrichvillagehall.co.uk/event/pilates-24/2026-01-20/
CATEGORIES:Godric Hall
END:VEVENT
BEGIN:VEVENT
DTSTART;TZID=Europe/London:20260120T103000
DTEND;TZID=Europe/London:20260120T113000
DTSTAMP:20260419T155100
CREATED:20251209T155043Z
LAST-MODIFIED:20251209T155043Z
UID:10001726-1768905000-1768908600@goodrichvillagehall.co.uk
SUMMARY:Pilates
DESCRIPTION:
URL:https://goodrichvillagehall.co.uk/event/pilates-25/2026-01-20/
CATEGORIES:Godric Hall
END:VEVENT
BEGIN:VEVENT
DTSTART;TZID=Europe/London:20260120T190000
DTEND;TZID=Europe/London:20260120T220000
DTSTAMP:20260419T155100
CREATED:20260103T201738Z
LAST-MODIFIED:20260209T164812Z
UID:10002483-1768935600-1768946400@goodrichvillagehall.co.uk
SUMMARY:Tango
DESCRIPTION:
URL:https://goodrichvillagehall.co.uk/event/tango-2/2026-01-20/
CATEGORIES:Godric Hall
END:VEVENT
BEGIN:VEVENT
DTSTART;TZID=Europe/London:20260121T173000
DTEND;TZID=Europe/London:20260121T183000
DTSTAMP:20260419T155100
CREATED:20251209T162235Z
LAST-MODIFIED:20251209T162235Z
UID:10001765-1769016600-1769020200@goodrichvillagehall.co.uk
SUMMARY:Pilates
DESCRIPTION:
URL:https://goodrichvillagehall.co.uk/event/pilates-20/2026-01-21/
CATEGORIES:Godric Hall
END:VEVENT
END:VCALENDAR