BEGIN:VCALENDAR
VERSION:2.0
PRODID:-//Goodrich Village Hall - ECPv6.15.17//NONSGML v1.0//EN
CALSCALE:GREGORIAN
METHOD:PUBLISH
X-ORIGINAL-URL:https://goodrichvillagehall.co.uk
X-WR-CALDESC:Events for Goodrich Village Hall
REFRESH-INTERVAL;VALUE=DURATION:PT1H
X-Robots-Tag:noindex
X-PUBLISHED-TTL:PT1H
BEGIN:VTIMEZONE
TZID:Europe/London
BEGIN:DAYLIGHT
TZOFFSETFROM:+0000
TZOFFSETTO:+0100
TZNAME:BST
DTSTART:20250330T010000
END:DAYLIGHT
BEGIN:STANDARD
TZOFFSETFROM:+0100
TZOFFSETTO:+0000
TZNAME:GMT
DTSTART:20251026T010000
END:STANDARD
BEGIN:DAYLIGHT
TZOFFSETFROM:+0000
TZOFFSETTO:+0100
TZNAME:BST
DTSTART:20260329T010000
END:DAYLIGHT
BEGIN:STANDARD
TZOFFSETFROM:+0100
TZOFFSETTO:+0000
TZNAME:GMT
DTSTART:20261025T010000
END:STANDARD
BEGIN:DAYLIGHT
TZOFFSETFROM:+0000
TZOFFSETTO:+0100
TZNAME:BST
DTSTART:20270328T010000
END:DAYLIGHT
BEGIN:STANDARD
TZOFFSETFROM:+0100
TZOFFSETTO:+0000
TZNAME:GMT
DTSTART:20271031T010000
END:STANDARD
END:VTIMEZONE
BEGIN:VEVENT
DTSTART;TZID=Europe/London:20260301T173000
DTEND;TZID=Europe/London:20260301T193000
DTSTAMP:20260424T111339
CREATED:20251208T200518Z
LAST-MODIFIED:20251210T161243Z
UID:10001613-1772386200-1772393400@goodrichvillagehall.co.uk
SUMMARY:Family Table Tennis
DESCRIPTION:
URL:https://goodrichvillagehall.co.uk/event/family-table-tennis-3/2026-03-01/
CATEGORIES:Godric Hall
END:VEVENT
BEGIN:VEVENT
DTSTART;TZID=Europe/London:20260302T093000
DTEND;TZID=Europe/London:20260302T120000
DTSTAMP:20260424T111339
CREATED:20251208T200331Z
LAST-MODIFIED:20251208T200331Z
UID:10001561-1772443800-1772452800@goodrichvillagehall.co.uk
SUMMARY:Table Tennis
DESCRIPTION:
URL:https://goodrichvillagehall.co.uk/event/table-tennis-6/2026-03-02/
CATEGORIES:Godric Hall
END:VEVENT
BEGIN:VEVENT
DTSTART;TZID=Europe/London:20260302T193000
DTEND;TZID=Europe/London:20260302T213000
DTSTAMP:20260424T111339
CREATED:20260105T093412Z
LAST-MODIFIED:20260205T115433Z
UID:10002537-1772479800-1772487000@goodrichvillagehall.co.uk
SUMMARY:Roaring Megs (Community Choir)
DESCRIPTION:
URL:https://goodrichvillagehall.co.uk/event/roaring-megs-community-choir-7/2026-03-02/
CATEGORIES:Godric Hall
END:VEVENT
BEGIN:VEVENT
DTSTART;TZID=Europe/London:20260303T091500
DTEND;TZID=Europe/London:20260303T101500
DTSTAMP:20260424T111339
CREATED:20251209T154835Z
LAST-MODIFIED:20251209T154835Z
UID:10001720-1772529300-1772532900@goodrichvillagehall.co.uk
SUMMARY:Pilates
DESCRIPTION:
URL:https://goodrichvillagehall.co.uk/event/pilates-24/2026-03-03/
CATEGORIES:Godric Hall
END:VEVENT
BEGIN:VEVENT
DTSTART;TZID=Europe/London:20260303T103000
DTEND;TZID=Europe/London:20260303T113000
DTSTAMP:20260424T111339
CREATED:20251209T155043Z
LAST-MODIFIED:20251209T155043Z
UID:10001732-1772533800-1772537400@goodrichvillagehall.co.uk
SUMMARY:Pilates
DESCRIPTION:
URL:https://goodrichvillagehall.co.uk/event/pilates-25/2026-03-03/
CATEGORIES:Godric Hall
END:VEVENT
BEGIN:VEVENT
DTSTART;TZID=Europe/London:20260303T133000
DTEND;TZID=Europe/London:20260303T143000
DTSTAMP:20260424T111339
CREATED:20260212T071306Z
LAST-MODIFIED:20260303T172737Z
UID:10002775-1772544600-1772548200@goodrichvillagehall.co.uk
SUMMARY:Chair Yoga (CM)
DESCRIPTION:
URL:https://goodrichvillagehall.co.uk/event/chair-yoga-cm-2/2026-03-03/
CATEGORIES:Godric Hall
END:VEVENT
BEGIN:VEVENT
DTSTART;TZID=Europe/London:20260303T190000
DTEND;TZID=Europe/London:20260303T220000
DTSTAMP:20260424T111339
CREATED:20260103T201738Z
LAST-MODIFIED:20260209T164812Z
UID:10002489-1772564400-1772575200@goodrichvillagehall.co.uk
SUMMARY:Tango
DESCRIPTION:
URL:https://goodrichvillagehall.co.uk/event/tango-2/2026-03-03/
CATEGORIES:Godric Hall
END:VEVENT
BEGIN:VEVENT
DTSTART;TZID=Europe/London:20260303T193000
DTEND;TZID=Europe/London:20260303T210000
DTSTAMP:20260424T111339
CREATED:20251212T210847Z
LAST-MODIFIED:20251212T210847Z
UID:10001851-1772566200-1772571600@goodrichvillagehall.co.uk
SUMMARY:Goodrich Village Hall Trustees' Meeting
DESCRIPTION:
URL:https://goodrichvillagehall.co.uk/event/goodrich-village-hall-trustees-meeting/2026-03-03/
CATEGORIES:Committee Room
END:VEVENT
BEGIN:VEVENT
DTSTART;TZID=Europe/London:20260304T173000
DTEND;TZID=Europe/London:20260304T183000
DTSTAMP:20260424T111339
CREATED:20251209T162235Z
LAST-MODIFIED:20251209T162235Z
UID:10001771-1772645400-1772649000@goodrichvillagehall.co.uk
SUMMARY:Pilates
DESCRIPTION:
URL:https://goodrichvillagehall.co.uk/event/pilates-20/2026-03-04/
CATEGORIES:Godric Hall
END:VEVENT
BEGIN:VEVENT
DTSTART;TZID=Europe/London:20260304T184500
DTEND;TZID=Europe/London:20260304T194500
DTSTAMP:20260424T111339
CREATED:20251209T162418Z
LAST-MODIFIED:20251209T164533Z
UID:10001782-1772649900-1772653500@goodrichvillagehall.co.uk
SUMMARY:Pilates
DESCRIPTION:
URL:https://goodrichvillagehall.co.uk/event/pilates-21/2026-03-04/
CATEGORIES:Godric Hall
END:VEVENT
BEGIN:VEVENT
DTSTART;TZID=Europe/London:20260305T091500
DTEND;TZID=Europe/London:20260305T101500
DTSTAMP:20260424T111339
CREATED:20251209T155425Z
LAST-MODIFIED:20251209T155425Z
UID:10001746-1772702100-1772705700@goodrichvillagehall.co.uk
SUMMARY:Pilates
DESCRIPTION:
URL:https://goodrichvillagehall.co.uk/event/pilates-27/2026-03-05/
CATEGORIES:Godric Hall
END:VEVENT
BEGIN:VEVENT
DTSTART;TZID=Europe/London:20260305T103000
DTEND;TZID=Europe/London:20260305T113000
DTSTAMP:20260424T111339
CREATED:20251209T155705Z
LAST-MODIFIED:20251209T155705Z
UID:10001758-1772706600-1772710200@goodrichvillagehall.co.uk
SUMMARY:Pilates
DESCRIPTION:
URL:https://goodrichvillagehall.co.uk/event/pilates-28/2026-03-05/
CATEGORIES:Godric Hall
END:VEVENT
BEGIN:VEVENT
DTSTART;TZID=Europe/London:20260305T190000
DTEND;TZID=Europe/London:20260305T230000
DTSTAMP:20260424T111339
CREATED:20251208T201524Z
LAST-MODIFIED:20260207T154713Z
UID:10001665-1772737200-1772751600@goodrichvillagehall.co.uk
SUMMARY:Table Tennis
DESCRIPTION:
URL:https://goodrichvillagehall.co.uk/event/table-tennis-7/2026-03-05/
CATEGORIES:Godric Hall
END:VEVENT
BEGIN:VEVENT
DTSTART;TZID=Europe/London:20260305T193000
DTEND;TZID=Europe/London:20260305T210000
DTSTAMP:20260424T111339
CREATED:20251208T191842Z
LAST-MODIFIED:20251208T193353Z
UID:10001534-1772739000-1772744400@goodrichvillagehall.co.uk
SUMMARY:Goodrich and Welsh Bicknor Parish Council
DESCRIPTION:Goodrich
URL:https://goodrichvillagehall.co.uk/event/goodrich-and-welsh-bicknor-parish-council/2026-03-05/
CATEGORIES:Committee Room
END:VEVENT
BEGIN:VEVENT
DTSTART;TZID=Europe/London:20260307T100000
DTEND;TZID=Europe/London:20260307T130000
DTSTAMP:20260424T111339
CREATED:20260101T114155Z
LAST-MODIFIED:20260416T152036Z
UID:10002473-1772877600-1772888400@goodrichvillagehall.co.uk
SUMMARY:Restorative Yoga (CM)
DESCRIPTION:
URL:https://goodrichvillagehall.co.uk/event/restorative-yoga-cm/2026-03-07/
CATEGORIES:Godric Hall
END:VEVENT
BEGIN:VEVENT
DTSTART;TZID=Europe/London:20260308T173000
DTEND;TZID=Europe/London:20260308T193000
DTSTAMP:20260424T111339
CREATED:20251208T200518Z
LAST-MODIFIED:20251210T161243Z
UID:10001614-1772991000-1772998200@goodrichvillagehall.co.uk
SUMMARY:Family Table Tennis
DESCRIPTION:
URL:https://goodrichvillagehall.co.uk/event/family-table-tennis-3/2026-03-08/
CATEGORIES:Godric Hall
END:VEVENT
BEGIN:VEVENT
DTSTART;TZID=Europe/London:20260309T093000
DTEND;TZID=Europe/London:20260309T120000
DTSTAMP:20260424T111339
CREATED:20251208T200331Z
LAST-MODIFIED:20251208T200331Z
UID:10001562-1773048600-1773057600@goodrichvillagehall.co.uk
SUMMARY:Table Tennis
DESCRIPTION:
URL:https://goodrichvillagehall.co.uk/event/table-tennis-6/2026-03-09/
CATEGORIES:Godric Hall
END:VEVENT
BEGIN:VEVENT
DTSTART;TZID=Europe/London:20260309T193000
DTEND;TZID=Europe/London:20260309T213000
DTSTAMP:20260424T111339
CREATED:20260105T093412Z
LAST-MODIFIED:20260205T115433Z
UID:10002538-1773084600-1773091800@goodrichvillagehall.co.uk
SUMMARY:Roaring Megs (Community Choir)
DESCRIPTION:
URL:https://goodrichvillagehall.co.uk/event/roaring-megs-community-choir-7/2026-03-09/
CATEGORIES:Godric Hall
END:VEVENT
BEGIN:VEVENT
DTSTART;TZID=Europe/London:20260310T091500
DTEND;TZID=Europe/London:20260310T101500
DTSTAMP:20260424T111339
CREATED:20251209T154835Z
LAST-MODIFIED:20251209T154835Z
UID:10001721-1773134100-1773137700@goodrichvillagehall.co.uk
SUMMARY:Pilates
DESCRIPTION:
URL:https://goodrichvillagehall.co.uk/event/pilates-24/2026-03-10/
CATEGORIES:Godric Hall
END:VEVENT
BEGIN:VEVENT
DTSTART;TZID=Europe/London:20260310T103000
DTEND;TZID=Europe/London:20260310T113000
DTSTAMP:20260424T111339
CREATED:20251209T155043Z
LAST-MODIFIED:20251209T155043Z
UID:10001733-1773138600-1773142200@goodrichvillagehall.co.uk
SUMMARY:Pilates
DESCRIPTION:
URL:https://goodrichvillagehall.co.uk/event/pilates-25/2026-03-10/
CATEGORIES:Godric Hall
END:VEVENT
BEGIN:VEVENT
DTSTART;TZID=Europe/London:20260310T133000
DTEND;TZID=Europe/London:20260310T143000
DTSTAMP:20260424T111339
CREATED:20260212T071306Z
LAST-MODIFIED:20260303T172737Z
UID:10002776-1773149400-1773153000@goodrichvillagehall.co.uk
SUMMARY:Chair Yoga (CM)
DESCRIPTION:
URL:https://goodrichvillagehall.co.uk/event/chair-yoga-cm-2/2026-03-10/
CATEGORIES:Godric Hall
END:VEVENT
BEGIN:VEVENT
DTSTART;TZID=Europe/London:20260310T190000
DTEND;TZID=Europe/London:20260310T220000
DTSTAMP:20260424T111339
CREATED:20260103T201738Z
LAST-MODIFIED:20260209T164812Z
UID:10002490-1773169200-1773180000@goodrichvillagehall.co.uk
SUMMARY:Tango
DESCRIPTION:
URL:https://goodrichvillagehall.co.uk/event/tango-2/2026-03-10/
CATEGORIES:Godric Hall
END:VEVENT
BEGIN:VEVENT
DTSTART;TZID=Europe/London:20260311T173000
DTEND;TZID=Europe/London:20260311T183000
DTSTAMP:20260424T111339
CREATED:20251209T162235Z
LAST-MODIFIED:20251209T162235Z
UID:10001772-1773250200-1773253800@goodrichvillagehall.co.uk
SUMMARY:Pilates
DESCRIPTION:
URL:https://goodrichvillagehall.co.uk/event/pilates-20/2026-03-11/
CATEGORIES:Godric Hall
END:VEVENT
BEGIN:VEVENT
DTSTART;TZID=Europe/London:20260311T184500
DTEND;TZID=Europe/London:20260311T194500
DTSTAMP:20260424T111339
CREATED:20251209T162418Z
LAST-MODIFIED:20251209T164533Z
UID:10001783-1773254700-1773258300@goodrichvillagehall.co.uk
SUMMARY:Pilates
DESCRIPTION:
URL:https://goodrichvillagehall.co.uk/event/pilates-21/2026-03-11/
CATEGORIES:Godric Hall
END:VEVENT
BEGIN:VEVENT
DTSTART;TZID=Europe/London:20260312T091500
DTEND;TZID=Europe/London:20260312T101500
DTSTAMP:20260424T111339
CREATED:20251209T155425Z
LAST-MODIFIED:20251209T155425Z
UID:10001747-1773306900-1773310500@goodrichvillagehall.co.uk
SUMMARY:Pilates
DESCRIPTION:
URL:https://goodrichvillagehall.co.uk/event/pilates-27/2026-03-12/
CATEGORIES:Godric Hall
END:VEVENT
BEGIN:VEVENT
DTSTART;TZID=Europe/London:20260312T103000
DTEND;TZID=Europe/London:20260312T113000
DTSTAMP:20260424T111339
CREATED:20251209T155705Z
LAST-MODIFIED:20251209T155705Z
UID:10001759-1773311400-1773315000@goodrichvillagehall.co.uk
SUMMARY:Pilates
DESCRIPTION:
URL:https://goodrichvillagehall.co.uk/event/pilates-28/2026-03-12/
CATEGORIES:Godric Hall
END:VEVENT
BEGIN:VEVENT
DTSTART;TZID=Europe/London:20260312T190000
DTEND;TZID=Europe/London:20260312T230000
DTSTAMP:20260424T111339
CREATED:20251208T201524Z
LAST-MODIFIED:20260207T154713Z
UID:10001666-1773342000-1773356400@goodrichvillagehall.co.uk
SUMMARY:Table Tennis
DESCRIPTION:
URL:https://goodrichvillagehall.co.uk/event/table-tennis-7/2026-03-12/
CATEGORIES:Godric Hall
END:VEVENT
BEGIN:VEVENT
DTSTART;TZID=Europe/London:20260314T200000
DTEND;TZID=Europe/London:20260315T010000
DTSTAMP:20260424T111339
CREATED:20260202T213357Z
LAST-MODIFIED:20260309T202544Z
UID:10002584-1773518400-1773536400@goodrichvillagehall.co.uk
SUMMARY:Private Event (Phil)
DESCRIPTION:
URL:https://goodrichvillagehall.co.uk/event/private-event-phil-tbc/
CATEGORIES:Whole Building
END:VEVENT
BEGIN:VEVENT
DTSTART;TZID=Europe/London:20260315T173000
DTEND;TZID=Europe/London:20260315T193000
DTSTAMP:20260424T111339
CREATED:20251208T200518Z
LAST-MODIFIED:20251210T161243Z
UID:10001615-1773595800-1773603000@goodrichvillagehall.co.uk
SUMMARY:Family Table Tennis
DESCRIPTION:
URL:https://goodrichvillagehall.co.uk/event/family-table-tennis-3/2026-03-15/
CATEGORIES:Godric Hall
END:VEVENT
BEGIN:VEVENT
DTSTART;TZID=Europe/London:20260316T093000
DTEND;TZID=Europe/London:20260316T120000
DTSTAMP:20260424T111339
CREATED:20251208T200331Z
LAST-MODIFIED:20251208T200331Z
UID:10001563-1773653400-1773662400@goodrichvillagehall.co.uk
SUMMARY:Table Tennis
DESCRIPTION:
URL:https://goodrichvillagehall.co.uk/event/table-tennis-6/2026-03-16/
CATEGORIES:Godric Hall
END:VEVENT
END:VCALENDAR