BEGIN:VCALENDAR
VERSION:2.0
PRODID:-//Goodrich Village Hall - ECPv6.15.17//NONSGML v1.0//EN
CALSCALE:GREGORIAN
METHOD:PUBLISH
X-ORIGINAL-URL:https://goodrichvillagehall.co.uk
X-WR-CALDESC:Events for Goodrich Village Hall
REFRESH-INTERVAL;VALUE=DURATION:PT1H
X-Robots-Tag:noindex
X-PUBLISHED-TTL:PT1H
BEGIN:VTIMEZONE
TZID:Europe/London
BEGIN:DAYLIGHT
TZOFFSETFROM:+0000
TZOFFSETTO:+0100
TZNAME:BST
DTSTART:20250330T010000
END:DAYLIGHT
BEGIN:STANDARD
TZOFFSETFROM:+0100
TZOFFSETTO:+0000
TZNAME:GMT
DTSTART:20251026T010000
END:STANDARD
BEGIN:DAYLIGHT
TZOFFSETFROM:+0000
TZOFFSETTO:+0100
TZNAME:BST
DTSTART:20260329T010000
END:DAYLIGHT
BEGIN:STANDARD
TZOFFSETFROM:+0100
TZOFFSETTO:+0000
TZNAME:GMT
DTSTART:20261025T010000
END:STANDARD
BEGIN:DAYLIGHT
TZOFFSETFROM:+0000
TZOFFSETTO:+0100
TZNAME:BST
DTSTART:20270328T010000
END:DAYLIGHT
BEGIN:STANDARD
TZOFFSETFROM:+0100
TZOFFSETTO:+0000
TZNAME:GMT
DTSTART:20271031T010000
END:STANDARD
END:VTIMEZONE
BEGIN:VEVENT
DTSTART;TZID=Europe/London:20260502T200000
DTEND;TZID=Europe/London:20260503T010000
DTSTAMP:20260419T155050
CREATED:20260324T203706Z
LAST-MODIFIED:20260324T203706Z
UID:10002823-1777752000-1777770000@goodrichvillagehall.co.uk
SUMMARY:Private Event (PK)
DESCRIPTION:
URL:https://goodrichvillagehall.co.uk/event/private-event-pk/
CATEGORIES:Whole Building
END:VEVENT
BEGIN:VEVENT
DTSTART;TZID=Europe/London:20260503T173000
DTEND;TZID=Europe/London:20260503T193000
DTSTAMP:20260419T155051
CREATED:20251208T200518Z
LAST-MODIFIED:20251210T161243Z
UID:10001622-1777829400-1777836600@goodrichvillagehall.co.uk
SUMMARY:Family Table Tennis
DESCRIPTION:
URL:https://goodrichvillagehall.co.uk/event/family-table-tennis-3/2026-05-03/
CATEGORIES:Godric Hall
END:VEVENT
BEGIN:VEVENT
DTSTART;TZID=Europe/London:20260504T093000
DTEND;TZID=Europe/London:20260504T120000
DTSTAMP:20260419T155051
CREATED:20251208T200331Z
LAST-MODIFIED:20251208T200331Z
UID:10001570-1777887000-1777896000@goodrichvillagehall.co.uk
SUMMARY:Table Tennis
DESCRIPTION:
URL:https://goodrichvillagehall.co.uk/event/table-tennis-6/2026-05-04/
CATEGORIES:Godric Hall
END:VEVENT
BEGIN:VEVENT
DTSTART;TZID=Europe/London:20260505T091500
DTEND;TZID=Europe/London:20260505T101500
DTSTAMP:20260419T155051
CREATED:20251209T165144Z
LAST-MODIFIED:20251209T165144Z
UID:10001790-1777972500-1777976100@goodrichvillagehall.co.uk
SUMMARY:Pilates
DESCRIPTION:
URL:https://goodrichvillagehall.co.uk/event/pilates-22/2026-05-05/
CATEGORIES:Godric Hall
END:VEVENT
BEGIN:VEVENT
DTSTART;TZID=Europe/London:20260505T103000
DTEND;TZID=Europe/London:20260505T113000
DTSTAMP:20260419T155051
CREATED:20251209T165430Z
LAST-MODIFIED:20251209T165430Z
UID:10001797-1777977000-1777980600@goodrichvillagehall.co.uk
SUMMARY:Pilates
DESCRIPTION:
URL:https://goodrichvillagehall.co.uk/event/pilates-23/2026-05-05/
CATEGORIES:Godric Hall
END:VEVENT
BEGIN:VEVENT
DTSTART;TZID=Europe/London:20260505T133000
DTEND;TZID=Europe/London:20260505T143000
DTSTAMP:20260419T155051
CREATED:20260212T071306Z
LAST-MODIFIED:20260303T172737Z
UID:10002784-1777987800-1777991400@goodrichvillagehall.co.uk
SUMMARY:Chair Yoga (CM)
DESCRIPTION:
URL:https://goodrichvillagehall.co.uk/event/chair-yoga-cm-2/2026-05-05/
CATEGORIES:Godric Hall
END:VEVENT
BEGIN:VEVENT
DTSTART;TZID=Europe/London:20260505T190000
DTEND;TZID=Europe/London:20260505T220000
DTSTAMP:20260419T155051
CREATED:20260103T201738Z
LAST-MODIFIED:20260209T164812Z
UID:10002498-1778007600-1778018400@goodrichvillagehall.co.uk
SUMMARY:Tango
DESCRIPTION:
URL:https://goodrichvillagehall.co.uk/event/tango-2/2026-05-05/
CATEGORIES:Godric Hall
END:VEVENT
BEGIN:VEVENT
DTSTART;TZID=Europe/London:20260505T193000
DTEND;TZID=Europe/London:20260505T210000
DTSTAMP:20260419T155051
CREATED:20251212T210847Z
LAST-MODIFIED:20251212T210847Z
UID:10001852-1778009400-1778014800@goodrichvillagehall.co.uk
SUMMARY:Goodrich Village Hall Trustees' Meeting
DESCRIPTION:
URL:https://goodrichvillagehall.co.uk/event/goodrich-village-hall-trustees-meeting/2026-05-05/
CATEGORIES:Committee Room
END:VEVENT
BEGIN:VEVENT
DTSTART;TZID=Europe/London:20260506T173000
DTEND;TZID=Europe/London:20260506T183000
DTSTAMP:20260419T155051
CREATED:20251209T195540Z
LAST-MODIFIED:20251209T195540Z
UID:10001804-1778088600-1778092200@goodrichvillagehall.co.uk
SUMMARY:Pilates
DESCRIPTION:
URL:https://goodrichvillagehall.co.uk/event/pilates-29/2026-05-06/
CATEGORIES:Godric Hall
END:VEVENT
BEGIN:VEVENT
DTSTART;TZID=Europe/London:20260506T184500
DTEND;TZID=Europe/London:20260506T194500
DTSTAMP:20260419T155051
CREATED:20251209T195732Z
LAST-MODIFIED:20251209T195732Z
UID:10001811-1778093100-1778096700@goodrichvillagehall.co.uk
SUMMARY:Pilates
DESCRIPTION:
URL:https://goodrichvillagehall.co.uk/event/pilates-30/2026-05-06/
CATEGORIES:Godric Hall
END:VEVENT
BEGIN:VEVENT
DTSTART;TZID=Europe/London:20260507T091500
DTEND;TZID=Europe/London:20260507T101500
DTSTAMP:20260419T155051
CREATED:20251209T195905Z
LAST-MODIFIED:20251209T195905Z
UID:10001818-1778145300-1778148900@goodrichvillagehall.co.uk
SUMMARY:Pilates
DESCRIPTION:
URL:https://goodrichvillagehall.co.uk/event/pilates-31/2026-05-07/
CATEGORIES:Godric Hall
END:VEVENT
BEGIN:VEVENT
DTSTART;TZID=Europe/London:20260507T103000
DTEND;TZID=Europe/London:20260507T113000
DTSTAMP:20260419T155051
CREATED:20251209T200030Z
LAST-MODIFIED:20251209T200030Z
UID:10001825-1778149800-1778153400@goodrichvillagehall.co.uk
SUMMARY:Pilates
DESCRIPTION:Pilate
URL:https://goodrichvillagehall.co.uk/event/pilates-32/2026-05-07/
CATEGORIES:Godric Hall
END:VEVENT
BEGIN:VEVENT
DTSTART;TZID=Europe/London:20260507T190000
DTEND;TZID=Europe/London:20260507T230000
DTSTAMP:20260419T155051
CREATED:20251208T201524Z
LAST-MODIFIED:20260207T154713Z
UID:10001674-1778180400-1778194800@goodrichvillagehall.co.uk
SUMMARY:Table Tennis
DESCRIPTION:
URL:https://goodrichvillagehall.co.uk/event/table-tennis-7/2026-05-07/
CATEGORIES:Godric Hall
END:VEVENT
BEGIN:VEVENT
DTSTART;TZID=Europe/London:20260507T193000
DTEND;TZID=Europe/London:20260507T210000
DTSTAMP:20260419T155051
CREATED:20251208T191842Z
LAST-MODIFIED:20251208T193353Z
UID:10001536-1778182200-1778187600@goodrichvillagehall.co.uk
SUMMARY:Goodrich and Welsh Bicknor Parish Council
DESCRIPTION:Goodrich
URL:https://goodrichvillagehall.co.uk/event/goodrich-and-welsh-bicknor-parish-council/2026-05-07/
CATEGORIES:Committee Room
END:VEVENT
BEGIN:VEVENT
DTSTART;TZID=Europe/London:20260510T173000
DTEND;TZID=Europe/London:20260510T193000
DTSTAMP:20260419T155051
CREATED:20251208T200518Z
LAST-MODIFIED:20251210T161243Z
UID:10001623-1778434200-1778441400@goodrichvillagehall.co.uk
SUMMARY:Family Table Tennis
DESCRIPTION:
URL:https://goodrichvillagehall.co.uk/event/family-table-tennis-3/2026-05-10/
CATEGORIES:Godric Hall
END:VEVENT
BEGIN:VEVENT
DTSTART;TZID=Europe/London:20260511T093000
DTEND;TZID=Europe/London:20260511T120000
DTSTAMP:20260419T155051
CREATED:20251208T200331Z
LAST-MODIFIED:20251208T200331Z
UID:10001571-1778491800-1778500800@goodrichvillagehall.co.uk
SUMMARY:Table Tennis
DESCRIPTION:
URL:https://goodrichvillagehall.co.uk/event/table-tennis-6/2026-05-11/
CATEGORIES:Godric Hall
END:VEVENT
BEGIN:VEVENT
DTSTART;TZID=Europe/London:20260511T180000
DTEND;TZID=Europe/London:20260511T190000
DTSTAMP:20260419T155051
CREATED:20260418T154042Z
LAST-MODIFIED:20260418T154337Z
UID:10002831-1778522400-1778526000@goodrichvillagehall.co.uk
SUMMARY:Yoga (CW)
DESCRIPTION:
URL:https://goodrichvillagehall.co.uk/event/yoga-cw/2026-05-11/
CATEGORIES:Godric Hall
END:VEVENT
BEGIN:VEVENT
DTSTART;TZID=Europe/London:20260511T193000
DTEND;TZID=Europe/London:20260511T213000
DTSTAMP:20260419T155051
CREATED:20260105T093412Z
LAST-MODIFIED:20260205T115433Z
UID:10002546-1778527800-1778535000@goodrichvillagehall.co.uk
SUMMARY:Roaring Megs (Community Choir)
DESCRIPTION:
URL:https://goodrichvillagehall.co.uk/event/roaring-megs-community-choir-7/2026-05-11/
CATEGORIES:Godric Hall
END:VEVENT
BEGIN:VEVENT
DTSTART;TZID=Europe/London:20260512T091500
DTEND;TZID=Europe/London:20260512T101500
DTSTAMP:20260419T155051
CREATED:20251209T165144Z
LAST-MODIFIED:20251209T165144Z
UID:10001791-1778577300-1778580900@goodrichvillagehall.co.uk
SUMMARY:Pilates
DESCRIPTION:
URL:https://goodrichvillagehall.co.uk/event/pilates-22/2026-05-12/
CATEGORIES:Godric Hall
END:VEVENT
BEGIN:VEVENT
DTSTART;TZID=Europe/London:20260512T103000
DTEND;TZID=Europe/London:20260512T113000
DTSTAMP:20260419T155051
CREATED:20251209T165430Z
LAST-MODIFIED:20251209T165430Z
UID:10001798-1778581800-1778585400@goodrichvillagehall.co.uk
SUMMARY:Pilates
DESCRIPTION:
URL:https://goodrichvillagehall.co.uk/event/pilates-23/2026-05-12/
CATEGORIES:Godric Hall
END:VEVENT
BEGIN:VEVENT
DTSTART;TZID=Europe/London:20260512T133000
DTEND;TZID=Europe/London:20260512T143000
DTSTAMP:20260419T155051
CREATED:20260212T071306Z
LAST-MODIFIED:20260303T172737Z
UID:10002785-1778592600-1778596200@goodrichvillagehall.co.uk
SUMMARY:Chair Yoga (CM)
DESCRIPTION:
URL:https://goodrichvillagehall.co.uk/event/chair-yoga-cm-2/2026-05-12/
CATEGORIES:Godric Hall
END:VEVENT
BEGIN:VEVENT
DTSTART;TZID=Europe/London:20260512T190000
DTEND;TZID=Europe/London:20260512T220000
DTSTAMP:20260419T155051
CREATED:20260103T201738Z
LAST-MODIFIED:20260209T164812Z
UID:10002499-1778612400-1778623200@goodrichvillagehall.co.uk
SUMMARY:Tango
DESCRIPTION:
URL:https://goodrichvillagehall.co.uk/event/tango-2/2026-05-12/
CATEGORIES:Godric Hall
END:VEVENT
BEGIN:VEVENT
DTSTART;TZID=Europe/London:20260513T173000
DTEND;TZID=Europe/London:20260513T183000
DTSTAMP:20260419T155051
CREATED:20251209T195540Z
LAST-MODIFIED:20251209T195540Z
UID:10001805-1778693400-1778697000@goodrichvillagehall.co.uk
SUMMARY:Pilates
DESCRIPTION:
URL:https://goodrichvillagehall.co.uk/event/pilates-29/2026-05-13/
CATEGORIES:Godric Hall
END:VEVENT
BEGIN:VEVENT
DTSTART;TZID=Europe/London:20260513T184500
DTEND;TZID=Europe/London:20260513T194500
DTSTAMP:20260419T155051
CREATED:20251209T195732Z
LAST-MODIFIED:20251209T195732Z
UID:10001812-1778697900-1778701500@goodrichvillagehall.co.uk
SUMMARY:Pilates
DESCRIPTION:
URL:https://goodrichvillagehall.co.uk/event/pilates-30/2026-05-13/
CATEGORIES:Godric Hall
END:VEVENT
BEGIN:VEVENT
DTSTART;TZID=Europe/London:20260514T091500
DTEND;TZID=Europe/London:20260514T101500
DTSTAMP:20260419T155051
CREATED:20251209T195905Z
LAST-MODIFIED:20251209T195905Z
UID:10001819-1778750100-1778753700@goodrichvillagehall.co.uk
SUMMARY:Pilates
DESCRIPTION:
URL:https://goodrichvillagehall.co.uk/event/pilates-31/2026-05-14/
CATEGORIES:Godric Hall
END:VEVENT
BEGIN:VEVENT
DTSTART;TZID=Europe/London:20260514T103000
DTEND;TZID=Europe/London:20260514T113000
DTSTAMP:20260419T155051
CREATED:20251209T200030Z
LAST-MODIFIED:20251209T200030Z
UID:10001826-1778754600-1778758200@goodrichvillagehall.co.uk
SUMMARY:Pilates
DESCRIPTION:Pilate
URL:https://goodrichvillagehall.co.uk/event/pilates-32/2026-05-14/
CATEGORIES:Godric Hall
END:VEVENT
BEGIN:VEVENT
DTSTART;TZID=Europe/London:20260514T190000
DTEND;TZID=Europe/London:20260514T230000
DTSTAMP:20260419T155051
CREATED:20251208T201524Z
LAST-MODIFIED:20260207T154713Z
UID:10001675-1778785200-1778799600@goodrichvillagehall.co.uk
SUMMARY:Table Tennis
DESCRIPTION:
URL:https://goodrichvillagehall.co.uk/event/table-tennis-7/2026-05-14/
CATEGORIES:Godric Hall
END:VEVENT
BEGIN:VEVENT
DTSTART;TZID=Europe/London:20260516T100000
DTEND;TZID=Europe/London:20260516T150000
DTSTAMP:20260419T155051
CREATED:20260414T153528Z
LAST-MODIFIED:20260414T153528Z
UID:10002828-1778925600-1778943600@goodrichvillagehall.co.uk
SUMMARY:Restorative Yoga (CM)
DESCRIPTION:
URL:https://goodrichvillagehall.co.uk/event/restorative-yoga-cm-2/
CATEGORIES:Godric Hall
END:VEVENT
BEGIN:VEVENT
DTSTART;TZID=Europe/London:20260517T173000
DTEND;TZID=Europe/London:20260517T193000
DTSTAMP:20260419T155051
CREATED:20251208T200518Z
LAST-MODIFIED:20251210T161243Z
UID:10001624-1779039000-1779046200@goodrichvillagehall.co.uk
SUMMARY:Family Table Tennis
DESCRIPTION:
URL:https://goodrichvillagehall.co.uk/event/family-table-tennis-3/2026-05-17/
CATEGORIES:Godric Hall
END:VEVENT
BEGIN:VEVENT
DTSTART;TZID=Europe/London:20260518T093000
DTEND;TZID=Europe/London:20260518T120000
DTSTAMP:20260419T155051
CREATED:20251208T200331Z
LAST-MODIFIED:20251208T200331Z
UID:10001572-1779096600-1779105600@goodrichvillagehall.co.uk
SUMMARY:Table Tennis
DESCRIPTION:
URL:https://goodrichvillagehall.co.uk/event/table-tennis-6/2026-05-18/
CATEGORIES:Godric Hall
END:VEVENT
END:VCALENDAR