BEGIN:VCALENDAR
VERSION:2.0
PRODID:-//Goodrich Village Hall - ECPv6.15.17//NONSGML v1.0//EN
CALSCALE:GREGORIAN
METHOD:PUBLISH
X-WR-CALNAME:Goodrich Village Hall
X-ORIGINAL-URL:https://goodrichvillagehall.co.uk
X-WR-CALDESC:Events for Goodrich Village Hall
REFRESH-INTERVAL;VALUE=DURATION:PT1H
X-Robots-Tag:noindex
X-PUBLISHED-TTL:PT1H
BEGIN:VTIMEZONE
TZID:Europe/London
BEGIN:DAYLIGHT
TZOFFSETFROM:+0000
TZOFFSETTO:+0100
TZNAME:BST
DTSTART:20250330T010000
END:DAYLIGHT
BEGIN:STANDARD
TZOFFSETFROM:+0100
TZOFFSETTO:+0000
TZNAME:GMT
DTSTART:20251026T010000
END:STANDARD
BEGIN:DAYLIGHT
TZOFFSETFROM:+0000
TZOFFSETTO:+0100
TZNAME:BST
DTSTART:20260329T010000
END:DAYLIGHT
BEGIN:STANDARD
TZOFFSETFROM:+0100
TZOFFSETTO:+0000
TZNAME:GMT
DTSTART:20261025T010000
END:STANDARD
BEGIN:DAYLIGHT
TZOFFSETFROM:+0000
TZOFFSETTO:+0100
TZNAME:BST
DTSTART:20270328T010000
END:DAYLIGHT
BEGIN:STANDARD
TZOFFSETFROM:+0100
TZOFFSETTO:+0000
TZNAME:GMT
DTSTART:20271031T010000
END:STANDARD
END:VTIMEZONE
BEGIN:VEVENT
DTSTART;TZID=Europe/London:20260601T093000
DTEND;TZID=Europe/London:20260601T120000
DTSTAMP:20260419T172349
CREATED:20251208T200331Z
LAST-MODIFIED:20251208T200331Z
UID:10001574-1780306200-1780315200@goodrichvillagehall.co.uk
SUMMARY:Table Tennis
DESCRIPTION:
URL:https://goodrichvillagehall.co.uk/event/table-tennis-6/2026-06-01/
CATEGORIES:Godric Hall
END:VEVENT
BEGIN:VEVENT
DTSTART;TZID=Europe/London:20260601T193000
DTEND;TZID=Europe/London:20260601T213000
DTSTAMP:20260419T172349
CREATED:20260105T093412Z
LAST-MODIFIED:20260205T115433Z
UID:10002549-1780342200-1780349400@goodrichvillagehall.co.uk
SUMMARY:Roaring Megs (Community Choir)
DESCRIPTION:
URL:https://goodrichvillagehall.co.uk/event/roaring-megs-community-choir-7/2026-06-01/
CATEGORIES:Godric Hall
END:VEVENT
BEGIN:VEVENT
DTSTART;TZID=Europe/London:20260602T091500
DTEND;TZID=Europe/London:20260602T101500
DTSTAMP:20260419T172349
CREATED:20251209T165144Z
LAST-MODIFIED:20251209T165144Z
UID:10001794-1780391700-1780395300@goodrichvillagehall.co.uk
SUMMARY:Pilates
DESCRIPTION:
URL:https://goodrichvillagehall.co.uk/event/pilates-22/2026-06-02/
CATEGORIES:Godric Hall
END:VEVENT
BEGIN:VEVENT
DTSTART;TZID=Europe/London:20260602T103000
DTEND;TZID=Europe/London:20260602T113000
DTSTAMP:20260419T172349
CREATED:20251209T165430Z
LAST-MODIFIED:20251209T165430Z
UID:10001801-1780396200-1780399800@goodrichvillagehall.co.uk
SUMMARY:Pilates
DESCRIPTION:
URL:https://goodrichvillagehall.co.uk/event/pilates-23/2026-06-02/
CATEGORIES:Godric Hall
END:VEVENT
BEGIN:VEVENT
DTSTART;TZID=Europe/London:20260602T133000
DTEND;TZID=Europe/London:20260602T143000
DTSTAMP:20260419T172349
CREATED:20260212T071306Z
LAST-MODIFIED:20260303T172737Z
UID:10002788-1780407000-1780410600@goodrichvillagehall.co.uk
SUMMARY:Chair Yoga (CM)
DESCRIPTION:
URL:https://goodrichvillagehall.co.uk/event/chair-yoga-cm-2/2026-06-02/
CATEGORIES:Godric Hall
END:VEVENT
BEGIN:VEVENT
DTSTART;TZID=Europe/London:20260602T190000
DTEND;TZID=Europe/London:20260602T220000
DTSTAMP:20260419T172349
CREATED:20260103T201738Z
LAST-MODIFIED:20260209T164812Z
UID:10002502-1780426800-1780437600@goodrichvillagehall.co.uk
SUMMARY:Tango
DESCRIPTION:
URL:https://goodrichvillagehall.co.uk/event/tango-2/2026-06-02/
CATEGORIES:Godric Hall
END:VEVENT
BEGIN:VEVENT
DTSTART;TZID=Europe/London:20260603T173000
DTEND;TZID=Europe/London:20260603T183000
DTSTAMP:20260419T172349
CREATED:20251209T195540Z
LAST-MODIFIED:20251209T195540Z
UID:10001808-1780507800-1780511400@goodrichvillagehall.co.uk
SUMMARY:Pilates
DESCRIPTION:
URL:https://goodrichvillagehall.co.uk/event/pilates-29/2026-06-03/
CATEGORIES:Godric Hall
END:VEVENT
BEGIN:VEVENT
DTSTART;TZID=Europe/London:20260603T184500
DTEND;TZID=Europe/London:20260603T194500
DTSTAMP:20260419T172349
CREATED:20251209T195732Z
LAST-MODIFIED:20251209T195732Z
UID:10001815-1780512300-1780515900@goodrichvillagehall.co.uk
SUMMARY:Pilates
DESCRIPTION:
URL:https://goodrichvillagehall.co.uk/event/pilates-30/2026-06-03/
CATEGORIES:Godric Hall
END:VEVENT
BEGIN:VEVENT
DTSTART;TZID=Europe/London:20260604T091500
DTEND;TZID=Europe/London:20260604T101500
DTSTAMP:20260419T172349
CREATED:20251209T195905Z
LAST-MODIFIED:20251209T195905Z
UID:10001822-1780564500-1780568100@goodrichvillagehall.co.uk
SUMMARY:Pilates
DESCRIPTION:
URL:https://goodrichvillagehall.co.uk/event/pilates-31/2026-06-04/
CATEGORIES:Godric Hall
END:VEVENT
BEGIN:VEVENT
DTSTART;TZID=Europe/London:20260604T103000
DTEND;TZID=Europe/London:20260604T113000
DTSTAMP:20260419T172349
CREATED:20251209T200030Z
LAST-MODIFIED:20251209T200030Z
UID:10001829-1780569000-1780572600@goodrichvillagehall.co.uk
SUMMARY:Pilates
DESCRIPTION:Pilate
URL:https://goodrichvillagehall.co.uk/event/pilates-32/2026-06-04/
CATEGORIES:Godric Hall
END:VEVENT
BEGIN:VEVENT
DTSTART;TZID=Europe/London:20260604T190000
DTEND;TZID=Europe/London:20260604T230000
DTSTAMP:20260419T172349
CREATED:20251208T201524Z
LAST-MODIFIED:20260207T154713Z
UID:10001678-1780599600-1780614000@goodrichvillagehall.co.uk
SUMMARY:Table Tennis
DESCRIPTION:
URL:https://goodrichvillagehall.co.uk/event/table-tennis-7/2026-06-04/
CATEGORIES:Godric Hall
END:VEVENT
BEGIN:VEVENT
DTSTART;TZID=Europe/London:20260604T193000
DTEND;TZID=Europe/London:20260604T210000
DTSTAMP:20260419T172349
CREATED:20251208T191842Z
LAST-MODIFIED:20251208T193353Z
UID:10001537-1780601400-1780606800@goodrichvillagehall.co.uk
SUMMARY:Goodrich and Welsh Bicknor Parish Council
DESCRIPTION:Goodrich
URL:https://goodrichvillagehall.co.uk/event/goodrich-and-welsh-bicknor-parish-council/2026-06-04/
CATEGORIES:Committee Room
END:VEVENT
BEGIN:VEVENT
DTSTART;TZID=Europe/London:20260606T100000
DTEND;TZID=Europe/London:20260606T150000
DTSTAMP:20260419T172349
CREATED:20260416T152219Z
LAST-MODIFIED:20260416T152219Z
UID:10002829-1780740000-1780758000@goodrichvillagehall.co.uk
SUMMARY:Restorative Yoga (CM)
DESCRIPTION:
URL:https://goodrichvillagehall.co.uk/event/restorative-yoga-cm-3/
CATEGORIES:Godric Hall
END:VEVENT
BEGIN:VEVENT
DTSTART;TZID=Europe/London:20260607T173000
DTEND;TZID=Europe/London:20260607T193000
DTSTAMP:20260419T172349
CREATED:20251208T200518Z
LAST-MODIFIED:20251210T161243Z
UID:10001627-1780853400-1780860600@goodrichvillagehall.co.uk
SUMMARY:Family Table Tennis
DESCRIPTION:
URL:https://goodrichvillagehall.co.uk/event/family-table-tennis-3/2026-06-07/
CATEGORIES:Godric Hall
END:VEVENT
BEGIN:VEVENT
DTSTART;TZID=Europe/London:20260608T093000
DTEND;TZID=Europe/London:20260608T120000
DTSTAMP:20260419T172349
CREATED:20251208T200331Z
LAST-MODIFIED:20251208T200331Z
UID:10001575-1780911000-1780920000@goodrichvillagehall.co.uk
SUMMARY:Table Tennis
DESCRIPTION:
URL:https://goodrichvillagehall.co.uk/event/table-tennis-6/2026-06-08/
CATEGORIES:Godric Hall
END:VEVENT
BEGIN:VEVENT
DTSTART;TZID=Europe/London:20260608T193000
DTEND;TZID=Europe/London:20260608T213000
DTSTAMP:20260419T172349
CREATED:20260105T093412Z
LAST-MODIFIED:20260205T115433Z
UID:10002550-1780947000-1780954200@goodrichvillagehall.co.uk
SUMMARY:Roaring Megs (Community Choir)
DESCRIPTION:
URL:https://goodrichvillagehall.co.uk/event/roaring-megs-community-choir-7/2026-06-08/
CATEGORIES:Godric Hall
END:VEVENT
BEGIN:VEVENT
DTSTART;TZID=Europe/London:20260609T133000
DTEND;TZID=Europe/London:20260609T143000
DTSTAMP:20260419T172349
CREATED:20260212T071306Z
LAST-MODIFIED:20260303T172737Z
UID:10002789-1781011800-1781015400@goodrichvillagehall.co.uk
SUMMARY:Chair Yoga (CM)
DESCRIPTION:
URL:https://goodrichvillagehall.co.uk/event/chair-yoga-cm-2/2026-06-09/
CATEGORIES:Godric Hall
END:VEVENT
BEGIN:VEVENT
DTSTART;TZID=Europe/London:20260609T190000
DTEND;TZID=Europe/London:20260609T220000
DTSTAMP:20260419T172349
CREATED:20260103T201738Z
LAST-MODIFIED:20260209T164812Z
UID:10002503-1781031600-1781042400@goodrichvillagehall.co.uk
SUMMARY:Tango
DESCRIPTION:
URL:https://goodrichvillagehall.co.uk/event/tango-2/2026-06-09/
CATEGORIES:Godric Hall
END:VEVENT
BEGIN:VEVENT
DTSTART;TZID=Europe/London:20260611T190000
DTEND;TZID=Europe/London:20260611T230000
DTSTAMP:20260419T172349
CREATED:20251208T201524Z
LAST-MODIFIED:20260207T154713Z
UID:10001679-1781204400-1781218800@goodrichvillagehall.co.uk
SUMMARY:Table Tennis
DESCRIPTION:
URL:https://goodrichvillagehall.co.uk/event/table-tennis-7/2026-06-11/
CATEGORIES:Godric Hall
END:VEVENT
BEGIN:VEVENT
DTSTART;TZID=Europe/London:20260614T173000
DTEND;TZID=Europe/London:20260614T193000
DTSTAMP:20260419T172349
CREATED:20251208T200518Z
LAST-MODIFIED:20251210T161243Z
UID:10001628-1781458200-1781465400@goodrichvillagehall.co.uk
SUMMARY:Family Table Tennis
DESCRIPTION:
URL:https://goodrichvillagehall.co.uk/event/family-table-tennis-3/2026-06-14/
CATEGORIES:Godric Hall
END:VEVENT
BEGIN:VEVENT
DTSTART;TZID=Europe/London:20260615T093000
DTEND;TZID=Europe/London:20260615T120000
DTSTAMP:20260419T172349
CREATED:20251208T200331Z
LAST-MODIFIED:20251208T200331Z
UID:10001576-1781515800-1781524800@goodrichvillagehall.co.uk
SUMMARY:Table Tennis
DESCRIPTION:
URL:https://goodrichvillagehall.co.uk/event/table-tennis-6/2026-06-15/
CATEGORIES:Godric Hall
END:VEVENT
BEGIN:VEVENT
DTSTART;TZID=Europe/London:20260615T193000
DTEND;TZID=Europe/London:20260615T213000
DTSTAMP:20260419T172349
CREATED:20260105T093412Z
LAST-MODIFIED:20260205T115433Z
UID:10002551-1781551800-1781559000@goodrichvillagehall.co.uk
SUMMARY:Roaring Megs (Community Choir)
DESCRIPTION:
URL:https://goodrichvillagehall.co.uk/event/roaring-megs-community-choir-7/2026-06-15/
CATEGORIES:Godric Hall
END:VEVENT
BEGIN:VEVENT
DTSTART;TZID=Europe/London:20260616T133000
DTEND;TZID=Europe/London:20260616T143000
DTSTAMP:20260419T172349
CREATED:20260212T071306Z
LAST-MODIFIED:20260303T172737Z
UID:10002790-1781616600-1781620200@goodrichvillagehall.co.uk
SUMMARY:Chair Yoga (CM)
DESCRIPTION:
URL:https://goodrichvillagehall.co.uk/event/chair-yoga-cm-2/2026-06-16/
CATEGORIES:Godric Hall
END:VEVENT
BEGIN:VEVENT
DTSTART;TZID=Europe/London:20260616T190000
DTEND;TZID=Europe/London:20260616T220000
DTSTAMP:20260419T172349
CREATED:20260103T201738Z
LAST-MODIFIED:20260209T164812Z
UID:10002504-1781636400-1781647200@goodrichvillagehall.co.uk
SUMMARY:Tango
DESCRIPTION:
URL:https://goodrichvillagehall.co.uk/event/tango-2/2026-06-16/
CATEGORIES:Godric Hall
END:VEVENT
BEGIN:VEVENT
DTSTART;TZID=Europe/London:20260617T190000
DTEND;TZID=Europe/London:20260617T210000
DTSTAMP:20260419T172350
CREATED:20260207T115611Z
LAST-MODIFIED:20260207T115611Z
UID:10002606-1781722800-1781730000@goodrichvillagehall.co.uk
SUMMARY:Coppett Hill Trust (Management)
DESCRIPTION:
URL:https://goodrichvillagehall.co.uk/event/coppett-hill-trust-management/2026-06-17/
CATEGORIES:Tudor Room
END:VEVENT
BEGIN:VEVENT
DTSTART;TZID=Europe/London:20260618T190000
DTEND;TZID=Europe/London:20260618T230000
DTSTAMP:20260419T172350
CREATED:20251208T201524Z
LAST-MODIFIED:20260207T154713Z
UID:10001680-1781809200-1781823600@goodrichvillagehall.co.uk
SUMMARY:Table Tennis
DESCRIPTION:
URL:https://goodrichvillagehall.co.uk/event/table-tennis-7/2026-06-18/
CATEGORIES:Godric Hall
END:VEVENT
BEGIN:VEVENT
DTSTART;TZID=Europe/London:20260621T173000
DTEND;TZID=Europe/London:20260621T193000
DTSTAMP:20260419T172350
CREATED:20251208T200518Z
LAST-MODIFIED:20251210T161243Z
UID:10001629-1782063000-1782070200@goodrichvillagehall.co.uk
SUMMARY:Family Table Tennis
DESCRIPTION:
URL:https://goodrichvillagehall.co.uk/event/family-table-tennis-3/2026-06-21/
CATEGORIES:Godric Hall
END:VEVENT
BEGIN:VEVENT
DTSTART;TZID=Europe/London:20260622T093000
DTEND;TZID=Europe/London:20260622T120000
DTSTAMP:20260419T172350
CREATED:20251208T200331Z
LAST-MODIFIED:20251208T200331Z
UID:10001577-1782120600-1782129600@goodrichvillagehall.co.uk
SUMMARY:Table Tennis
DESCRIPTION:
URL:https://goodrichvillagehall.co.uk/event/table-tennis-6/2026-06-22/
CATEGORIES:Godric Hall
END:VEVENT
BEGIN:VEVENT
DTSTART;TZID=Europe/London:20260622T193000
DTEND;TZID=Europe/London:20260622T213000
DTSTAMP:20260419T172350
CREATED:20260105T093412Z
LAST-MODIFIED:20260205T115433Z
UID:10002552-1782156600-1782163800@goodrichvillagehall.co.uk
SUMMARY:Roaring Megs (Community Choir)
DESCRIPTION:
URL:https://goodrichvillagehall.co.uk/event/roaring-megs-community-choir-7/2026-06-22/
CATEGORIES:Godric Hall
END:VEVENT
BEGIN:VEVENT
DTSTART;TZID=Europe/London:20260623T091500
DTEND;TZID=Europe/London:20260623T101500
DTSTAMP:20260419T172350
CREATED:20251209T200448Z
LAST-MODIFIED:20251209T200448Z
UID:10001830-1782206100-1782209700@goodrichvillagehall.co.uk
SUMMARY:Pilates
DESCRIPTION:
URL:https://goodrichvillagehall.co.uk/event/pilates-33/2026-06-23/
CATEGORIES:Godric Hall
END:VEVENT
END:VCALENDAR