BEGIN:VCALENDAR
VERSION:2.0
PRODID:-//Goodrich Village Hall - ECPv6.15.17//NONSGML v1.0//EN
CALSCALE:GREGORIAN
METHOD:PUBLISH
X-WR-CALNAME:Goodrich Village Hall
X-ORIGINAL-URL:https://goodrichvillagehall.co.uk
X-WR-CALDESC:Events for Goodrich Village Hall
REFRESH-INTERVAL;VALUE=DURATION:PT1H
X-Robots-Tag:noindex
X-PUBLISHED-TTL:PT1H
BEGIN:VTIMEZONE
TZID:Europe/London
BEGIN:DAYLIGHT
TZOFFSETFROM:+0000
TZOFFSETTO:+0100
TZNAME:BST
DTSTART:20250330T010000
END:DAYLIGHT
BEGIN:STANDARD
TZOFFSETFROM:+0100
TZOFFSETTO:+0000
TZNAME:GMT
DTSTART:20251026T010000
END:STANDARD
BEGIN:DAYLIGHT
TZOFFSETFROM:+0000
TZOFFSETTO:+0100
TZNAME:BST
DTSTART:20260329T010000
END:DAYLIGHT
BEGIN:STANDARD
TZOFFSETFROM:+0100
TZOFFSETTO:+0000
TZNAME:GMT
DTSTART:20261025T010000
END:STANDARD
BEGIN:DAYLIGHT
TZOFFSETFROM:+0000
TZOFFSETTO:+0100
TZNAME:BST
DTSTART:20270328T010000
END:DAYLIGHT
BEGIN:STANDARD
TZOFFSETFROM:+0100
TZOFFSETTO:+0000
TZNAME:GMT
DTSTART:20271031T010000
END:STANDARD
END:VTIMEZONE
BEGIN:VEVENT
DTSTART;TZID=Europe/London:20261101T173000
DTEND;TZID=Europe/London:20261101T193000
DTSTAMP:20260422T011959
CREATED:20251208T200518Z
LAST-MODIFIED:20251210T161243Z
UID:10001648-1793554200-1793561400@goodrichvillagehall.co.uk
SUMMARY:Family Table Tennis
DESCRIPTION:
URL:https://goodrichvillagehall.co.uk/event/family-table-tennis-3/2026-11-01/
CATEGORIES:Godric Hall
END:VEVENT
BEGIN:VEVENT
DTSTART;TZID=Europe/London:20261102T093000
DTEND;TZID=Europe/London:20261102T120000
DTSTAMP:20260422T011959
CREATED:20251208T200331Z
LAST-MODIFIED:20251208T200331Z
UID:10001596-1793611800-1793620800@goodrichvillagehall.co.uk
SUMMARY:Table Tennis
DESCRIPTION:
URL:https://goodrichvillagehall.co.uk/event/table-tennis-6/2026-11-02/
CATEGORIES:Godric Hall
END:VEVENT
BEGIN:VEVENT
DTSTART;TZID=Europe/London:20261102T193000
DTEND;TZID=Europe/London:20261102T213000
DTSTAMP:20260422T011959
CREATED:20260205T115831Z
LAST-MODIFIED:20260318T164723Z
UID:10002596-1793647800-1793655000@goodrichvillagehall.co.uk
SUMMARY:Roaring Megs Community Choir
DESCRIPTION:
URL:https://goodrichvillagehall.co.uk/event/roaring-megs-community-choir-8/2026-11-02/
CATEGORIES:Godric Hall
END:VEVENT
BEGIN:VEVENT
DTSTART;TZID=Europe/London:20261103T091500
DTEND;TZID=Europe/London:20261103T101500
DTSTAMP:20260422T011959
CREATED:20260207T124451Z
LAST-MODIFIED:20260207T130615Z
UID:10002626-1793697300-1793700900@goodrichvillagehall.co.uk
SUMMARY:Pilates
DESCRIPTION:
URL:https://goodrichvillagehall.co.uk/event/pilates-39/2026-11-03/
CATEGORIES:Godric Hall
END:VEVENT
BEGIN:VEVENT
DTSTART;TZID=Europe/London:20261103T103000
DTEND;TZID=Europe/London:20261103T113000
DTSTAMP:20260422T011959
CREATED:20260207T124626Z
LAST-MODIFIED:20260207T131237Z
UID:10002644-1793701800-1793705400@goodrichvillagehall.co.uk
SUMMARY:Pilates
DESCRIPTION:
URL:https://goodrichvillagehall.co.uk/event/pilates-40/2026-11-03/
CATEGORIES:Godric Hall
END:VEVENT
BEGIN:VEVENT
DTSTART;TZID=Europe/London:20261103T133000
DTEND;TZID=Europe/London:20261103T143000
DTSTAMP:20260422T011959
CREATED:20260212T071306Z
LAST-MODIFIED:20260303T172737Z
UID:10002810-1793712600-1793716200@goodrichvillagehall.co.uk
SUMMARY:Chair Yoga (CM)
DESCRIPTION:
URL:https://goodrichvillagehall.co.uk/event/chair-yoga-cm-2/2026-11-03/
CATEGORIES:Godric Hall
END:VEVENT
BEGIN:VEVENT
DTSTART;TZID=Europe/London:20261103T190000
DTEND;TZID=Europe/London:20261103T220000
DTSTAMP:20260422T011959
CREATED:20260103T201738Z
LAST-MODIFIED:20260209T164812Z
UID:10002524-1793732400-1793743200@goodrichvillagehall.co.uk
SUMMARY:Tango
DESCRIPTION:
URL:https://goodrichvillagehall.co.uk/event/tango-2/2026-11-03/
CATEGORIES:Godric Hall
END:VEVENT
BEGIN:VEVENT
DTSTART;TZID=Europe/London:20261103T193000
DTEND;TZID=Europe/London:20261103T210000
DTSTAMP:20260422T011959
CREATED:20251212T210847Z
LAST-MODIFIED:20251212T210847Z
UID:10001855-1793734200-1793739600@goodrichvillagehall.co.uk
SUMMARY:Goodrich Village Hall Trustees' Meeting
DESCRIPTION:
URL:https://goodrichvillagehall.co.uk/event/goodrich-village-hall-trustees-meeting/2026-11-03/
CATEGORIES:Committee Room
END:VEVENT
BEGIN:VEVENT
DTSTART;TZID=Europe/London:20261104T173000
DTEND;TZID=Europe/London:20261104T183000
DTSTAMP:20260422T011959
CREATED:20260207T124756Z
LAST-MODIFIED:20260207T131149Z
UID:10002662-1793813400-1793817000@goodrichvillagehall.co.uk
SUMMARY:Pilates
DESCRIPTION:
URL:https://goodrichvillagehall.co.uk/event/pilates-41/2026-11-04/
CATEGORIES:Godric Hall
END:VEVENT
BEGIN:VEVENT
DTSTART;TZID=Europe/London:20261104T184500
DTEND;TZID=Europe/London:20261104T194500
DTSTAMP:20260422T011959
CREATED:20260207T124934Z
LAST-MODIFIED:20260207T131104Z
UID:10002680-1793817900-1793821500@goodrichvillagehall.co.uk
SUMMARY:Pilates
DESCRIPTION:
URL:https://goodrichvillagehall.co.uk/event/pilates-42/2026-11-04/
CATEGORIES:Godric Hall
END:VEVENT
BEGIN:VEVENT
DTSTART;TZID=Europe/London:20261105T091500
DTEND;TZID=Europe/London:20261105T101500
DTSTAMP:20260422T011959
CREATED:20260207T125119Z
LAST-MODIFIED:20260207T131008Z
UID:10002698-1793870100-1793873700@goodrichvillagehall.co.uk
SUMMARY:Pilates
DESCRIPTION:
URL:https://goodrichvillagehall.co.uk/event/pilates-43/2026-11-05/
CATEGORIES:Godric Hall
END:VEVENT
BEGIN:VEVENT
DTSTART;TZID=Europe/London:20261105T103000
DTEND;TZID=Europe/London:20261105T113000
DTSTAMP:20260422T011959
CREATED:20260207T125242Z
LAST-MODIFIED:20260207T130915Z
UID:10002716-1793874600-1793878200@goodrichvillagehall.co.uk
SUMMARY:Pilates
DESCRIPTION:
URL:https://goodrichvillagehall.co.uk/event/pilates-44/2026-11-05/
CATEGORIES:Godric Hall
END:VEVENT
BEGIN:VEVENT
DTSTART;TZID=Europe/London:20261105T190000
DTEND;TZID=Europe/London:20261105T230000
DTSTAMP:20260422T011959
CREATED:20251208T201524Z
LAST-MODIFIED:20260207T154713Z
UID:10001700-1793905200-1793919600@goodrichvillagehall.co.uk
SUMMARY:Table Tennis
DESCRIPTION:
URL:https://goodrichvillagehall.co.uk/event/table-tennis-7/2026-11-05/
CATEGORIES:Godric Hall
END:VEVENT
BEGIN:VEVENT
DTSTART;TZID=Europe/London:20261105T193000
DTEND;TZID=Europe/London:20261105T210000
DTSTAMP:20260422T011959
CREATED:20251208T191842Z
LAST-MODIFIED:20251208T193353Z
UID:10001541-1793907000-1793912400@goodrichvillagehall.co.uk
SUMMARY:Goodrich and Welsh Bicknor Parish Council
DESCRIPTION:Goodrich
URL:https://goodrichvillagehall.co.uk/event/goodrich-and-welsh-bicknor-parish-council/2026-11-05/
CATEGORIES:Committee Room
END:VEVENT
BEGIN:VEVENT
DTSTART;TZID=Europe/London:20261108T173000
DTEND;TZID=Europe/London:20261108T193000
DTSTAMP:20260422T011959
CREATED:20251208T200518Z
LAST-MODIFIED:20251210T161243Z
UID:10001649-1794159000-1794166200@goodrichvillagehall.co.uk
SUMMARY:Family Table Tennis
DESCRIPTION:
URL:https://goodrichvillagehall.co.uk/event/family-table-tennis-3/2026-11-08/
CATEGORIES:Godric Hall
END:VEVENT
BEGIN:VEVENT
DTSTART;TZID=Europe/London:20261109T093000
DTEND;TZID=Europe/London:20261109T120000
DTSTAMP:20260422T011959
CREATED:20251208T200331Z
LAST-MODIFIED:20251208T200331Z
UID:10001597-1794216600-1794225600@goodrichvillagehall.co.uk
SUMMARY:Table Tennis
DESCRIPTION:
URL:https://goodrichvillagehall.co.uk/event/table-tennis-6/2026-11-09/
CATEGORIES:Godric Hall
END:VEVENT
BEGIN:VEVENT
DTSTART;TZID=Europe/London:20261109T193000
DTEND;TZID=Europe/London:20261109T213000
DTSTAMP:20260422T011959
CREATED:20260205T115831Z
LAST-MODIFIED:20260318T164723Z
UID:10002597-1794252600-1794259800@goodrichvillagehall.co.uk
SUMMARY:Roaring Megs Community Choir
DESCRIPTION:
URL:https://goodrichvillagehall.co.uk/event/roaring-megs-community-choir-8/2026-11-09/
CATEGORIES:Godric Hall
END:VEVENT
BEGIN:VEVENT
DTSTART;TZID=Europe/London:20261110T091500
DTEND;TZID=Europe/London:20261110T101500
DTSTAMP:20260422T011959
CREATED:20260207T124451Z
LAST-MODIFIED:20260207T130615Z
UID:10002627-1794302100-1794305700@goodrichvillagehall.co.uk
SUMMARY:Pilates
DESCRIPTION:
URL:https://goodrichvillagehall.co.uk/event/pilates-39/2026-11-10/
CATEGORIES:Godric Hall
END:VEVENT
BEGIN:VEVENT
DTSTART;TZID=Europe/London:20261110T103000
DTEND;TZID=Europe/London:20261110T113000
DTSTAMP:20260422T011959
CREATED:20260207T124626Z
LAST-MODIFIED:20260207T131237Z
UID:10002645-1794306600-1794310200@goodrichvillagehall.co.uk
SUMMARY:Pilates
DESCRIPTION:
URL:https://goodrichvillagehall.co.uk/event/pilates-40/2026-11-10/
CATEGORIES:Godric Hall
END:VEVENT
BEGIN:VEVENT
DTSTART;TZID=Europe/London:20261110T133000
DTEND;TZID=Europe/London:20261110T143000
DTSTAMP:20260422T011959
CREATED:20260212T071306Z
LAST-MODIFIED:20260303T172737Z
UID:10002811-1794317400-1794321000@goodrichvillagehall.co.uk
SUMMARY:Chair Yoga (CM)
DESCRIPTION:
URL:https://goodrichvillagehall.co.uk/event/chair-yoga-cm-2/2026-11-10/
CATEGORIES:Godric Hall
END:VEVENT
BEGIN:VEVENT
DTSTART;TZID=Europe/London:20261110T190000
DTEND;TZID=Europe/London:20261110T220000
DTSTAMP:20260422T011959
CREATED:20260103T201738Z
LAST-MODIFIED:20260209T164812Z
UID:10002525-1794337200-1794348000@goodrichvillagehall.co.uk
SUMMARY:Tango
DESCRIPTION:
URL:https://goodrichvillagehall.co.uk/event/tango-2/2026-11-10/
CATEGORIES:Godric Hall
END:VEVENT
BEGIN:VEVENT
DTSTART;TZID=Europe/London:20261111T173000
DTEND;TZID=Europe/London:20261111T183000
DTSTAMP:20260422T011959
CREATED:20260207T124756Z
LAST-MODIFIED:20260207T131149Z
UID:10002663-1794418200-1794421800@goodrichvillagehall.co.uk
SUMMARY:Pilates
DESCRIPTION:
URL:https://goodrichvillagehall.co.uk/event/pilates-41/2026-11-11/
CATEGORIES:Godric Hall
END:VEVENT
BEGIN:VEVENT
DTSTART;TZID=Europe/London:20261111T184500
DTEND;TZID=Europe/London:20261111T194500
DTSTAMP:20260422T011959
CREATED:20260207T124934Z
LAST-MODIFIED:20260207T131104Z
UID:10002681-1794422700-1794426300@goodrichvillagehall.co.uk
SUMMARY:Pilates
DESCRIPTION:
URL:https://goodrichvillagehall.co.uk/event/pilates-42/2026-11-11/
CATEGORIES:Godric Hall
END:VEVENT
BEGIN:VEVENT
DTSTART;TZID=Europe/London:20261112T091500
DTEND;TZID=Europe/London:20261112T101500
DTSTAMP:20260422T011959
CREATED:20260207T125119Z
LAST-MODIFIED:20260207T131008Z
UID:10002699-1794474900-1794478500@goodrichvillagehall.co.uk
SUMMARY:Pilates
DESCRIPTION:
URL:https://goodrichvillagehall.co.uk/event/pilates-43/2026-11-12/
CATEGORIES:Godric Hall
END:VEVENT
BEGIN:VEVENT
DTSTART;TZID=Europe/London:20261112T103000
DTEND;TZID=Europe/London:20261112T113000
DTSTAMP:20260422T011959
CREATED:20260207T125242Z
LAST-MODIFIED:20260207T130915Z
UID:10002717-1794479400-1794483000@goodrichvillagehall.co.uk
SUMMARY:Pilates
DESCRIPTION:
URL:https://goodrichvillagehall.co.uk/event/pilates-44/2026-11-12/
CATEGORIES:Godric Hall
END:VEVENT
BEGIN:VEVENT
DTSTART;TZID=Europe/London:20261112T190000
DTEND;TZID=Europe/London:20261112T230000
DTSTAMP:20260422T011959
CREATED:20251208T201524Z
LAST-MODIFIED:20260207T154713Z
UID:10001701-1794510000-1794524400@goodrichvillagehall.co.uk
SUMMARY:Table Tennis
DESCRIPTION:
URL:https://goodrichvillagehall.co.uk/event/table-tennis-7/2026-11-12/
CATEGORIES:Godric Hall
END:VEVENT
BEGIN:VEVENT
DTSTART;TZID=Europe/London:20261115T173000
DTEND;TZID=Europe/London:20261115T193000
DTSTAMP:20260422T011959
CREATED:20251208T200518Z
LAST-MODIFIED:20251210T161243Z
UID:10001650-1794763800-1794771000@goodrichvillagehall.co.uk
SUMMARY:Family Table Tennis
DESCRIPTION:
URL:https://goodrichvillagehall.co.uk/event/family-table-tennis-3/2026-11-15/
CATEGORIES:Godric Hall
END:VEVENT
BEGIN:VEVENT
DTSTART;TZID=Europe/London:20261116T093000
DTEND;TZID=Europe/London:20261116T120000
DTSTAMP:20260422T011959
CREATED:20251208T200331Z
LAST-MODIFIED:20251208T200331Z
UID:10001598-1794821400-1794830400@goodrichvillagehall.co.uk
SUMMARY:Table Tennis
DESCRIPTION:
URL:https://goodrichvillagehall.co.uk/event/table-tennis-6/2026-11-16/
CATEGORIES:Godric Hall
END:VEVENT
BEGIN:VEVENT
DTSTART;TZID=Europe/London:20261116T193000
DTEND;TZID=Europe/London:20261116T213000
DTSTAMP:20260422T011959
CREATED:20260205T115831Z
LAST-MODIFIED:20260318T164723Z
UID:10002598-1794857400-1794864600@goodrichvillagehall.co.uk
SUMMARY:Roaring Megs Community Choir
DESCRIPTION:
URL:https://goodrichvillagehall.co.uk/event/roaring-megs-community-choir-8/2026-11-16/
CATEGORIES:Godric Hall
END:VEVENT
BEGIN:VEVENT
DTSTART;TZID=Europe/London:20261117T091500
DTEND;TZID=Europe/London:20261117T101500
DTSTAMP:20260422T011959
CREATED:20260207T124451Z
LAST-MODIFIED:20260207T130615Z
UID:10002628-1794906900-1794910500@goodrichvillagehall.co.uk
SUMMARY:Pilates
DESCRIPTION:
URL:https://goodrichvillagehall.co.uk/event/pilates-39/2026-11-17/
CATEGORIES:Godric Hall
END:VEVENT
END:VCALENDAR