BEGIN:VCALENDAR
VERSION:2.0
PRODID:-//Goodrich Village Hall - ECPv6.15.17//NONSGML v1.0//EN
CALSCALE:GREGORIAN
METHOD:PUBLISH
X-WR-CALNAME:Goodrich Village Hall
X-ORIGINAL-URL:https://goodrichvillagehall.co.uk
X-WR-CALDESC:Events for Goodrich Village Hall
REFRESH-INTERVAL;VALUE=DURATION:PT1H
X-Robots-Tag:noindex
X-PUBLISHED-TTL:PT1H
BEGIN:VTIMEZONE
TZID:Europe/London
BEGIN:DAYLIGHT
TZOFFSETFROM:+0000
TZOFFSETTO:+0100
TZNAME:BST
DTSTART:20240331T010000
END:DAYLIGHT
BEGIN:STANDARD
TZOFFSETFROM:+0100
TZOFFSETTO:+0000
TZNAME:GMT
DTSTART:20241027T010000
END:STANDARD
BEGIN:DAYLIGHT
TZOFFSETFROM:+0000
TZOFFSETTO:+0100
TZNAME:BST
DTSTART:20250330T010000
END:DAYLIGHT
BEGIN:STANDARD
TZOFFSETFROM:+0100
TZOFFSETTO:+0000
TZNAME:GMT
DTSTART:20251026T010000
END:STANDARD
BEGIN:DAYLIGHT
TZOFFSETFROM:+0000
TZOFFSETTO:+0100
TZNAME:BST
DTSTART:20260329T010000
END:DAYLIGHT
BEGIN:STANDARD
TZOFFSETFROM:+0100
TZOFFSETTO:+0000
TZNAME:GMT
DTSTART:20261025T010000
END:STANDARD
END:VTIMEZONE
BEGIN:VEVENT
DTSTART;TZID=Europe/London:20250307T113000
DTEND;TZID=Europe/London:20250307T123000
DTSTAMP:20260426T001115
CREATED:20250311T233951Z
LAST-MODIFIED:20250619T205542Z
UID:10000426-1741347000-1741350600@goodrichvillagehall.co.uk
SUMMARY:Yoga
DESCRIPTION:
URL:https://goodrichvillagehall.co.uk/event/yoga-2/2025-03-07/
CATEGORIES:Godric Hall
END:VEVENT
BEGIN:VEVENT
DTSTART;TZID=Europe/London:20250314T113000
DTEND;TZID=Europe/London:20250314T123000
DTSTAMP:20260426T001115
CREATED:20250311T233951Z
LAST-MODIFIED:20250619T205542Z
UID:10000427-1741951800-1741955400@goodrichvillagehall.co.uk
SUMMARY:Yoga
DESCRIPTION:
URL:https://goodrichvillagehall.co.uk/event/yoga-2/2025-03-14/
CATEGORIES:Godric Hall
END:VEVENT
BEGIN:VEVENT
DTSTART;TZID=Europe/London:20250321T113000
DTEND;TZID=Europe/London:20250321T123000
DTSTAMP:20260426T001115
CREATED:20250311T233951Z
LAST-MODIFIED:20250619T205542Z
UID:10000428-1742556600-1742560200@goodrichvillagehall.co.uk
SUMMARY:Yoga
DESCRIPTION:
URL:https://goodrichvillagehall.co.uk/event/yoga-2/2025-03-21/
CATEGORIES:Godric Hall
END:VEVENT
BEGIN:VEVENT
DTSTART;TZID=Europe/London:20250328T113000
DTEND;TZID=Europe/London:20250328T123000
DTSTAMP:20260426T001115
CREATED:20250311T233951Z
LAST-MODIFIED:20250619T205542Z
UID:10000429-1743161400-1743165000@goodrichvillagehall.co.uk
SUMMARY:Yoga
DESCRIPTION:
URL:https://goodrichvillagehall.co.uk/event/yoga-2/2025-03-28/
CATEGORIES:Godric Hall
END:VEVENT
END:VCALENDAR