BEGIN:VCALENDAR
VERSION:2.0
PRODID:-//Goodrich Village Hall - ECPv6.15.17//NONSGML v1.0//EN
CALSCALE:GREGORIAN
METHOD:PUBLISH
X-ORIGINAL-URL:https://goodrichvillagehall.co.uk
X-WR-CALDESC:Events for Goodrich Village Hall
REFRESH-INTERVAL;VALUE=DURATION:PT1H
X-Robots-Tag:noindex
X-PUBLISHED-TTL:PT1H
BEGIN:VTIMEZONE
TZID:Europe/London
BEGIN:DAYLIGHT
TZOFFSETFROM:+0000
TZOFFSETTO:+0100
TZNAME:BST
DTSTART:20240331T010000
END:DAYLIGHT
BEGIN:STANDARD
TZOFFSETFROM:+0100
TZOFFSETTO:+0000
TZNAME:GMT
DTSTART:20241027T010000
END:STANDARD
BEGIN:DAYLIGHT
TZOFFSETFROM:+0000
TZOFFSETTO:+0100
TZNAME:BST
DTSTART:20250330T010000
END:DAYLIGHT
BEGIN:STANDARD
TZOFFSETFROM:+0100
TZOFFSETTO:+0000
TZNAME:GMT
DTSTART:20251026T010000
END:STANDARD
BEGIN:DAYLIGHT
TZOFFSETFROM:+0000
TZOFFSETTO:+0100
TZNAME:BST
DTSTART:20260329T010000
END:DAYLIGHT
BEGIN:STANDARD
TZOFFSETFROM:+0100
TZOFFSETTO:+0000
TZNAME:GMT
DTSTART:20261025T010000
END:STANDARD
END:VTIMEZONE
BEGIN:VEVENT
DTSTART;TZID=Europe/London:20250227T091500
DTEND;TZID=Europe/London:20250227T101500
DTSTAMP:20260421T094755
CREATED:20250311T233951Z
LAST-MODIFIED:20250818T180134Z
UID:10000311-1740647700-1740651300@goodrichvillagehall.co.uk
SUMMARY:Pilates
DESCRIPTION:
URL:https://goodrichvillagehall.co.uk/event/pilates-5-2/2025-02-27/
CATEGORIES:Godric Hall
END:VEVENT
BEGIN:VEVENT
DTSTART;TZID=Europe/London:20250227T103000
DTEND;TZID=Europe/London:20250227T113000
DTSTAMP:20260421T094755
CREATED:20250311T233951Z
LAST-MODIFIED:20250619T211414Z
UID:10000369-1740652200-1740655800@goodrichvillagehall.co.uk
SUMMARY:Pilates
DESCRIPTION:
URL:https://goodrichvillagehall.co.uk/event/pilates-6/2025-02-27/
CATEGORIES:Godric Hall
END:VEVENT
BEGIN:VEVENT
DTSTART;TZID=Europe/London:20250227T190000
DTEND;TZID=Europe/London:20250227T230000
DTSTAMP:20260421T094755
CREATED:20250311T233951Z
LAST-MODIFIED:20251107T170012Z
UID:10000341-1740682800-1740697200@goodrichvillagehall.co.uk
SUMMARY:Table Tennis
DESCRIPTION:
URL:https://goodrichvillagehall.co.uk/event/table-tennis-2/2025-02-27/
CATEGORIES:Tudor Room
END:VEVENT
END:VCALENDAR