BEGIN:VCALENDAR
VERSION:2.0
PRODID:-//Goodrich Village Hall - ECPv6.15.17//NONSGML v1.0//EN
CALSCALE:GREGORIAN
METHOD:PUBLISH
X-ORIGINAL-URL:https://goodrichvillagehall.co.uk
X-WR-CALDESC:Events for Goodrich Village Hall
REFRESH-INTERVAL;VALUE=DURATION:PT1H
X-Robots-Tag:noindex
X-PUBLISHED-TTL:PT1H
BEGIN:VTIMEZONE
TZID:Europe/London
BEGIN:DAYLIGHT
TZOFFSETFROM:+0000
TZOFFSETTO:+0100
TZNAME:BST
DTSTART:20240331T010000
END:DAYLIGHT
BEGIN:STANDARD
TZOFFSETFROM:+0100
TZOFFSETTO:+0000
TZNAME:GMT
DTSTART:20241027T010000
END:STANDARD
BEGIN:DAYLIGHT
TZOFFSETFROM:+0000
TZOFFSETTO:+0100
TZNAME:BST
DTSTART:20250330T010000
END:DAYLIGHT
BEGIN:STANDARD
TZOFFSETFROM:+0100
TZOFFSETTO:+0000
TZNAME:GMT
DTSTART:20251026T010000
END:STANDARD
BEGIN:DAYLIGHT
TZOFFSETFROM:+0000
TZOFFSETTO:+0100
TZNAME:BST
DTSTART:20260329T010000
END:DAYLIGHT
BEGIN:STANDARD
TZOFFSETFROM:+0100
TZOFFSETTO:+0000
TZNAME:GMT
DTSTART:20261025T010000
END:STANDARD
END:VTIMEZONE
BEGIN:VEVENT
DTSTART;TZID=Europe/London:20250506T091500
DTEND;TZID=Europe/London:20250506T101500
DTSTAMP:20260425T214824
CREATED:20250311T233952Z
LAST-MODIFIED:20250619T210942Z
UID:10000137-1746522900-1746526500@goodrichvillagehall.co.uk
SUMMARY:Pilates
DESCRIPTION:
URL:https://goodrichvillagehall.co.uk/event/pilates/2025-05-06/
CATEGORIES:Godric Hall
END:VEVENT
BEGIN:VEVENT
DTSTART;TZID=Europe/London:20250506T103000
DTEND;TZID=Europe/London:20250506T113000
DTSTAMP:20260425T214824
CREATED:20250311T233952Z
LAST-MODIFIED:20250807T112209Z
UID:10000174-1746527400-1746531000@goodrichvillagehall.co.uk
SUMMARY:Pilates
DESCRIPTION:
URL:https://goodrichvillagehall.co.uk/event/pilates-2/2025-05-06/
CATEGORIES:Godric Hall
END:VEVENT
BEGIN:VEVENT
DTSTART;TZID=Europe/London:20250506T190000
DTEND;TZID=Europe/London:20250506T220000
DTSTAMP:20260425T214824
CREATED:20250311T233952Z
LAST-MODIFIED:20250908T125217Z
UID:10000193-1746558000-1746568800@goodrichvillagehall.co.uk
SUMMARY:Tango
DESCRIPTION:
URL:https://goodrichvillagehall.co.uk/event/tango/2025-05-06/
CATEGORIES:Godric Hall
END:VEVENT
BEGIN:VEVENT
DTSTART;TZID=Europe/London:20250513T091500
DTEND;TZID=Europe/London:20250513T101500
DTSTAMP:20260425T214824
CREATED:20250311T233952Z
LAST-MODIFIED:20250619T210942Z
UID:10000138-1747127700-1747131300@goodrichvillagehall.co.uk
SUMMARY:Pilates
DESCRIPTION:
URL:https://goodrichvillagehall.co.uk/event/pilates/2025-05-13/
CATEGORIES:Godric Hall
END:VEVENT
BEGIN:VEVENT
DTSTART;TZID=Europe/London:20250513T103000
DTEND;TZID=Europe/London:20250513T113000
DTSTAMP:20260425T214824
CREATED:20250311T233952Z
LAST-MODIFIED:20250807T112209Z
UID:10000175-1747132200-1747135800@goodrichvillagehall.co.uk
SUMMARY:Pilates
DESCRIPTION:
URL:https://goodrichvillagehall.co.uk/event/pilates-2/2025-05-13/
CATEGORIES:Godric Hall
END:VEVENT
BEGIN:VEVENT
DTSTART;TZID=Europe/London:20250513T190000
DTEND;TZID=Europe/London:20250513T220000
DTSTAMP:20260425T214824
CREATED:20250311T233952Z
LAST-MODIFIED:20250908T125217Z
UID:10000194-1747162800-1747173600@goodrichvillagehall.co.uk
SUMMARY:Tango
DESCRIPTION:
URL:https://goodrichvillagehall.co.uk/event/tango/2025-05-13/
CATEGORIES:Godric Hall
END:VEVENT
BEGIN:VEVENT
DTSTART;TZID=Europe/London:20250520T091500
DTEND;TZID=Europe/London:20250520T101500
DTSTAMP:20260425T214824
CREATED:20250311T233952Z
LAST-MODIFIED:20250619T210942Z
UID:10000139-1747732500-1747736100@goodrichvillagehall.co.uk
SUMMARY:Pilates
DESCRIPTION:
URL:https://goodrichvillagehall.co.uk/event/pilates/2025-05-20/
CATEGORIES:Godric Hall
END:VEVENT
BEGIN:VEVENT
DTSTART;TZID=Europe/London:20250520T103000
DTEND;TZID=Europe/London:20250520T113000
DTSTAMP:20260425T214824
CREATED:20250311T233952Z
LAST-MODIFIED:20250807T112209Z
UID:10000176-1747737000-1747740600@goodrichvillagehall.co.uk
SUMMARY:Pilates
DESCRIPTION:
URL:https://goodrichvillagehall.co.uk/event/pilates-2/2025-05-20/
CATEGORIES:Godric Hall
END:VEVENT
BEGIN:VEVENT
DTSTART;TZID=Europe/London:20250520T190000
DTEND;TZID=Europe/London:20250520T220000
DTSTAMP:20260425T214824
CREATED:20250311T233952Z
LAST-MODIFIED:20250908T125217Z
UID:10000195-1747767600-1747778400@goodrichvillagehall.co.uk
SUMMARY:Tango
DESCRIPTION:
URL:https://goodrichvillagehall.co.uk/event/tango/2025-05-20/
CATEGORIES:Godric Hall
END:VEVENT
BEGIN:VEVENT
DTSTART;TZID=Europe/London:20250527T091500
DTEND;TZID=Europe/London:20250527T101500
DTSTAMP:20260425T214824
CREATED:20250311T233952Z
LAST-MODIFIED:20250619T210942Z
UID:10000140-1748337300-1748340900@goodrichvillagehall.co.uk
SUMMARY:Pilates
DESCRIPTION:
URL:https://goodrichvillagehall.co.uk/event/pilates/2025-05-27/
CATEGORIES:Godric Hall
END:VEVENT
BEGIN:VEVENT
DTSTART;TZID=Europe/London:20250527T103000
DTEND;TZID=Europe/London:20250527T113000
DTSTAMP:20260425T214824
CREATED:20250311T233952Z
LAST-MODIFIED:20250807T112209Z
UID:10000177-1748341800-1748345400@goodrichvillagehall.co.uk
SUMMARY:Pilates
DESCRIPTION:
URL:https://goodrichvillagehall.co.uk/event/pilates-2/2025-05-27/
CATEGORIES:Godric Hall
END:VEVENT
BEGIN:VEVENT
DTSTART;TZID=Europe/London:20250527T190000
DTEND;TZID=Europe/London:20250527T220000
DTSTAMP:20260425T214824
CREATED:20250311T233952Z
LAST-MODIFIED:20250908T125217Z
UID:10000196-1748372400-1748383200@goodrichvillagehall.co.uk
SUMMARY:Tango
DESCRIPTION:
URL:https://goodrichvillagehall.co.uk/event/tango/2025-05-27/
CATEGORIES:Godric Hall
END:VEVENT
END:VCALENDAR