BEGIN:VCALENDAR
VERSION:2.0
PRODID:-//Goodrich Village Hall - ECPv6.15.17//NONSGML v1.0//EN
CALSCALE:GREGORIAN
METHOD:PUBLISH
X-WR-CALNAME:Goodrich Village Hall
X-ORIGINAL-URL:https://goodrichvillagehall.co.uk
X-WR-CALDESC:Events for Goodrich Village Hall
REFRESH-INTERVAL;VALUE=DURATION:PT1H
X-Robots-Tag:noindex
X-PUBLISHED-TTL:PT1H
BEGIN:VTIMEZONE
TZID:Europe/London
BEGIN:DAYLIGHT
TZOFFSETFROM:+0000
TZOFFSETTO:+0100
TZNAME:BST
DTSTART:20240331T010000
END:DAYLIGHT
BEGIN:STANDARD
TZOFFSETFROM:+0100
TZOFFSETTO:+0000
TZNAME:GMT
DTSTART:20241027T010000
END:STANDARD
BEGIN:DAYLIGHT
TZOFFSETFROM:+0000
TZOFFSETTO:+0100
TZNAME:BST
DTSTART:20250330T010000
END:DAYLIGHT
BEGIN:STANDARD
TZOFFSETFROM:+0100
TZOFFSETTO:+0000
TZNAME:GMT
DTSTART:20251026T010000
END:STANDARD
BEGIN:DAYLIGHT
TZOFFSETFROM:+0000
TZOFFSETTO:+0100
TZNAME:BST
DTSTART:20260329T010000
END:DAYLIGHT
BEGIN:STANDARD
TZOFFSETFROM:+0100
TZOFFSETTO:+0000
TZNAME:GMT
DTSTART:20261025T010000
END:STANDARD
END:VTIMEZONE
BEGIN:VEVENT
DTSTART;TZID=Europe/London:20250603T091500
DTEND;TZID=Europe/London:20250603T101500
DTSTAMP:20260425T200639
CREATED:20250311T233952Z
LAST-MODIFIED:20250619T210942Z
UID:10000141-1748942100-1748945700@goodrichvillagehall.co.uk
SUMMARY:Pilates
DESCRIPTION:
URL:https://goodrichvillagehall.co.uk/event/pilates/2025-06-03/
CATEGORIES:Godric Hall
END:VEVENT
BEGIN:VEVENT
DTSTART;TZID=Europe/London:20250603T103000
DTEND;TZID=Europe/London:20250603T113000
DTSTAMP:20260425T200639
CREATED:20250311T233952Z
LAST-MODIFIED:20250807T112209Z
UID:10000178-1748946600-1748950200@goodrichvillagehall.co.uk
SUMMARY:Pilates
DESCRIPTION:
URL:https://goodrichvillagehall.co.uk/event/pilates-2/2025-06-03/
CATEGORIES:Godric Hall
END:VEVENT
BEGIN:VEVENT
DTSTART;TZID=Europe/London:20250603T190000
DTEND;TZID=Europe/London:20250603T220000
DTSTAMP:20260425T200639
CREATED:20250311T233952Z
LAST-MODIFIED:20250908T125217Z
UID:10000197-1748977200-1748988000@goodrichvillagehall.co.uk
SUMMARY:Tango
DESCRIPTION:
URL:https://goodrichvillagehall.co.uk/event/tango/2025-06-03/
CATEGORIES:Godric Hall
END:VEVENT
BEGIN:VEVENT
DTSTART;TZID=Europe/London:20250610T091500
DTEND;TZID=Europe/London:20250610T101500
DTSTAMP:20260425T200639
CREATED:20250311T233952Z
LAST-MODIFIED:20250619T210942Z
UID:10000142-1749546900-1749550500@goodrichvillagehall.co.uk
SUMMARY:Pilates
DESCRIPTION:
URL:https://goodrichvillagehall.co.uk/event/pilates/2025-06-10/
CATEGORIES:Godric Hall
END:VEVENT
BEGIN:VEVENT
DTSTART;TZID=Europe/London:20250610T103000
DTEND;TZID=Europe/London:20250610T113000
DTSTAMP:20260425T200639
CREATED:20250311T233952Z
LAST-MODIFIED:20250807T112209Z
UID:10000179-1749551400-1749555000@goodrichvillagehall.co.uk
SUMMARY:Pilates
DESCRIPTION:
URL:https://goodrichvillagehall.co.uk/event/pilates-2/2025-06-10/
CATEGORIES:Godric Hall
END:VEVENT
BEGIN:VEVENT
DTSTART;TZID=Europe/London:20250610T190000
DTEND;TZID=Europe/London:20250610T220000
DTSTAMP:20260425T200639
CREATED:20250311T233952Z
LAST-MODIFIED:20250908T125217Z
UID:10000198-1749582000-1749592800@goodrichvillagehall.co.uk
SUMMARY:Tango
DESCRIPTION:
URL:https://goodrichvillagehall.co.uk/event/tango/2025-06-10/
CATEGORIES:Godric Hall
END:VEVENT
BEGIN:VEVENT
DTSTART;TZID=Europe/London:20250617T190000
DTEND;TZID=Europe/London:20250617T220000
DTSTAMP:20260425T200639
CREATED:20250311T233952Z
LAST-MODIFIED:20250908T125217Z
UID:10000199-1750186800-1750197600@goodrichvillagehall.co.uk
SUMMARY:Tango
DESCRIPTION:
URL:https://goodrichvillagehall.co.uk/event/tango/2025-06-17/
CATEGORIES:Godric Hall
END:VEVENT
BEGIN:VEVENT
DTSTART;TZID=Europe/London:20250624T091500
DTEND;TZID=Europe/London:20250624T101500
DTSTAMP:20260425T200639
CREATED:20250311T233952Z
LAST-MODIFIED:20250619T210942Z
UID:10000144-1750756500-1750760100@goodrichvillagehall.co.uk
SUMMARY:Pilates
DESCRIPTION:
URL:https://goodrichvillagehall.co.uk/event/pilates/2025-06-24/
CATEGORIES:Godric Hall
END:VEVENT
BEGIN:VEVENT
DTSTART;TZID=Europe/London:20250624T103000
DTEND;TZID=Europe/London:20250624T113000
DTSTAMP:20260425T200639
CREATED:20250311T233952Z
LAST-MODIFIED:20250807T112209Z
UID:10000181-1750761000-1750764600@goodrichvillagehall.co.uk
SUMMARY:Pilates
DESCRIPTION:
URL:https://goodrichvillagehall.co.uk/event/pilates-2/2025-06-24/
CATEGORIES:Godric Hall
END:VEVENT
BEGIN:VEVENT
DTSTART;TZID=Europe/London:20250624T190000
DTEND;TZID=Europe/London:20250624T220000
DTSTAMP:20260425T200639
CREATED:20250311T233952Z
LAST-MODIFIED:20250908T125217Z
UID:10000200-1750791600-1750802400@goodrichvillagehall.co.uk
SUMMARY:Tango
DESCRIPTION:
URL:https://goodrichvillagehall.co.uk/event/tango/2025-06-24/
CATEGORIES:Godric Hall
END:VEVENT
END:VCALENDAR