BEGIN:VCALENDAR
VERSION:2.0
PRODID:-//Goodrich Village Hall - ECPv6.15.17//NONSGML v1.0//EN
CALSCALE:GREGORIAN
METHOD:PUBLISH
X-WR-CALNAME:Goodrich Village Hall
X-ORIGINAL-URL:https://goodrichvillagehall.co.uk
X-WR-CALDESC:Events for Goodrich Village Hall
REFRESH-INTERVAL;VALUE=DURATION:PT1H
X-Robots-Tag:noindex
X-PUBLISHED-TTL:PT1H
BEGIN:VTIMEZONE
TZID:Europe/London
BEGIN:DAYLIGHT
TZOFFSETFROM:+0000
TZOFFSETTO:+0100
TZNAME:BST
DTSTART:20240331T010000
END:DAYLIGHT
BEGIN:STANDARD
TZOFFSETFROM:+0100
TZOFFSETTO:+0000
TZNAME:GMT
DTSTART:20241027T010000
END:STANDARD
BEGIN:DAYLIGHT
TZOFFSETFROM:+0000
TZOFFSETTO:+0100
TZNAME:BST
DTSTART:20250330T010000
END:DAYLIGHT
BEGIN:STANDARD
TZOFFSETFROM:+0100
TZOFFSETTO:+0000
TZNAME:GMT
DTSTART:20251026T010000
END:STANDARD
BEGIN:DAYLIGHT
TZOFFSETFROM:+0000
TZOFFSETTO:+0100
TZNAME:BST
DTSTART:20260329T010000
END:DAYLIGHT
BEGIN:STANDARD
TZOFFSETFROM:+0100
TZOFFSETTO:+0000
TZNAME:GMT
DTSTART:20261025T010000
END:STANDARD
END:VTIMEZONE
BEGIN:VEVENT
DTSTART;TZID=Europe/London:20250702T173000
DTEND;TZID=Europe/London:20250702T183000
DTSTAMP:20260420T032202
CREATED:20250311T233951Z
LAST-MODIFIED:20250818T180653Z
UID:10000542-1751477400-1751481000@goodrichvillagehall.co.uk
SUMMARY:Pilates
DESCRIPTION:
URL:https://goodrichvillagehall.co.uk/event/pilates-3/2025-07-02/
CATEGORIES:Godric Hall
END:VEVENT
BEGIN:VEVENT
DTSTART;TZID=Europe/London:20250702T184500
DTEND;TZID=Europe/London:20250702T194500
DTSTAMP:20260420T032202
CREATED:20250311T233951Z
LAST-MODIFIED:20250818T175857Z
UID:10000545-1751481900-1751485500@goodrichvillagehall.co.uk
SUMMARY:Pilates
DESCRIPTION:
URL:https://goodrichvillagehall.co.uk/event/pilates-4/2025-07-02/
CATEGORIES:Godric Hall
END:VEVENT
BEGIN:VEVENT
DTSTART;TZID=Europe/London:20250702T200000
DTEND;TZID=Europe/London:20250702T220000
DTSTAMP:20260420T032202
CREATED:20250619T210427Z
LAST-MODIFIED:20250619T211547Z
UID:10000587-1751486400-1751493600@goodrichvillagehall.co.uk
SUMMARY:Roaring Megs (community choir)
DESCRIPTION:
URL:https://goodrichvillagehall.co.uk/event/roaring-megs-community-choir/2025-07-02/
CATEGORIES:Godric Hall
END:VEVENT
BEGIN:VEVENT
DTSTART;TZID=Europe/London:20250709T173000
DTEND;TZID=Europe/London:20250709T183000
DTSTAMP:20260420T032202
CREATED:20250311T233951Z
LAST-MODIFIED:20250818T180653Z
UID:10000543-1752082200-1752085800@goodrichvillagehall.co.uk
SUMMARY:Pilates
DESCRIPTION:
URL:https://goodrichvillagehall.co.uk/event/pilates-3/2025-07-09/
CATEGORIES:Godric Hall
END:VEVENT
BEGIN:VEVENT
DTSTART;TZID=Europe/London:20250709T184500
DTEND;TZID=Europe/London:20250709T194500
DTSTAMP:20260420T032202
CREATED:20250311T233951Z
LAST-MODIFIED:20250818T175857Z
UID:10000546-1752086700-1752090300@goodrichvillagehall.co.uk
SUMMARY:Pilates
DESCRIPTION:
URL:https://goodrichvillagehall.co.uk/event/pilates-4/2025-07-09/
CATEGORIES:Godric Hall
END:VEVENT
BEGIN:VEVENT
DTSTART;TZID=Europe/London:20250709T200000
DTEND;TZID=Europe/London:20250709T220000
DTSTAMP:20260420T032202
CREATED:20250619T210427Z
LAST-MODIFIED:20250619T211547Z
UID:10000588-1752091200-1752098400@goodrichvillagehall.co.uk
SUMMARY:Roaring Megs (community choir)
DESCRIPTION:
URL:https://goodrichvillagehall.co.uk/event/roaring-megs-community-choir/2025-07-09/
CATEGORIES:Godric Hall
END:VEVENT
BEGIN:VEVENT
DTSTART;TZID=Europe/London:20250716T173000
DTEND;TZID=Europe/London:20250716T183000
DTSTAMP:20260420T032202
CREATED:20250311T233951Z
LAST-MODIFIED:20250818T180653Z
UID:10000621-1752687000-1752690600@goodrichvillagehall.co.uk
SUMMARY:Pilates
DESCRIPTION:
URL:https://goodrichvillagehall.co.uk/event/pilates-3/2025-07-16/
CATEGORIES:Godric Hall
END:VEVENT
BEGIN:VEVENT
DTSTART;TZID=Europe/London:20250716T184500
DTEND;TZID=Europe/London:20250716T194500
DTSTAMP:20260420T032202
CREATED:20250311T233951Z
LAST-MODIFIED:20250818T175857Z
UID:10000625-1752691500-1752695100@goodrichvillagehall.co.uk
SUMMARY:Pilates
DESCRIPTION:
URL:https://goodrichvillagehall.co.uk/event/pilates-4/2025-07-16/
CATEGORIES:Godric Hall
END:VEVENT
BEGIN:VEVENT
DTSTART;TZID=Europe/London:20250723T173000
DTEND;TZID=Europe/London:20250723T183000
DTSTAMP:20260420T032202
CREATED:20250311T233951Z
LAST-MODIFIED:20250818T180653Z
UID:10000622-1753291800-1753295400@goodrichvillagehall.co.uk
SUMMARY:Pilates
DESCRIPTION:
URL:https://goodrichvillagehall.co.uk/event/pilates-3/2025-07-23/
CATEGORIES:Godric Hall
END:VEVENT
BEGIN:VEVENT
DTSTART;TZID=Europe/London:20250723T184500
DTEND;TZID=Europe/London:20250723T194500
DTSTAMP:20260420T032202
CREATED:20250311T233951Z
LAST-MODIFIED:20250818T175857Z
UID:10000626-1753296300-1753299900@goodrichvillagehall.co.uk
SUMMARY:Pilates
DESCRIPTION:
URL:https://goodrichvillagehall.co.uk/event/pilates-4/2025-07-23/
CATEGORIES:Godric Hall
END:VEVENT
BEGIN:VEVENT
DTSTART;TZID=Europe/London:20250730T173000
DTEND;TZID=Europe/London:20250730T183000
DTSTAMP:20260420T032202
CREATED:20250311T233951Z
LAST-MODIFIED:20250818T180653Z
UID:10000623-1753896600-1753900200@goodrichvillagehall.co.uk
SUMMARY:Pilates
DESCRIPTION:
URL:https://goodrichvillagehall.co.uk/event/pilates-3/2025-07-30/
CATEGORIES:Godric Hall
END:VEVENT
BEGIN:VEVENT
DTSTART;TZID=Europe/London:20250730T184500
DTEND;TZID=Europe/London:20250730T194500
DTSTAMP:20260420T032202
CREATED:20250311T233951Z
LAST-MODIFIED:20250818T175857Z
UID:10000627-1753901100-1753904700@goodrichvillagehall.co.uk
SUMMARY:Pilates
DESCRIPTION:
URL:https://goodrichvillagehall.co.uk/event/pilates-4/2025-07-30/
CATEGORIES:Godric Hall
END:VEVENT
END:VCALENDAR